BEGIN:VCALENDAR
VERSION:2.0
PRODID:-//Vets Helping Vets Greenville - ECPv6.15.20//NONSGML v1.0//EN
CALSCALE:GREGORIAN
METHOD:PUBLISH
X-ORIGINAL-URL:https://vhvsc.org
X-WR-CALDESC:Events for Vets Helping Vets Greenville
REFRESH-INTERVAL;VALUE=DURATION:PT1H
X-Robots-Tag:noindex
X-PUBLISHED-TTL:PT1H
BEGIN:VTIMEZONE
TZID:America/New_York
BEGIN:DAYLIGHT
TZOFFSETFROM:-0500
TZOFFSETTO:-0400
TZNAME:EDT
DTSTART:20230312T070000
END:DAYLIGHT
BEGIN:STANDARD
TZOFFSETFROM:-0400
TZOFFSETTO:-0500
TZNAME:EST
DTSTART:20231105T060000
END:STANDARD
BEGIN:DAYLIGHT
TZOFFSETFROM:-0500
TZOFFSETTO:-0400
TZNAME:EDT
DTSTART:20240310T070000
END:DAYLIGHT
BEGIN:STANDARD
TZOFFSETFROM:-0400
TZOFFSETTO:-0500
TZNAME:EST
DTSTART:20241103T060000
END:STANDARD
BEGIN:DAYLIGHT
TZOFFSETFROM:-0500
TZOFFSETTO:-0400
TZNAME:EDT
DTSTART:20250309T070000
END:DAYLIGHT
BEGIN:STANDARD
TZOFFSETFROM:-0400
TZOFFSETTO:-0500
TZNAME:EST
DTSTART:20251102T060000
END:STANDARD
END:VTIMEZONE
BEGIN:VEVENT
DTSTART;TZID=America/New_York:20240926T100000
DTEND;TZID=America/New_York:20240926T113000
DTSTAMP:20260425T062706
CREATED:20240220T194818Z
LAST-MODIFIED:20250623T175718Z
UID:10000273-1727344800-1727350200@vhvsc.org
SUMMARY:Weekly Meeting
DESCRIPTION:You are welcome to join us this Thursday morning\, 10:00 am\, at the Elks Lodge in Greenville. Thank you for considering us and helping us do great things within our local veteran community.
URL:https://vhvsc.org/event/weekly-meeting-2/2024-09-26/
LOCATION:Elks Lodge\, Greenville\, 7700 Pelham Rd\, Greenville\, SC\, 29615\, United States
CATEGORIES:Weekly Event
ATTACH;FMTTYPE=image/jpeg:https://vhvsc.org/wp-content/uploads/2024/02/vets-helping-vets-greenville-weekly-meeting-featured.jpg
END:VEVENT
BEGIN:VEVENT
DTSTART;TZID=America/New_York:20240919T100000
DTEND;TZID=America/New_York:20240919T113000
DTSTAMP:20260425T062706
CREATED:20240220T235908Z
LAST-MODIFIED:20250626T132116Z
UID:10000534-1726740000-1726745400@vhvsc.org
SUMMARY:Weekly Meeting
DESCRIPTION:You are welcome to join us this Thursday morning\, 10:00 am\, at the Elks Lodge in Greenville. Thank you for considering us and helping us do great things within our local veteran community.
URL:https://vhvsc.org/event/weekly-meeting-5/2024-09-19/
LOCATION:Elks Lodge\, Greenville\, 7700 Pelham Rd\, Greenville\, SC\, 29615\, United States
CATEGORIES:Weekly Event
ATTACH;FMTTYPE=image/jpeg:https://vhvsc.org/wp-content/uploads/2024/02/vets-helping-vets-greenville-weekly-meeting-featured.jpg
END:VEVENT
BEGIN:VEVENT
DTSTART;TZID=America/New_York:20240912T183000
DTEND;TZID=America/New_York:20240912T200000
DTSTAMP:20260425T062706
CREATED:20240220T194320Z
LAST-MODIFIED:20250623T175453Z
UID:10000414-1726165800-1726171200@vhvsc.org
SUMMARY:Monthly Evening Meeting
DESCRIPTION:You are welcome to participate in our potluck at Elks Lodge Greenville on the second Thursday of every month from 6:30 p.m. to 8:00 p.m. Thank you for considering us and helping us do great things within our local veteran community.
URL:https://vhvsc.org/event/weekly-meeting/2024-09-12/
LOCATION:Elks Lodge\, Greenville\, 7700 Pelham Rd\, Greenville\, SC\, 29615\, United States
CATEGORIES:Monthly Event
ATTACH;FMTTYPE=image/jpeg:https://vhvsc.org/wp-content/uploads/2024/02/vets-helping-vets-greenville-weekly-meeting-featured.jpg
END:VEVENT
BEGIN:VEVENT
DTSTART;TZID=America/New_York:20240905T100000
DTEND;TZID=America/New_York:20240905T113000
DTSTAMP:20260425T062706
CREATED:20240220T195030Z
LAST-MODIFIED:20250623T175557Z
UID:10000353-1725530400-1725535800@vhvsc.org
SUMMARY:Weekly Meeting
DESCRIPTION:You are welcome to join us this Thursday morning\, 10:00 am\, at the Elks Lodge in Greenville. Thank you for considering us and helping us do great things within our local veteran community.
URL:https://vhvsc.org/event/weekly-meeting-4/2024-09-05/
LOCATION:Elks Lodge\, Greenville\, 7700 Pelham Rd\, Greenville\, SC\, 29615\, United States
CATEGORIES:Weekly Event
ATTACH;FMTTYPE=image/jpeg:https://vhvsc.org/wp-content/uploads/2024/02/vets-helping-vets-greenville-weekly-meeting-featured.jpg
END:VEVENT
BEGIN:VEVENT
DTSTART;TZID=America/New_York:20240829T100000
DTEND;TZID=America/New_York:20240829T113000
DTSTAMP:20260425T062706
CREATED:20240220T194921Z
LAST-MODIFIED:20250625T115510Z
UID:10000328-1724925600-1724931000@vhvsc.org
SUMMARY:Weekly Meeting
DESCRIPTION:You are welcome to join us this Thursday morning\, 10:00 am\, at the Elks Lodge in Greenville. Thank you for considering us and helping us do great things within our local veteran community.
URL:https://vhvsc.org/event/weekly-meeting-3/2024-08-29/
LOCATION:Elks Lodge\, Greenville\, 7700 Pelham Rd\, Greenville\, SC\, 29615\, United States
CATEGORIES:Weekly Event
ATTACH;FMTTYPE=image/jpeg:https://vhvsc.org/wp-content/uploads/2024/02/vets-helping-vets-greenville-weekly-meeting-featured.jpg
END:VEVENT
BEGIN:VEVENT
DTSTART;TZID=America/New_York:20240822T100000
DTEND;TZID=America/New_York:20240822T113000
DTSTAMP:20260425T062706
CREATED:20240220T194818Z
LAST-MODIFIED:20250623T175718Z
UID:10000272-1724320800-1724326200@vhvsc.org
SUMMARY:Weekly Meeting
DESCRIPTION:You are welcome to join us this Thursday morning\, 10:00 am\, at the Elks Lodge in Greenville. Thank you for considering us and helping us do great things within our local veteran community.
URL:https://vhvsc.org/event/weekly-meeting-2/2024-08-22/
LOCATION:Elks Lodge\, Greenville\, 7700 Pelham Rd\, Greenville\, SC\, 29615\, United States
CATEGORIES:Weekly Event
ATTACH;FMTTYPE=image/jpeg:https://vhvsc.org/wp-content/uploads/2024/02/vets-helping-vets-greenville-weekly-meeting-featured.jpg
END:VEVENT
BEGIN:VEVENT
DTSTART;TZID=America/New_York:20240815T100000
DTEND;TZID=America/New_York:20240815T113000
DTSTAMP:20260425T062706
CREATED:20240220T235908Z
LAST-MODIFIED:20250626T132116Z
UID:10000533-1723716000-1723721400@vhvsc.org
SUMMARY:Weekly Meeting
DESCRIPTION:You are welcome to join us this Thursday morning\, 10:00 am\, at the Elks Lodge in Greenville. Thank you for considering us and helping us do great things within our local veteran community.
URL:https://vhvsc.org/event/weekly-meeting-5/2024-08-15/
LOCATION:Elks Lodge\, Greenville\, 7700 Pelham Rd\, Greenville\, SC\, 29615\, United States
CATEGORIES:Weekly Event
ATTACH;FMTTYPE=image/jpeg:https://vhvsc.org/wp-content/uploads/2024/02/vets-helping-vets-greenville-weekly-meeting-featured.jpg
END:VEVENT
BEGIN:VEVENT
DTSTART;TZID=America/New_York:20240810T080000
DTEND;TZID=America/New_York:20240810T130000
DTSTAMP:20260425T062706
CREATED:20240715T193919Z
LAST-MODIFIED:20240728T234434Z
UID:10000630-1723276800-1723294800@vhvsc.org
SUMMARY:Yard Sale Fundraiser
DESCRIPTION:Indoor/outdoor event based on number of participants.\n\n\n\nVHV GVL DONATION PARTICIPANT: $0.00. If you have yard sale items you want to bring in to donate to sell on behalf of VHV GVL\, it will cost you $0.\n\n\n\nVHV GVL MEMBER vendor fee – $20.00 for members who wish to sell their items for a profit.\n\n\n\nNON-MEMBER vendor fee – $40.00 for non-members who wish to sell their items for a profit.\n\n\n\nEach participant will be given one table and a designated space to sell their items.
URL:https://vhvsc.org/event/yardsale-fundraiser/
LOCATION:Elks Lodge\, Greenville\, 7700 Pelham Rd\, Greenville\, SC\, 29615\, United States
CATEGORIES:Fundraiser
ATTACH;FMTTYPE=image/jpeg:https://vhvsc.org/wp-content/uploads/2024/07/vets-helping-vets-greenville-yardsale.jpg
END:VEVENT
BEGIN:VEVENT
DTSTART;TZID=America/New_York:20240808T183000
DTEND;TZID=America/New_York:20240808T200000
DTSTAMP:20260425T062706
CREATED:20240220T194320Z
LAST-MODIFIED:20250623T175453Z
UID:10000413-1723141800-1723147200@vhvsc.org
SUMMARY:Monthly Evening Meeting
DESCRIPTION:You are welcome to participate in our potluck at Elks Lodge Greenville on the second Thursday of every month from 6:30 p.m. to 8:00 p.m. Thank you for considering us and helping us do great things within our local veteran community.
URL:https://vhvsc.org/event/weekly-meeting/2024-08-08/
LOCATION:Elks Lodge\, Greenville\, 7700 Pelham Rd\, Greenville\, SC\, 29615\, United States
CATEGORIES:Monthly Event
ATTACH;FMTTYPE=image/jpeg:https://vhvsc.org/wp-content/uploads/2024/02/vets-helping-vets-greenville-weekly-meeting-featured.jpg
END:VEVENT
BEGIN:VEVENT
DTSTART;TZID=America/New_York:20240803T100000
DTEND;TZID=America/New_York:20240803T150000
DTSTAMP:20260425T062706
CREATED:20240729T001506Z
LAST-MODIFIED:20240729T001507Z
UID:10000632-1722679200-1722697200@vhvsc.org
SUMMARY:Pack Backpacks
DESCRIPTION:Help us pack backpacks at the Greenville Elks Lodge.
URL:https://vhvsc.org/event/pack-backpacks/
LOCATION:Elks Lodge\, Greenville\, 7700 Pelham Rd\, Greenville\, SC\, 29615\, United States
END:VEVENT
BEGIN:VEVENT
DTSTART;TZID=America/New_York:20240801T100000
DTEND;TZID=America/New_York:20240801T113000
DTSTAMP:20260425T062706
CREATED:20240220T195030Z
LAST-MODIFIED:20250623T175557Z
UID:10000352-1722506400-1722511800@vhvsc.org
SUMMARY:Weekly Meeting
DESCRIPTION:You are welcome to join us this Thursday morning\, 10:00 am\, at the Elks Lodge in Greenville. Thank you for considering us and helping us do great things within our local veteran community.
URL:https://vhvsc.org/event/weekly-meeting-4/2024-08-01/
LOCATION:Elks Lodge\, Greenville\, 7700 Pelham Rd\, Greenville\, SC\, 29615\, United States
CATEGORIES:Weekly Event
ATTACH;FMTTYPE=image/jpeg:https://vhvsc.org/wp-content/uploads/2024/02/vets-helping-vets-greenville-weekly-meeting-featured.jpg
END:VEVENT
BEGIN:VEVENT
DTSTART;TZID=America/New_York:20240725T100000
DTEND;TZID=America/New_York:20240725T113000
DTSTAMP:20260425T062706
CREATED:20240220T194818Z
LAST-MODIFIED:20250623T175718Z
UID:10000271-1721901600-1721907000@vhvsc.org
SUMMARY:Weekly Meeting
DESCRIPTION:You are welcome to join us this Thursday morning\, 10:00 am\, at the Elks Lodge in Greenville. Thank you for considering us and helping us do great things within our local veteran community.
URL:https://vhvsc.org/event/weekly-meeting-2/2024-07-25/
LOCATION:Elks Lodge\, Greenville\, 7700 Pelham Rd\, Greenville\, SC\, 29615\, United States
CATEGORIES:Weekly Event
ATTACH;FMTTYPE=image/jpeg:https://vhvsc.org/wp-content/uploads/2024/02/vets-helping-vets-greenville-weekly-meeting-featured.jpg
END:VEVENT
BEGIN:VEVENT
DTSTART;TZID=America/New_York:20240718T100000
DTEND;TZID=America/New_York:20240718T113000
DTSTAMP:20260425T062706
CREATED:20240220T235908Z
LAST-MODIFIED:20250626T132116Z
UID:10000532-1721296800-1721302200@vhvsc.org
SUMMARY:Weekly Meeting
DESCRIPTION:You are welcome to join us this Thursday morning\, 10:00 am\, at the Elks Lodge in Greenville. Thank you for considering us and helping us do great things within our local veteran community.
URL:https://vhvsc.org/event/weekly-meeting-5/2024-07-18/
LOCATION:Elks Lodge\, Greenville\, 7700 Pelham Rd\, Greenville\, SC\, 29615\, United States
CATEGORIES:Weekly Event
ATTACH;FMTTYPE=image/jpeg:https://vhvsc.org/wp-content/uploads/2024/02/vets-helping-vets-greenville-weekly-meeting-featured.jpg
END:VEVENT
BEGIN:VEVENT
DTSTART;TZID=America/New_York:20240711T183000
DTEND;TZID=America/New_York:20240711T200000
DTSTAMP:20260425T062706
CREATED:20240220T194320Z
LAST-MODIFIED:20250623T175453Z
UID:10000412-1720722600-1720728000@vhvsc.org
SUMMARY:Monthly Evening Meeting
DESCRIPTION:You are welcome to participate in our potluck at Elks Lodge Greenville on the second Thursday of every month from 6:30 p.m. to 8:00 p.m. Thank you for considering us and helping us do great things within our local veteran community.
URL:https://vhvsc.org/event/weekly-meeting/2024-07-11/
LOCATION:Elks Lodge\, Greenville\, 7700 Pelham Rd\, Greenville\, SC\, 29615\, United States
CATEGORIES:Monthly Event
ATTACH;FMTTYPE=image/jpeg:https://vhvsc.org/wp-content/uploads/2024/02/vets-helping-vets-greenville-weekly-meeting-featured.jpg
END:VEVENT
BEGIN:VEVENT
DTSTART;TZID=America/New_York:20240627T100000
DTEND;TZID=America/New_York:20240627T113000
DTSTAMP:20260425T062706
CREATED:20240220T194818Z
LAST-MODIFIED:20250623T175718Z
UID:10000270-1719482400-1719487800@vhvsc.org
SUMMARY:Weekly Meeting
DESCRIPTION:You are welcome to join us this Thursday morning\, 10:00 am\, at the Elks Lodge in Greenville. Thank you for considering us and helping us do great things within our local veteran community.
URL:https://vhvsc.org/event/weekly-meeting-2/2024-06-27/
LOCATION:Elks Lodge\, Greenville\, 7700 Pelham Rd\, Greenville\, SC\, 29615\, United States
CATEGORIES:Weekly Event
ATTACH;FMTTYPE=image/jpeg:https://vhvsc.org/wp-content/uploads/2024/02/vets-helping-vets-greenville-weekly-meeting-featured.jpg
END:VEVENT
BEGIN:VEVENT
DTSTART;TZID=America/New_York:20240620T100000
DTEND;TZID=America/New_York:20240620T113000
DTSTAMP:20260425T062706
CREATED:20240220T235908Z
LAST-MODIFIED:20250626T132116Z
UID:10000531-1718877600-1718883000@vhvsc.org
SUMMARY:Weekly Meeting
DESCRIPTION:You are welcome to join us this Thursday morning\, 10:00 am\, at the Elks Lodge in Greenville. Thank you for considering us and helping us do great things within our local veteran community.
URL:https://vhvsc.org/event/weekly-meeting-5/2024-06-20/
LOCATION:Elks Lodge\, Greenville\, 7700 Pelham Rd\, Greenville\, SC\, 29615\, United States
CATEGORIES:Weekly Event
ATTACH;FMTTYPE=image/jpeg:https://vhvsc.org/wp-content/uploads/2024/02/vets-helping-vets-greenville-weekly-meeting-featured.jpg
END:VEVENT
BEGIN:VEVENT
DTSTART;TZID=America/New_York:20240613T183000
DTEND;TZID=America/New_York:20240613T200000
DTSTAMP:20260425T062706
CREATED:20240220T194320Z
LAST-MODIFIED:20250623T175453Z
UID:10000411-1718303400-1718308800@vhvsc.org
SUMMARY:Monthly Evening Meeting
DESCRIPTION:You are welcome to participate in our potluck at Elks Lodge Greenville on the second Thursday of every month from 6:30 p.m. to 8:00 p.m. Thank you for considering us and helping us do great things within our local veteran community.
URL:https://vhvsc.org/event/weekly-meeting/2024-06-13/
LOCATION:Elks Lodge\, Greenville\, 7700 Pelham Rd\, Greenville\, SC\, 29615\, United States
CATEGORIES:Monthly Event
ATTACH;FMTTYPE=image/jpeg:https://vhvsc.org/wp-content/uploads/2024/02/vets-helping-vets-greenville-weekly-meeting-featured.jpg
END:VEVENT
BEGIN:VEVENT
DTSTART;TZID=America/New_York:20240606T100000
DTEND;TZID=America/New_York:20240606T113000
DTSTAMP:20260425T062706
CREATED:20240220T195030Z
LAST-MODIFIED:20250623T175557Z
UID:10000350-1717668000-1717673400@vhvsc.org
SUMMARY:Weekly Meeting
DESCRIPTION:You are welcome to join us this Thursday morning\, 10:00 am\, at the Elks Lodge in Greenville. Thank you for considering us and helping us do great things within our local veteran community.
URL:https://vhvsc.org/event/weekly-meeting-4/2024-06-06/
LOCATION:Elks Lodge\, Greenville\, 7700 Pelham Rd\, Greenville\, SC\, 29615\, United States
CATEGORIES:Weekly Event
ATTACH;FMTTYPE=image/jpeg:https://vhvsc.org/wp-content/uploads/2024/02/vets-helping-vets-greenville-weekly-meeting-featured.jpg
END:VEVENT
BEGIN:VEVENT
DTSTART;TZID=America/New_York:20240530T100000
DTEND;TZID=America/New_York:20240530T113000
DTSTAMP:20260425T062706
CREATED:20240220T194921Z
LAST-MODIFIED:20250625T115510Z
UID:10000327-1717063200-1717068600@vhvsc.org
SUMMARY:Weekly Meeting
DESCRIPTION:You are welcome to join us this Thursday morning\, 10:00 am\, at the Elks Lodge in Greenville. Thank you for considering us and helping us do great things within our local veteran community.
URL:https://vhvsc.org/event/weekly-meeting-3/2024-05-30/
LOCATION:Elks Lodge\, Greenville\, 7700 Pelham Rd\, Greenville\, SC\, 29615\, United States
CATEGORIES:Weekly Event
ATTACH;FMTTYPE=image/jpeg:https://vhvsc.org/wp-content/uploads/2024/02/vets-helping-vets-greenville-weekly-meeting-featured.jpg
END:VEVENT
BEGIN:VEVENT
DTSTART;TZID=America/New_York:20240523T100000
DTEND;TZID=America/New_York:20240523T113000
DTSTAMP:20260425T062706
CREATED:20240220T194818Z
LAST-MODIFIED:20250623T175718Z
UID:10000269-1716458400-1716463800@vhvsc.org
SUMMARY:Weekly Meeting
DESCRIPTION:You are welcome to join us this Thursday morning\, 10:00 am\, at the Elks Lodge in Greenville. Thank you for considering us and helping us do great things within our local veteran community.
URL:https://vhvsc.org/event/weekly-meeting-2/2024-05-23/
LOCATION:Elks Lodge\, Greenville\, 7700 Pelham Rd\, Greenville\, SC\, 29615\, United States
CATEGORIES:Weekly Event
ATTACH;FMTTYPE=image/jpeg:https://vhvsc.org/wp-content/uploads/2024/02/vets-helping-vets-greenville-weekly-meeting-featured.jpg
END:VEVENT
BEGIN:VEVENT
DTSTART;TZID=America/New_York:20240516T100000
DTEND;TZID=America/New_York:20240516T113000
DTSTAMP:20260425T062706
CREATED:20240220T235908Z
LAST-MODIFIED:20250626T132116Z
UID:10000530-1715853600-1715859000@vhvsc.org
SUMMARY:Weekly Meeting
DESCRIPTION:You are welcome to join us this Thursday morning\, 10:00 am\, at the Elks Lodge in Greenville. Thank you for considering us and helping us do great things within our local veteran community.
URL:https://vhvsc.org/event/weekly-meeting-5/2024-05-16/
LOCATION:Elks Lodge\, Greenville\, 7700 Pelham Rd\, Greenville\, SC\, 29615\, United States
CATEGORIES:Weekly Event
ATTACH;FMTTYPE=image/jpeg:https://vhvsc.org/wp-content/uploads/2024/02/vets-helping-vets-greenville-weekly-meeting-featured.jpg
END:VEVENT
BEGIN:VEVENT
DTSTART;TZID=America/New_York:20240509T183000
DTEND;TZID=America/New_York:20240509T200000
DTSTAMP:20260425T062706
CREATED:20240220T194320Z
LAST-MODIFIED:20250623T175453Z
UID:10000410-1715279400-1715284800@vhvsc.org
SUMMARY:Monthly Evening Meeting
DESCRIPTION:You are welcome to participate in our potluck at Elks Lodge Greenville on the second Thursday of every month from 6:30 p.m. to 8:00 p.m. Thank you for considering us and helping us do great things within our local veteran community.
URL:https://vhvsc.org/event/weekly-meeting/2024-05-09/
LOCATION:Elks Lodge\, Greenville\, 7700 Pelham Rd\, Greenville\, SC\, 29615\, United States
CATEGORIES:Monthly Event
ATTACH;FMTTYPE=image/jpeg:https://vhvsc.org/wp-content/uploads/2024/02/vets-helping-vets-greenville-weekly-meeting-featured.jpg
END:VEVENT
BEGIN:VEVENT
DTSTART;TZID=America/New_York:20240502T100000
DTEND;TZID=America/New_York:20240502T113000
DTSTAMP:20260425T062706
CREATED:20240220T195030Z
LAST-MODIFIED:20250623T175557Z
UID:10000349-1714644000-1714649400@vhvsc.org
SUMMARY:Weekly Meeting
DESCRIPTION:You are welcome to join us this Thursday morning\, 10:00 am\, at the Elks Lodge in Greenville. Thank you for considering us and helping us do great things within our local veteran community.
URL:https://vhvsc.org/event/weekly-meeting-4/2024-05-02/
LOCATION:Elks Lodge\, Greenville\, 7700 Pelham Rd\, Greenville\, SC\, 29615\, United States
CATEGORIES:Weekly Event
ATTACH;FMTTYPE=image/jpeg:https://vhvsc.org/wp-content/uploads/2024/02/vets-helping-vets-greenville-weekly-meeting-featured.jpg
END:VEVENT
BEGIN:VEVENT
DTSTART;TZID=America/New_York:20240425T100000
DTEND;TZID=America/New_York:20240425T113000
DTSTAMP:20260425T062706
CREATED:20240220T194818Z
LAST-MODIFIED:20250623T175718Z
UID:10000268-1714039200-1714044600@vhvsc.org
SUMMARY:Weekly Meeting
DESCRIPTION:You are welcome to join us this Thursday morning\, 10:00 am\, at the Elks Lodge in Greenville. Thank you for considering us and helping us do great things within our local veteran community.
URL:https://vhvsc.org/event/weekly-meeting-2/2024-04-25/
LOCATION:Elks Lodge\, Greenville\, 7700 Pelham Rd\, Greenville\, SC\, 29615\, United States
CATEGORIES:Weekly Event
ATTACH;FMTTYPE=image/jpeg:https://vhvsc.org/wp-content/uploads/2024/02/vets-helping-vets-greenville-weekly-meeting-featured.jpg
END:VEVENT
BEGIN:VEVENT
DTSTART;TZID=America/New_York:20240418T100000
DTEND;TZID=America/New_York:20240418T113000
DTSTAMP:20260425T062706
CREATED:20240220T235908Z
LAST-MODIFIED:20250626T132116Z
UID:10000529-1713434400-1713439800@vhvsc.org
SUMMARY:Weekly Meeting
DESCRIPTION:You are welcome to join us this Thursday morning\, 10:00 am\, at the Elks Lodge in Greenville. Thank you for considering us and helping us do great things within our local veteran community.
URL:https://vhvsc.org/event/weekly-meeting-5/2024-04-18/
LOCATION:Elks Lodge\, Greenville\, 7700 Pelham Rd\, Greenville\, SC\, 29615\, United States
CATEGORIES:Weekly Event
ATTACH;FMTTYPE=image/jpeg:https://vhvsc.org/wp-content/uploads/2024/02/vets-helping-vets-greenville-weekly-meeting-featured.jpg
END:VEVENT
BEGIN:VEVENT
DTSTART;TZID=America/New_York:20240411T183000
DTEND;TZID=America/New_York:20240411T200000
DTSTAMP:20260425T062706
CREATED:20240220T194320Z
LAST-MODIFIED:20250623T175453Z
UID:10000409-1712860200-1712865600@vhvsc.org
SUMMARY:Monthly Evening Meeting
DESCRIPTION:You are welcome to participate in our potluck at Elks Lodge Greenville on the second Thursday of every month from 6:30 p.m. to 8:00 p.m. Thank you for considering us and helping us do great things within our local veteran community.
URL:https://vhvsc.org/event/weekly-meeting/2024-04-11/
LOCATION:Elks Lodge\, Greenville\, 7700 Pelham Rd\, Greenville\, SC\, 29615\, United States
CATEGORIES:Monthly Event
ATTACH;FMTTYPE=image/jpeg:https://vhvsc.org/wp-content/uploads/2024/02/vets-helping-vets-greenville-weekly-meeting-featured.jpg
END:VEVENT
BEGIN:VEVENT
DTSTART;TZID=America/New_York:20240404T100000
DTEND;TZID=America/New_York:20240404T113000
DTSTAMP:20260425T062706
CREATED:20240220T195030Z
LAST-MODIFIED:20250623T175557Z
UID:10000348-1712224800-1712230200@vhvsc.org
SUMMARY:Weekly Meeting
DESCRIPTION:You are welcome to join us this Thursday morning\, 10:00 am\, at the Elks Lodge in Greenville. Thank you for considering us and helping us do great things within our local veteran community.
URL:https://vhvsc.org/event/weekly-meeting-4/2024-04-04/
LOCATION:Elks Lodge\, Greenville\, 7700 Pelham Rd\, Greenville\, SC\, 29615\, United States
CATEGORIES:Weekly Event
ATTACH;FMTTYPE=image/jpeg:https://vhvsc.org/wp-content/uploads/2024/02/vets-helping-vets-greenville-weekly-meeting-featured.jpg
END:VEVENT
BEGIN:VEVENT
DTSTART;TZID=America/New_York:20240328T100000
DTEND;TZID=America/New_York:20240328T113000
DTSTAMP:20260425T062706
CREATED:20240220T194818Z
LAST-MODIFIED:20250623T175718Z
UID:10000267-1711620000-1711625400@vhvsc.org
SUMMARY:Weekly Meeting
DESCRIPTION:You are welcome to join us this Thursday morning\, 10:00 am\, at the Elks Lodge in Greenville. Thank you for considering us and helping us do great things within our local veteran community.
URL:https://vhvsc.org/event/weekly-meeting-2/2024-03-28/
LOCATION:Elks Lodge\, Greenville\, 7700 Pelham Rd\, Greenville\, SC\, 29615\, United States
CATEGORIES:Weekly Event
ATTACH;FMTTYPE=image/jpeg:https://vhvsc.org/wp-content/uploads/2024/02/vets-helping-vets-greenville-weekly-meeting-featured.jpg
END:VEVENT
BEGIN:VEVENT
DTSTART;TZID=America/New_York:20240321T100000
DTEND;TZID=America/New_York:20240321T113000
DTSTAMP:20260425T062706
CREATED:20240220T235908Z
LAST-MODIFIED:20250626T132116Z
UID:10000528-1711015200-1711020600@vhvsc.org
SUMMARY:Weekly Meeting
DESCRIPTION:You are welcome to join us this Thursday morning\, 10:00 am\, at the Elks Lodge in Greenville. Thank you for considering us and helping us do great things within our local veteran community.
URL:https://vhvsc.org/event/weekly-meeting-5/2024-03-21/
LOCATION:Elks Lodge\, Greenville\, 7700 Pelham Rd\, Greenville\, SC\, 29615\, United States
CATEGORIES:Weekly Event
ATTACH;FMTTYPE=image/jpeg:https://vhvsc.org/wp-content/uploads/2024/02/vets-helping-vets-greenville-weekly-meeting-featured.jpg
END:VEVENT
BEGIN:VEVENT
DTSTART;TZID=America/New_York:20240314T183000
DTEND;TZID=America/New_York:20240314T200000
DTSTAMP:20260425T062706
CREATED:20240220T194320Z
LAST-MODIFIED:20250623T175453Z
UID:10000408-1710441000-1710446400@vhvsc.org
SUMMARY:Monthly Evening Meeting
DESCRIPTION:You are welcome to participate in our potluck at Elks Lodge Greenville on the second Thursday of every month from 6:30 p.m. to 8:00 p.m. Thank you for considering us and helping us do great things within our local veteran community.
URL:https://vhvsc.org/event/weekly-meeting/2024-03-14/
LOCATION:Elks Lodge\, Greenville\, 7700 Pelham Rd\, Greenville\, SC\, 29615\, United States
CATEGORIES:Monthly Event
ATTACH;FMTTYPE=image/jpeg:https://vhvsc.org/wp-content/uploads/2024/02/vets-helping-vets-greenville-weekly-meeting-featured.jpg
END:VEVENT
END:VCALENDAR