BEGIN:VCALENDAR
VERSION:2.0
PRODID:-//Vets Helping Vets Greenville - ECPv6.15.20//NONSGML v1.0//EN
CALSCALE:GREGORIAN
METHOD:PUBLISH
X-ORIGINAL-URL:https://vhvsc.org
X-WR-CALDESC:Events for Vets Helping Vets Greenville
REFRESH-INTERVAL;VALUE=DURATION:PT1H
X-Robots-Tag:noindex
X-PUBLISHED-TTL:PT1H
BEGIN:VTIMEZONE
TZID:America/New_York
BEGIN:DAYLIGHT
TZOFFSETFROM:-0500
TZOFFSETTO:-0400
TZNAME:EDT
DTSTART:20240310T070000
END:DAYLIGHT
BEGIN:STANDARD
TZOFFSETFROM:-0400
TZOFFSETTO:-0500
TZNAME:EST
DTSTART:20241103T060000
END:STANDARD
BEGIN:DAYLIGHT
TZOFFSETFROM:-0500
TZOFFSETTO:-0400
TZNAME:EDT
DTSTART:20250309T070000
END:DAYLIGHT
BEGIN:STANDARD
TZOFFSETFROM:-0400
TZOFFSETTO:-0500
TZNAME:EST
DTSTART:20251102T060000
END:STANDARD
BEGIN:DAYLIGHT
TZOFFSETFROM:-0500
TZOFFSETTO:-0400
TZNAME:EDT
DTSTART:20260308T070000
END:DAYLIGHT
BEGIN:STANDARD
TZOFFSETFROM:-0400
TZOFFSETTO:-0500
TZNAME:EST
DTSTART:20261101T060000
END:STANDARD
END:VTIMEZONE
BEGIN:VEVENT
DTSTART;TZID=America/New_York:20250814T183000
DTEND;TZID=America/New_York:20250814T200000
DTSTAMP:20260424T154133
CREATED:20240220T194320Z
LAST-MODIFIED:20250623T175453Z
UID:10000425-1755196200-1755201600@vhvsc.org
SUMMARY:Monthly Evening Meeting
DESCRIPTION:You are welcome to participate in our potluck at Elks Lodge Greenville on the second Thursday of every month from 6:30 p.m. to 8:00 p.m. Thank you for considering us and helping us do great things within our local veteran community.
URL:https://vhvsc.org/event/weekly-meeting/2025-08-14/
LOCATION:Elks Lodge\, Greenville\, 7700 Pelham Rd\, Greenville\, SC\, 29615\, United States
CATEGORIES:Monthly Event
ATTACH;FMTTYPE=image/jpeg:https://vhvsc.org/wp-content/uploads/2024/02/vets-helping-vets-greenville-weekly-meeting-featured.jpg
END:VEVENT
BEGIN:VEVENT
DTSTART;TZID=America/New_York:20250807T100000
DTEND;TZID=America/New_York:20250807T113000
DTSTAMP:20260424T154133
CREATED:20240220T195030Z
LAST-MODIFIED:20250623T175557Z
UID:10000364-1754560800-1754566200@vhvsc.org
SUMMARY:Weekly Meeting
DESCRIPTION:You are welcome to join us this Thursday morning\, 10:00 am\, at the Elks Lodge in Greenville. Thank you for considering us and helping us do great things within our local veteran community.
URL:https://vhvsc.org/event/weekly-meeting-4/2025-08-07/
LOCATION:Elks Lodge\, Greenville\, 7700 Pelham Rd\, Greenville\, SC\, 29615\, United States
CATEGORIES:Weekly Event
ATTACH;FMTTYPE=image/jpeg:https://vhvsc.org/wp-content/uploads/2024/02/vets-helping-vets-greenville-weekly-meeting-featured.jpg
END:VEVENT
BEGIN:VEVENT
DTSTART;TZID=America/New_York:20250731T100000
DTEND;TZID=America/New_York:20250731T113000
DTSTAMP:20260424T154133
CREATED:20240220T194921Z
LAST-MODIFIED:20250625T115510Z
UID:10000332-1753956000-1753961400@vhvsc.org
SUMMARY:Weekly Meeting
DESCRIPTION:You are welcome to join us this Thursday morning\, 10:00 am\, at the Elks Lodge in Greenville. Thank you for considering us and helping us do great things within our local veteran community.
URL:https://vhvsc.org/event/weekly-meeting-3/2025-07-31/
LOCATION:Elks Lodge\, Greenville\, 7700 Pelham Rd\, Greenville\, SC\, 29615\, United States
CATEGORIES:Weekly Event
ATTACH;FMTTYPE=image/jpeg:https://vhvsc.org/wp-content/uploads/2024/02/vets-helping-vets-greenville-weekly-meeting-featured.jpg
END:VEVENT
BEGIN:VEVENT
DTSTART;TZID=America/New_York:20250724T100000
DTEND;TZID=America/New_York:20250724T113000
DTSTAMP:20260424T154133
CREATED:20240220T194818Z
LAST-MODIFIED:20250623T175718Z
UID:10000283-1753351200-1753356600@vhvsc.org
SUMMARY:Weekly Meeting
DESCRIPTION:You are welcome to join us this Thursday morning\, 10:00 am\, at the Elks Lodge in Greenville. Thank you for considering us and helping us do great things within our local veteran community.
URL:https://vhvsc.org/event/weekly-meeting-2/2025-07-24/
LOCATION:Elks Lodge\, Greenville\, 7700 Pelham Rd\, Greenville\, SC\, 29615\, United States
CATEGORIES:Weekly Event
ATTACH;FMTTYPE=image/jpeg:https://vhvsc.org/wp-content/uploads/2024/02/vets-helping-vets-greenville-weekly-meeting-featured.jpg
END:VEVENT
BEGIN:VEVENT
DTSTART;TZID=America/New_York:20250717T100000
DTEND;TZID=America/New_York:20250717T113000
DTSTAMP:20260424T154133
CREATED:20240220T235908Z
LAST-MODIFIED:20250626T132116Z
UID:10000544-1752746400-1752751800@vhvsc.org
SUMMARY:Weekly Meeting
DESCRIPTION:You are welcome to join us this Thursday morning\, 10:00 am\, at the Elks Lodge in Greenville. Thank you for considering us and helping us do great things within our local veteran community.
URL:https://vhvsc.org/event/weekly-meeting-5/2025-07-17/
LOCATION:Elks Lodge\, Greenville\, 7700 Pelham Rd\, Greenville\, SC\, 29615\, United States
CATEGORIES:Weekly Event
ATTACH;FMTTYPE=image/jpeg:https://vhvsc.org/wp-content/uploads/2024/02/vets-helping-vets-greenville-weekly-meeting-featured.jpg
END:VEVENT
BEGIN:VEVENT
DTSTART;TZID=America/New_York:20250710T183000
DTEND;TZID=America/New_York:20250710T200000
DTSTAMP:20260424T154133
CREATED:20240220T194320Z
LAST-MODIFIED:20250623T175453Z
UID:10000424-1752172200-1752177600@vhvsc.org
SUMMARY:Monthly Evening Meeting
DESCRIPTION:You are welcome to participate in our potluck at Elks Lodge Greenville on the second Thursday of every month from 6:30 p.m. to 8:00 p.m. Thank you for considering us and helping us do great things within our local veteran community.
URL:https://vhvsc.org/event/weekly-meeting/2025-07-10/
LOCATION:Elks Lodge\, Greenville\, 7700 Pelham Rd\, Greenville\, SC\, 29615\, United States
CATEGORIES:Monthly Event
ATTACH;FMTTYPE=image/jpeg:https://vhvsc.org/wp-content/uploads/2024/02/vets-helping-vets-greenville-weekly-meeting-featured.jpg
END:VEVENT
BEGIN:VEVENT
DTSTART;TZID=America/New_York:20250703T100000
DTEND;TZID=America/New_York:20250703T113000
DTSTAMP:20260424T154133
CREATED:20250626T210104Z
LAST-MODIFIED:20250626T210112Z
UID:10000363-1751536800-1751542200@vhvsc.org
SUMMARY:Weekly Meeting
DESCRIPTION:THIS MEETING HAS BEEN CANCELLED. See you next time.
URL:https://vhvsc.org/event/weekly-meeting-8/
LOCATION:Elks Lodge\, Greenville\, 7700 Pelham Rd\, Greenville\, SC\, 29615\, United States
CATEGORIES:Weekly Event
ATTACH;FMTTYPE=image/jpeg:https://vhvsc.org/wp-content/uploads/2024/02/vets-helping-vets-greenville-weekly-meeting-featured.jpg
END:VEVENT
BEGIN:VEVENT
DTSTART;TZID=America/New_York:20250626T100000
DTEND;TZID=America/New_York:20250626T113000
DTSTAMP:20260424T154133
CREATED:20240220T194818Z
LAST-MODIFIED:20250623T175718Z
UID:10000282-1750932000-1750937400@vhvsc.org
SUMMARY:Weekly Meeting
DESCRIPTION:You are welcome to join us this Thursday morning\, 10:00 am\, at the Elks Lodge in Greenville. Thank you for considering us and helping us do great things within our local veteran community.
URL:https://vhvsc.org/event/weekly-meeting-2/2025-06-26/
LOCATION:Elks Lodge\, Greenville\, 7700 Pelham Rd\, Greenville\, SC\, 29615\, United States
CATEGORIES:Weekly Event
ATTACH;FMTTYPE=image/jpeg:https://vhvsc.org/wp-content/uploads/2024/02/vets-helping-vets-greenville-weekly-meeting-featured.jpg
END:VEVENT
BEGIN:VEVENT
DTSTART;TZID=America/New_York:20250621T170000
DTEND;TZID=America/New_York:20250621T213000
DTSTAMP:20260424T154133
CREATED:20250515T180241Z
LAST-MODIFIED:20250515T180243Z
UID:10000640-1750525200-1750541400@vhvsc.org
SUMMARY:Brian T. Shirley Comedy and Dinner
DESCRIPTION:Come enjoy a night of laughs and good food with the hilarious Brian Shirley. Hosted by the Greenville Elks Lodge #858.  \n\n\n\nGet ready to laugh until your sides hurt at the Greenville Elks Lodge. Enjoy a night filled with hilarious jokes and delicious food. Don’t miss out on this fantastic event that will leave you in stitches. Grab y our friends and family and come on out.  \n\n\n\nVisit the event page to buy tickets.
URL:https://vhvsc.org/event/brian-t-shirley-comedy-and-dinner/
LOCATION:Elks Lodge\, Greenville\, 7700 Pelham Rd\, Greenville\, SC\, 29615\, United States
ATTACH;FMTTYPE=image/jpeg:https://vhvsc.org/wp-content/uploads/2025/05/2025-6-21-standup-comedy-show.jpg
END:VEVENT
BEGIN:VEVENT
DTSTART;TZID=America/New_York:20250619T100000
DTEND;TZID=America/New_York:20250619T113000
DTSTAMP:20260424T154133
CREATED:20240220T235908Z
LAST-MODIFIED:20250626T132116Z
UID:10000543-1750327200-1750332600@vhvsc.org
SUMMARY:Weekly Meeting
DESCRIPTION:You are welcome to join us this Thursday morning\, 10:00 am\, at the Elks Lodge in Greenville. Thank you for considering us and helping us do great things within our local veteran community.
URL:https://vhvsc.org/event/weekly-meeting-5/2025-06-19/
LOCATION:Elks Lodge\, Greenville\, 7700 Pelham Rd\, Greenville\, SC\, 29615\, United States
CATEGORIES:Weekly Event
ATTACH;FMTTYPE=image/jpeg:https://vhvsc.org/wp-content/uploads/2024/02/vets-helping-vets-greenville-weekly-meeting-featured.jpg
END:VEVENT
BEGIN:VEVENT
DTSTART;TZID=America/New_York:20250614T140000
DTEND;TZID=America/New_York:20250614T160000
DTSTAMP:20260424T154133
CREATED:20250609T140721Z
LAST-MODIFIED:20250609T140723Z
UID:10000658-1749909600-1749916800@vhvsc.org
SUMMARY:Flag Day Ceremony
DESCRIPTION:Elks Lodge 858 in Greenville is hosting its annual Flag Day Ceremony which is meant to promote awareness and knowledge of the 8 flags that our country has adopted since the 1700’s. This ceremony will include Vets Helping Vets Greenville members and the Young Marines. There will also be an official Flag Folding Ceremony and official Flag Retirement Ceremony.  \n\n\n\nThis is a great and free event for the family. A BBQ lunch will be provided by Home Team BBQ. 
URL:https://vhvsc.org/event/flag-day-ceremony/
LOCATION:Elks Lodge\, Greenville\, 7700 Pelham Rd\, Greenville\, SC\, 29615\, United States
ATTACH;FMTTYPE=image/jpeg:https://vhvsc.org/wp-content/uploads/2025/06/flag-day-2025-cover.jpg
END:VEVENT
BEGIN:VEVENT
DTSTART;TZID=America/New_York:20250612T183000
DTEND;TZID=America/New_York:20250612T200000
DTSTAMP:20260424T154133
CREATED:20240220T194320Z
LAST-MODIFIED:20250623T175453Z
UID:10000423-1749753000-1749758400@vhvsc.org
SUMMARY:Monthly Evening Meeting
DESCRIPTION:You are welcome to participate in our potluck at Elks Lodge Greenville on the second Thursday of every month from 6:30 p.m. to 8:00 p.m. Thank you for considering us and helping us do great things within our local veteran community.
URL:https://vhvsc.org/event/weekly-meeting/2025-06-12/
LOCATION:Elks Lodge\, Greenville\, 7700 Pelham Rd\, Greenville\, SC\, 29615\, United States
CATEGORIES:Monthly Event
ATTACH;FMTTYPE=image/jpeg:https://vhvsc.org/wp-content/uploads/2024/02/vets-helping-vets-greenville-weekly-meeting-featured.jpg
END:VEVENT
BEGIN:VEVENT
DTSTART;TZID=America/New_York:20250605T100000
DTEND;TZID=America/New_York:20250605T113000
DTSTAMP:20260424T154133
CREATED:20240220T195030Z
LAST-MODIFIED:20250623T175557Z
UID:10000362-1749117600-1749123000@vhvsc.org
SUMMARY:Weekly Meeting
DESCRIPTION:You are welcome to join us this Thursday morning\, 10:00 am\, at the Elks Lodge in Greenville. Thank you for considering us and helping us do great things within our local veteran community.
URL:https://vhvsc.org/event/weekly-meeting-4/2025-06-05/
LOCATION:Elks Lodge\, Greenville\, 7700 Pelham Rd\, Greenville\, SC\, 29615\, United States
CATEGORIES:Weekly Event
ATTACH;FMTTYPE=image/jpeg:https://vhvsc.org/wp-content/uploads/2024/02/vets-helping-vets-greenville-weekly-meeting-featured.jpg
END:VEVENT
BEGIN:VEVENT
DTSTART;TZID=America/New_York:20250529T100000
DTEND;TZID=America/New_York:20250529T113000
DTSTAMP:20260424T154133
CREATED:20240220T194921Z
LAST-MODIFIED:20250625T115510Z
UID:10000331-1748512800-1748518200@vhvsc.org
SUMMARY:Weekly Meeting
DESCRIPTION:You are welcome to join us this Thursday morning\, 10:00 am\, at the Elks Lodge in Greenville. Thank you for considering us and helping us do great things within our local veteran community.
URL:https://vhvsc.org/event/weekly-meeting-3/2025-05-29/
LOCATION:Elks Lodge\, Greenville\, 7700 Pelham Rd\, Greenville\, SC\, 29615\, United States
CATEGORIES:Weekly Event
ATTACH;FMTTYPE=image/jpeg:https://vhvsc.org/wp-content/uploads/2024/02/vets-helping-vets-greenville-weekly-meeting-featured.jpg
END:VEVENT
BEGIN:VEVENT
DTSTART;TZID=America/New_York:20250522T100000
DTEND;TZID=America/New_York:20250522T113000
DTSTAMP:20260424T154133
CREATED:20240220T194818Z
LAST-MODIFIED:20250623T175718Z
UID:10000281-1747908000-1747913400@vhvsc.org
SUMMARY:Weekly Meeting
DESCRIPTION:You are welcome to join us this Thursday morning\, 10:00 am\, at the Elks Lodge in Greenville. Thank you for considering us and helping us do great things within our local veteran community.
URL:https://vhvsc.org/event/weekly-meeting-2/2025-05-22/
LOCATION:Elks Lodge\, Greenville\, 7700 Pelham Rd\, Greenville\, SC\, 29615\, United States
CATEGORIES:Weekly Event
ATTACH;FMTTYPE=image/jpeg:https://vhvsc.org/wp-content/uploads/2024/02/vets-helping-vets-greenville-weekly-meeting-featured.jpg
END:VEVENT
BEGIN:VEVENT
DTSTART;TZID=America/New_York:20250515T100000
DTEND;TZID=America/New_York:20250515T113000
DTSTAMP:20260424T154133
CREATED:20240220T235908Z
LAST-MODIFIED:20250626T132116Z
UID:10000542-1747303200-1747308600@vhvsc.org
SUMMARY:Weekly Meeting
DESCRIPTION:You are welcome to join us this Thursday morning\, 10:00 am\, at the Elks Lodge in Greenville. Thank you for considering us and helping us do great things within our local veteran community.
URL:https://vhvsc.org/event/weekly-meeting-5/2025-05-15/
LOCATION:Elks Lodge\, Greenville\, 7700 Pelham Rd\, Greenville\, SC\, 29615\, United States
CATEGORIES:Weekly Event
ATTACH;FMTTYPE=image/jpeg:https://vhvsc.org/wp-content/uploads/2024/02/vets-helping-vets-greenville-weekly-meeting-featured.jpg
END:VEVENT
BEGIN:VEVENT
DTSTART;TZID=America/New_York:20250508T183000
DTEND;TZID=America/New_York:20250508T200000
DTSTAMP:20260424T154133
CREATED:20240220T194320Z
LAST-MODIFIED:20250623T175453Z
UID:10000422-1746729000-1746734400@vhvsc.org
SUMMARY:Monthly Evening Meeting
DESCRIPTION:You are welcome to participate in our potluck at Elks Lodge Greenville on the second Thursday of every month from 6:30 p.m. to 8:00 p.m. Thank you for considering us and helping us do great things within our local veteran community.
URL:https://vhvsc.org/event/weekly-meeting/2025-05-08/
LOCATION:Elks Lodge\, Greenville\, 7700 Pelham Rd\, Greenville\, SC\, 29615\, United States
CATEGORIES:Monthly Event
ATTACH;FMTTYPE=image/jpeg:https://vhvsc.org/wp-content/uploads/2024/02/vets-helping-vets-greenville-weekly-meeting-featured.jpg
END:VEVENT
BEGIN:VEVENT
DTSTART;TZID=America/New_York:20250501T100000
DTEND;TZID=America/New_York:20250501T113000
DTSTAMP:20260424T154133
CREATED:20240220T195030Z
LAST-MODIFIED:20250623T175557Z
UID:10000361-1746093600-1746099000@vhvsc.org
SUMMARY:Weekly Meeting
DESCRIPTION:You are welcome to join us this Thursday morning\, 10:00 am\, at the Elks Lodge in Greenville. Thank you for considering us and helping us do great things within our local veteran community.
URL:https://vhvsc.org/event/weekly-meeting-4/2025-05-01/
LOCATION:Elks Lodge\, Greenville\, 7700 Pelham Rd\, Greenville\, SC\, 29615\, United States
CATEGORIES:Weekly Event
ATTACH;FMTTYPE=image/jpeg:https://vhvsc.org/wp-content/uploads/2024/02/vets-helping-vets-greenville-weekly-meeting-featured.jpg
END:VEVENT
BEGIN:VEVENT
DTSTART;TZID=America/New_York:20250424T100000
DTEND;TZID=America/New_York:20250424T113000
DTSTAMP:20260424T154133
CREATED:20240220T194818Z
LAST-MODIFIED:20250623T175718Z
UID:10000280-1745488800-1745494200@vhvsc.org
SUMMARY:Weekly Meeting
DESCRIPTION:You are welcome to join us this Thursday morning\, 10:00 am\, at the Elks Lodge in Greenville. Thank you for considering us and helping us do great things within our local veteran community.
URL:https://vhvsc.org/event/weekly-meeting-2/2025-04-24/
LOCATION:Elks Lodge\, Greenville\, 7700 Pelham Rd\, Greenville\, SC\, 29615\, United States
CATEGORIES:Weekly Event
ATTACH;FMTTYPE=image/jpeg:https://vhvsc.org/wp-content/uploads/2024/02/vets-helping-vets-greenville-weekly-meeting-featured.jpg
END:VEVENT
BEGIN:VEVENT
DTSTART;TZID=America/New_York:20250417T100000
DTEND;TZID=America/New_York:20250417T113000
DTSTAMP:20260424T154133
CREATED:20240220T235908Z
LAST-MODIFIED:20250626T132116Z
UID:10000541-1744884000-1744889400@vhvsc.org
SUMMARY:Weekly Meeting
DESCRIPTION:You are welcome to join us this Thursday morning\, 10:00 am\, at the Elks Lodge in Greenville. Thank you for considering us and helping us do great things within our local veteran community.
URL:https://vhvsc.org/event/weekly-meeting-5/2025-04-17/
LOCATION:Elks Lodge\, Greenville\, 7700 Pelham Rd\, Greenville\, SC\, 29615\, United States
CATEGORIES:Weekly Event
ATTACH;FMTTYPE=image/jpeg:https://vhvsc.org/wp-content/uploads/2024/02/vets-helping-vets-greenville-weekly-meeting-featured.jpg
END:VEVENT
BEGIN:VEVENT
DTSTART;TZID=America/New_York:20250410T183000
DTEND;TZID=America/New_York:20250410T200000
DTSTAMP:20260424T154133
CREATED:20240220T194320Z
LAST-MODIFIED:20250623T175453Z
UID:10000421-1744309800-1744315200@vhvsc.org
SUMMARY:Monthly Evening Meeting
DESCRIPTION:You are welcome to participate in our potluck at Elks Lodge Greenville on the second Thursday of every month from 6:30 p.m. to 8:00 p.m. Thank you for considering us and helping us do great things within our local veteran community.
URL:https://vhvsc.org/event/weekly-meeting/2025-04-10/
LOCATION:Elks Lodge\, Greenville\, 7700 Pelham Rd\, Greenville\, SC\, 29615\, United States
CATEGORIES:Monthly Event
ATTACH;FMTTYPE=image/jpeg:https://vhvsc.org/wp-content/uploads/2024/02/vets-helping-vets-greenville-weekly-meeting-featured.jpg
END:VEVENT
BEGIN:VEVENT
DTSTART;TZID=America/New_York:20250403T100000
DTEND;TZID=America/New_York:20250403T113000
DTSTAMP:20260424T154133
CREATED:20240220T195030Z
LAST-MODIFIED:20250623T175557Z
UID:10000360-1743674400-1743679800@vhvsc.org
SUMMARY:Weekly Meeting
DESCRIPTION:You are welcome to join us this Thursday morning\, 10:00 am\, at the Elks Lodge in Greenville. Thank you for considering us and helping us do great things within our local veteran community.
URL:https://vhvsc.org/event/weekly-meeting-4/2025-04-03/
LOCATION:Elks Lodge\, Greenville\, 7700 Pelham Rd\, Greenville\, SC\, 29615\, United States
CATEGORIES:Weekly Event
ATTACH;FMTTYPE=image/jpeg:https://vhvsc.org/wp-content/uploads/2024/02/vets-helping-vets-greenville-weekly-meeting-featured.jpg
END:VEVENT
BEGIN:VEVENT
DTSTART;TZID=America/New_York:20250327T100000
DTEND;TZID=America/New_York:20250327T113000
DTSTAMP:20260424T154133
CREATED:20240220T194818Z
LAST-MODIFIED:20250623T175718Z
UID:10000279-1743069600-1743075000@vhvsc.org
SUMMARY:Weekly Meeting
DESCRIPTION:You are welcome to join us this Thursday morning\, 10:00 am\, at the Elks Lodge in Greenville. Thank you for considering us and helping us do great things within our local veteran community.
URL:https://vhvsc.org/event/weekly-meeting-2/2025-03-27/
LOCATION:Elks Lodge\, Greenville\, 7700 Pelham Rd\, Greenville\, SC\, 29615\, United States
CATEGORIES:Weekly Event
ATTACH;FMTTYPE=image/jpeg:https://vhvsc.org/wp-content/uploads/2024/02/vets-helping-vets-greenville-weekly-meeting-featured.jpg
END:VEVENT
BEGIN:VEVENT
DTSTART;TZID=America/New_York:20250320T100000
DTEND;TZID=America/New_York:20250320T113000
DTSTAMP:20260424T154133
CREATED:20240220T235908Z
LAST-MODIFIED:20250626T132116Z
UID:10000540-1742464800-1742470200@vhvsc.org
SUMMARY:Weekly Meeting
DESCRIPTION:You are welcome to join us this Thursday morning\, 10:00 am\, at the Elks Lodge in Greenville. Thank you for considering us and helping us do great things within our local veteran community.
URL:https://vhvsc.org/event/weekly-meeting-5/2025-03-20/
LOCATION:Elks Lodge\, Greenville\, 7700 Pelham Rd\, Greenville\, SC\, 29615\, United States
CATEGORIES:Weekly Event
ATTACH;FMTTYPE=image/jpeg:https://vhvsc.org/wp-content/uploads/2024/02/vets-helping-vets-greenville-weekly-meeting-featured.jpg
END:VEVENT
BEGIN:VEVENT
DTSTART;TZID=America/New_York:20250313T183000
DTEND;TZID=America/New_York:20250313T200000
DTSTAMP:20260424T154133
CREATED:20240220T194320Z
LAST-MODIFIED:20250623T175453Z
UID:10000420-1741890600-1741896000@vhvsc.org
SUMMARY:Monthly Evening Meeting
DESCRIPTION:You are welcome to participate in our potluck at Elks Lodge Greenville on the second Thursday of every month from 6:30 p.m. to 8:00 p.m. Thank you for considering us and helping us do great things within our local veteran community.
URL:https://vhvsc.org/event/weekly-meeting/2025-03-13/
LOCATION:Elks Lodge\, Greenville\, 7700 Pelham Rd\, Greenville\, SC\, 29615\, United States
CATEGORIES:Monthly Event
ATTACH;FMTTYPE=image/jpeg:https://vhvsc.org/wp-content/uploads/2024/02/vets-helping-vets-greenville-weekly-meeting-featured.jpg
END:VEVENT
BEGIN:VEVENT
DTSTART;TZID=America/New_York:20250306T100000
DTEND;TZID=America/New_York:20250306T113000
DTSTAMP:20260424T154133
CREATED:20240220T195030Z
LAST-MODIFIED:20250623T175557Z
UID:10000359-1741255200-1741260600@vhvsc.org
SUMMARY:Weekly Meeting
DESCRIPTION:You are welcome to join us this Thursday morning\, 10:00 am\, at the Elks Lodge in Greenville. Thank you for considering us and helping us do great things within our local veteran community.
URL:https://vhvsc.org/event/weekly-meeting-4/2025-03-06/
LOCATION:Elks Lodge\, Greenville\, 7700 Pelham Rd\, Greenville\, SC\, 29615\, United States
CATEGORIES:Weekly Event
ATTACH;FMTTYPE=image/jpeg:https://vhvsc.org/wp-content/uploads/2024/02/vets-helping-vets-greenville-weekly-meeting-featured.jpg
END:VEVENT
BEGIN:VEVENT
DTSTART;TZID=America/New_York:20250227T100000
DTEND;TZID=America/New_York:20250227T113000
DTSTAMP:20260424T154133
CREATED:20240220T194818Z
LAST-MODIFIED:20250623T175718Z
UID:10000278-1740650400-1740655800@vhvsc.org
SUMMARY:Weekly Meeting
DESCRIPTION:You are welcome to join us this Thursday morning\, 10:00 am\, at the Elks Lodge in Greenville. Thank you for considering us and helping us do great things within our local veteran community.
URL:https://vhvsc.org/event/weekly-meeting-2/2025-02-27/
LOCATION:Elks Lodge\, Greenville\, 7700 Pelham Rd\, Greenville\, SC\, 29615\, United States
CATEGORIES:Weekly Event
ATTACH;FMTTYPE=image/jpeg:https://vhvsc.org/wp-content/uploads/2024/02/vets-helping-vets-greenville-weekly-meeting-featured.jpg
END:VEVENT
BEGIN:VEVENT
DTSTART;TZID=America/New_York:20250220T100000
DTEND;TZID=America/New_York:20250220T113000
DTSTAMP:20260424T154133
CREATED:20240220T235908Z
LAST-MODIFIED:20250626T132116Z
UID:10000539-1740045600-1740051000@vhvsc.org
SUMMARY:Weekly Meeting
DESCRIPTION:You are welcome to join us this Thursday morning\, 10:00 am\, at the Elks Lodge in Greenville. Thank you for considering us and helping us do great things within our local veteran community.
URL:https://vhvsc.org/event/weekly-meeting-5/2025-02-20/
LOCATION:Elks Lodge\, Greenville\, 7700 Pelham Rd\, Greenville\, SC\, 29615\, United States
CATEGORIES:Weekly Event
ATTACH;FMTTYPE=image/jpeg:https://vhvsc.org/wp-content/uploads/2024/02/vets-helping-vets-greenville-weekly-meeting-featured.jpg
END:VEVENT
BEGIN:VEVENT
DTSTART;TZID=America/New_York:20250213T183000
DTEND;TZID=America/New_York:20250213T200000
DTSTAMP:20260424T154133
CREATED:20240220T194320Z
LAST-MODIFIED:20250623T175453Z
UID:10000419-1739471400-1739476800@vhvsc.org
SUMMARY:Monthly Evening Meeting
DESCRIPTION:You are welcome to participate in our potluck at Elks Lodge Greenville on the second Thursday of every month from 6:30 p.m. to 8:00 p.m. Thank you for considering us and helping us do great things within our local veteran community.
URL:https://vhvsc.org/event/weekly-meeting/2025-02-13/
LOCATION:Elks Lodge\, Greenville\, 7700 Pelham Rd\, Greenville\, SC\, 29615\, United States
CATEGORIES:Monthly Event
ATTACH;FMTTYPE=image/jpeg:https://vhvsc.org/wp-content/uploads/2024/02/vets-helping-vets-greenville-weekly-meeting-featured.jpg
END:VEVENT
BEGIN:VEVENT
DTSTART;TZID=America/New_York:20250206T100000
DTEND;TZID=America/New_York:20250206T113000
DTSTAMP:20260424T154133
CREATED:20240220T195030Z
LAST-MODIFIED:20250623T175557Z
UID:10000358-1738836000-1738841400@vhvsc.org
SUMMARY:Weekly Meeting
DESCRIPTION:You are welcome to join us this Thursday morning\, 10:00 am\, at the Elks Lodge in Greenville. Thank you for considering us and helping us do great things within our local veteran community.
URL:https://vhvsc.org/event/weekly-meeting-4/2025-02-06/
LOCATION:Elks Lodge\, Greenville\, 7700 Pelham Rd\, Greenville\, SC\, 29615\, United States
CATEGORIES:Weekly Event
ATTACH;FMTTYPE=image/jpeg:https://vhvsc.org/wp-content/uploads/2024/02/vets-helping-vets-greenville-weekly-meeting-featured.jpg
END:VEVENT
END:VCALENDAR