BEGIN:VCALENDAR
VERSION:2.0
PRODID:-//Vets Helping Vets Greenville - ECPv6.15.20//NONSGML v1.0//EN
CALSCALE:GREGORIAN
METHOD:PUBLISH
X-WR-CALNAME:Vets Helping Vets Greenville
X-ORIGINAL-URL:https://vhvsc.org
X-WR-CALDESC:Events for Vets Helping Vets Greenville
REFRESH-INTERVAL;VALUE=DURATION:PT1H
X-Robots-Tag:noindex
X-PUBLISHED-TTL:PT1H
BEGIN:VTIMEZONE
TZID:America/New_York
BEGIN:DAYLIGHT
TZOFFSETFROM:-0500
TZOFFSETTO:-0400
TZNAME:EDT
DTSTART:20230312T070000
END:DAYLIGHT
BEGIN:STANDARD
TZOFFSETFROM:-0400
TZOFFSETTO:-0500
TZNAME:EST
DTSTART:20231105T060000
END:STANDARD
BEGIN:DAYLIGHT
TZOFFSETFROM:-0500
TZOFFSETTO:-0400
TZNAME:EDT
DTSTART:20240310T070000
END:DAYLIGHT
BEGIN:STANDARD
TZOFFSETFROM:-0400
TZOFFSETTO:-0500
TZNAME:EST
DTSTART:20241103T060000
END:STANDARD
BEGIN:DAYLIGHT
TZOFFSETFROM:-0500
TZOFFSETTO:-0400
TZNAME:EDT
DTSTART:20250309T070000
END:DAYLIGHT
BEGIN:STANDARD
TZOFFSETFROM:-0400
TZOFFSETTO:-0500
TZNAME:EST
DTSTART:20251102T060000
END:STANDARD
END:VTIMEZONE
BEGIN:VEVENT
DTSTART;TZID=America/New_York:20240606T100000
DTEND;TZID=America/New_York:20240606T113000
DTSTAMP:20260425T172548
CREATED:20240220T195030Z
LAST-MODIFIED:20250623T175557Z
UID:10000350-1717668000-1717673400@vhvsc.org
SUMMARY:Weekly Meeting
DESCRIPTION:You are welcome to join us this Thursday morning\, 10:00 am\, at the Elks Lodge in Greenville. Thank you for considering us and helping us do great things within our local veteran community.
URL:https://vhvsc.org/event/weekly-meeting-4/2024-06-06/
LOCATION:Elks Lodge\, Greenville\, 7700 Pelham Rd\, Greenville\, SC\, 29615\, United States
CATEGORIES:Weekly Event
ATTACH;FMTTYPE=image/jpeg:https://vhvsc.org/wp-content/uploads/2024/02/vets-helping-vets-greenville-weekly-meeting-featured.jpg
END:VEVENT
BEGIN:VEVENT
DTSTART;TZID=America/New_York:20240606T110000
DTEND;TZID=America/New_York:20240606T230000
DTSTAMP:20260425T172548
CREATED:20240527T125349Z
LAST-MODIFIED:20240527T130304Z
UID:10000601-1717671600-1717714800@vhvsc.org
SUMMARY:Red Robin - VHV GVL Fundraiser
DESCRIPTION:Red Robin Gourmet Burgers and Brews – 11:00 am to 11 pm. VHV GVL will receive 20% of all food and drink sold this day from all orders where you mention or show the flyer to the server you are a member of VHV GVL. Go enjoy a meal and show your support. Location: 1125 Woodruff Road\, Greenville SC. Flyer is on the Facebook page.
URL:https://vhvsc.org/event/red-robin-vhv-gvl-fundraiser/
LOCATION:South Carolina
CATEGORIES:Fundraiser
END:VEVENT
BEGIN:VEVENT
DTSTART;TZID=America/New_York:20240608T140000
DTEND;TZID=America/New_York:20240608T170000
DTSTAMP:20260425T172548
CREATED:20240527T125532Z
LAST-MODIFIED:20240527T130252Z
UID:10000602-1717855200-1717866000@vhvsc.org
SUMMARY:Flag Day Ceremony at the Greenville Elks Lodge
DESCRIPTION:858 Hosted by Elks Lodge 858 – Greenville SC. Event date – Saturday\, June 8\, 2024. – time 2:00 pm. (This event will also have a Flag Retirement Ceremony. If you have any old flags you wish to retire\, please bring and place in box in lobby of the Elks Lodge before June 8th).
URL:https://vhvsc.org/event/flag-day-ceremony-at-the-greenville-elks-lodge/
LOCATION:South Carolina
END:VEVENT
BEGIN:VEVENT
DTSTART;TZID=America/New_York:20240613T183000
DTEND;TZID=America/New_York:20240613T200000
DTSTAMP:20260425T172548
CREATED:20240220T194320Z
LAST-MODIFIED:20250623T175453Z
UID:10000411-1718303400-1718308800@vhvsc.org
SUMMARY:Monthly Evening Meeting
DESCRIPTION:You are welcome to participate in our potluck at Elks Lodge Greenville on the second Thursday of every month from 6:30 p.m. to 8:00 p.m. Thank you for considering us and helping us do great things within our local veteran community.
URL:https://vhvsc.org/event/weekly-meeting/2024-06-13/
LOCATION:Elks Lodge\, Greenville\, 7700 Pelham Rd\, Greenville\, SC\, 29615\, United States
CATEGORIES:Monthly Event
ATTACH;FMTTYPE=image/jpeg:https://vhvsc.org/wp-content/uploads/2024/02/vets-helping-vets-greenville-weekly-meeting-featured.jpg
END:VEVENT
BEGIN:VEVENT
DTSTART;TZID=America/New_York:20240615T120000
DTEND;TZID=America/New_York:20240615T180000
DTSTAMP:20260425T172548
CREATED:20240527T125646Z
LAST-MODIFIED:20240527T125648Z
UID:10000603-1718452800-1718474400@vhvsc.org
SUMMARY:Silent Auction
DESCRIPTION:Saturday\, June 15\, 12:00 pm to 6:00 pm at Warehouse at Vaughns.
URL:https://vhvsc.org/event/silent-auction/
LOCATION:South Carolina
CATEGORIES:Fundraiser
END:VEVENT
BEGIN:VEVENT
DTSTART;TZID=America/New_York:20240619T190000
DTEND;TZID=America/New_York:20240619T213000
DTSTAMP:20260425T172548
CREATED:20240612T160318Z
LAST-MODIFIED:20240709T132711Z
UID:10000609-1718823600-1718832600@vhvsc.org
SUMMARY:Harley-Davidson Bike Night
DESCRIPTION:Join us as we have a great time raising money for Greenville vets. \n\n\n\nAddress30 Chrome Dr\, Greenville\, SC
URL:https://vhvsc.org/event/harley-davidson-bike-night-2/
LOCATION:South Carolina
CATEGORIES:Fundraiser
END:VEVENT
BEGIN:VEVENT
DTSTART;TZID=America/New_York:20240620T100000
DTEND;TZID=America/New_York:20240620T113000
DTSTAMP:20260425T172548
CREATED:20240220T235908Z
LAST-MODIFIED:20250626T132116Z
UID:10000531-1718877600-1718883000@vhvsc.org
SUMMARY:Weekly Meeting
DESCRIPTION:You are welcome to join us this Thursday morning\, 10:00 am\, at the Elks Lodge in Greenville. Thank you for considering us and helping us do great things within our local veteran community.
URL:https://vhvsc.org/event/weekly-meeting-5/2024-06-20/
LOCATION:Elks Lodge\, Greenville\, 7700 Pelham Rd\, Greenville\, SC\, 29615\, United States
CATEGORIES:Weekly Event
ATTACH;FMTTYPE=image/jpeg:https://vhvsc.org/wp-content/uploads/2024/02/vets-helping-vets-greenville-weekly-meeting-featured.jpg
END:VEVENT
BEGIN:VEVENT
DTSTART;TZID=America/New_York:20240627T100000
DTEND;TZID=America/New_York:20240627T113000
DTSTAMP:20260425T172548
CREATED:20240220T194818Z
LAST-MODIFIED:20250623T175718Z
UID:10000270-1719482400-1719487800@vhvsc.org
SUMMARY:Weekly Meeting
DESCRIPTION:You are welcome to join us this Thursday morning\, 10:00 am\, at the Elks Lodge in Greenville. Thank you for considering us and helping us do great things within our local veteran community.
URL:https://vhvsc.org/event/weekly-meeting-2/2024-06-27/
LOCATION:Elks Lodge\, Greenville\, 7700 Pelham Rd\, Greenville\, SC\, 29615\, United States
CATEGORIES:Weekly Event
ATTACH;FMTTYPE=image/jpeg:https://vhvsc.org/wp-content/uploads/2024/02/vets-helping-vets-greenville-weekly-meeting-featured.jpg
END:VEVENT
BEGIN:VEVENT
DTSTART;TZID=America/New_York:20240629T180000
DTEND;TZID=America/New_York:20240629T223000
DTSTAMP:20260425T172548
CREATED:20240626T200002Z
LAST-MODIFIED:20240626T200144Z
UID:10000614-1719684000-1719700200@vhvsc.org
SUMMARY:Greer Freedom Blast
DESCRIPTION:We will be at Booth #9.
URL:https://vhvsc.org/event/greer-freedom-blast/
LOCATION:301 E. Poinsett\, Greer\, South Carolina\, United States
CATEGORIES:Fundraiser
END:VEVENT
BEGIN:VEVENT
DTSTART;TZID=America/New_York:20240630T173000
DTEND;TZID=America/New_York:20240630T220000
DTSTAMP:20260425T172548
CREATED:20240626T200440Z
LAST-MODIFIED:20240709T132703Z
UID:10000615-1719768600-1719784800@vhvsc.org
SUMMARY:Volunteer at fluor Field
DESCRIPTION:Volunteer opportunity to work at one of the concession stands at Fluor Field on 11 May. Volunteering at Fluor Field Concessions is to raise money for Vets Helping Vets. \n\n\n\nDress code\n\n\n\n\nMust wear a hat\n\n\n\nPants need to be either khakis\, dark slacks or shorts\, no blue jeans\n\n\n\nA shirt that has a military theme or a Vets Helping Vets shirt\n\n\n\nClosed toe shoes\n\n\n\n\nShow time is at 5:30 PM at the roll up door across from Shoeless Joe Jackson’s home.
URL:https://vhvsc.org/event/volunteer-at-fluor-field-8/
LOCATION:South Carolina
CATEGORIES:Fundraiser
END:VEVENT
END:VCALENDAR