BEGIN:VCALENDAR
VERSION:2.0
PRODID:-//Vets Helping Vets Greenville - ECPv6.15.20//NONSGML v1.0//EN
CALSCALE:GREGORIAN
METHOD:PUBLISH
X-WR-CALNAME:Vets Helping Vets Greenville
X-ORIGINAL-URL:https://vhvsc.org
X-WR-CALDESC:Events for Vets Helping Vets Greenville
REFRESH-INTERVAL;VALUE=DURATION:PT1H
X-Robots-Tag:noindex
X-PUBLISHED-TTL:PT1H
BEGIN:VTIMEZONE
TZID:America/New_York
BEGIN:DAYLIGHT
TZOFFSETFROM:-0500
TZOFFSETTO:-0400
TZNAME:EDT
DTSTART:20260308T070000
END:DAYLIGHT
BEGIN:STANDARD
TZOFFSETFROM:-0400
TZOFFSETTO:-0500
TZNAME:EST
DTSTART:20261101T060000
END:STANDARD
BEGIN:DAYLIGHT
TZOFFSETFROM:-0500
TZOFFSETTO:-0400
TZNAME:EDT
DTSTART:20270314T070000
END:DAYLIGHT
BEGIN:STANDARD
TZOFFSETFROM:-0400
TZOFFSETTO:-0500
TZNAME:EST
DTSTART:20271107T060000
END:STANDARD
BEGIN:DAYLIGHT
TZOFFSETFROM:-0500
TZOFFSETTO:-0400
TZNAME:EDT
DTSTART:20280312T070000
END:DAYLIGHT
BEGIN:STANDARD
TZOFFSETFROM:-0400
TZOFFSETTO:-0500
TZNAME:EST
DTSTART:20281105T060000
END:STANDARD
BEGIN:DAYLIGHT
TZOFFSETFROM:-0500
TZOFFSETTO:-0400
TZNAME:EDT
DTSTART:20290311T070000
END:DAYLIGHT
BEGIN:STANDARD
TZOFFSETFROM:-0400
TZOFFSETTO:-0500
TZNAME:EST
DTSTART:20291104T060000
END:STANDARD
END:VTIMEZONE
BEGIN:VEVENT
DTSTART;TZID=America/New_York:20271230T100000
DTEND;TZID=America/New_York:20271230T113000
DTSTAMP:20260425T073527
CREATED:20240220T194921Z
LAST-MODIFIED:20250625T115510Z
UID:10000342-1830160800-1830166200@vhvsc.org
SUMMARY:Weekly Meeting
DESCRIPTION:You are welcome to join us this Thursday morning\, 10:00 am\, at the Elks Lodge in Greenville. Thank you for considering us and helping us do great things within our local veteran community.
URL:https://vhvsc.org/event/weekly-meeting-3/2027-12-30/
LOCATION:Elks Lodge\, Greenville\, 7700 Pelham Rd\, Greenville\, SC\, 29615\, United States
CATEGORIES:Weekly Event
ATTACH;FMTTYPE=image/jpeg:https://vhvsc.org/wp-content/uploads/2024/02/vets-helping-vets-greenville-weekly-meeting-featured.jpg
END:VEVENT
BEGIN:VEVENT
DTSTART;TZID=America/New_York:20280106T100000
DTEND;TZID=America/New_York:20280106T113000
DTSTAMP:20260425T073527
CREATED:20240220T195030Z
LAST-MODIFIED:20250623T175557Z
UID:10000393-1830765600-1830771000@vhvsc.org
SUMMARY:Weekly Meeting
DESCRIPTION:You are welcome to join us this Thursday morning\, 10:00 am\, at the Elks Lodge in Greenville. Thank you for considering us and helping us do great things within our local veteran community.
URL:https://vhvsc.org/event/weekly-meeting-4/2028-01-06/
LOCATION:Elks Lodge\, Greenville\, 7700 Pelham Rd\, Greenville\, SC\, 29615\, United States
CATEGORIES:Weekly Event
ATTACH;FMTTYPE=image/jpeg:https://vhvsc.org/wp-content/uploads/2024/02/vets-helping-vets-greenville-weekly-meeting-featured.jpg
END:VEVENT
BEGIN:VEVENT
DTSTART;TZID=America/New_York:20280113T183000
DTEND;TZID=America/New_York:20280113T200000
DTSTAMP:20260425T073527
CREATED:20240220T194320Z
LAST-MODIFIED:20250623T175453Z
UID:10000454-1831401000-1831406400@vhvsc.org
SUMMARY:Monthly Evening Meeting
DESCRIPTION:You are welcome to participate in our potluck at Elks Lodge Greenville on the second Thursday of every month from 6:30 p.m. to 8:00 p.m. Thank you for considering us and helping us do great things within our local veteran community.
URL:https://vhvsc.org/event/weekly-meeting/2028-01-13/
LOCATION:Elks Lodge\, Greenville\, 7700 Pelham Rd\, Greenville\, SC\, 29615\, United States
CATEGORIES:Monthly Event
ATTACH;FMTTYPE=image/jpeg:https://vhvsc.org/wp-content/uploads/2024/02/vets-helping-vets-greenville-weekly-meeting-featured.jpg
END:VEVENT
BEGIN:VEVENT
DTSTART;TZID=America/New_York:20280120T100000
DTEND;TZID=America/New_York:20280120T113000
DTSTAMP:20260425T073527
CREATED:20240220T235908Z
LAST-MODIFIED:20250626T132116Z
UID:10000574-1831975200-1831980600@vhvsc.org
SUMMARY:Weekly Meeting
DESCRIPTION:You are welcome to join us this Thursday morning\, 10:00 am\, at the Elks Lodge in Greenville. Thank you for considering us and helping us do great things within our local veteran community.
URL:https://vhvsc.org/event/weekly-meeting-5/2028-01-20/
LOCATION:Elks Lodge\, Greenville\, 7700 Pelham Rd\, Greenville\, SC\, 29615\, United States
CATEGORIES:Weekly Event
ATTACH;FMTTYPE=image/jpeg:https://vhvsc.org/wp-content/uploads/2024/02/vets-helping-vets-greenville-weekly-meeting-featured.jpg
END:VEVENT
BEGIN:VEVENT
DTSTART;TZID=America/New_York:20280127T100000
DTEND;TZID=America/New_York:20280127T113000
DTSTAMP:20260425T073527
CREATED:20240220T194818Z
LAST-MODIFIED:20250623T175718Z
UID:10000313-1832580000-1832585400@vhvsc.org
SUMMARY:Weekly Meeting
DESCRIPTION:You are welcome to join us this Thursday morning\, 10:00 am\, at the Elks Lodge in Greenville. Thank you for considering us and helping us do great things within our local veteran community.
URL:https://vhvsc.org/event/weekly-meeting-2/2028-01-27/
LOCATION:Elks Lodge\, Greenville\, 7700 Pelham Rd\, Greenville\, SC\, 29615\, United States
CATEGORIES:Weekly Event
ATTACH;FMTTYPE=image/jpeg:https://vhvsc.org/wp-content/uploads/2024/02/vets-helping-vets-greenville-weekly-meeting-featured.jpg
END:VEVENT
BEGIN:VEVENT
DTSTART;TZID=America/New_York:20280203T100000
DTEND;TZID=America/New_York:20280203T113000
DTSTAMP:20260425T073527
CREATED:20240220T195030Z
LAST-MODIFIED:20250623T175557Z
UID:10000394-1833184800-1833190200@vhvsc.org
SUMMARY:Weekly Meeting
DESCRIPTION:You are welcome to join us this Thursday morning\, 10:00 am\, at the Elks Lodge in Greenville. Thank you for considering us and helping us do great things within our local veteran community.
URL:https://vhvsc.org/event/weekly-meeting-4/2028-02-03/
LOCATION:Elks Lodge\, Greenville\, 7700 Pelham Rd\, Greenville\, SC\, 29615\, United States
CATEGORIES:Weekly Event
ATTACH;FMTTYPE=image/jpeg:https://vhvsc.org/wp-content/uploads/2024/02/vets-helping-vets-greenville-weekly-meeting-featured.jpg
END:VEVENT
BEGIN:VEVENT
DTSTART;TZID=America/New_York:20280210T183000
DTEND;TZID=America/New_York:20280210T200000
DTSTAMP:20260425T073527
CREATED:20240220T194320Z
LAST-MODIFIED:20250623T175453Z
UID:10000455-1833820200-1833825600@vhvsc.org
SUMMARY:Monthly Evening Meeting
DESCRIPTION:You are welcome to participate in our potluck at Elks Lodge Greenville on the second Thursday of every month from 6:30 p.m. to 8:00 p.m. Thank you for considering us and helping us do great things within our local veteran community.
URL:https://vhvsc.org/event/weekly-meeting/2028-02-10/
LOCATION:Elks Lodge\, Greenville\, 7700 Pelham Rd\, Greenville\, SC\, 29615\, United States
CATEGORIES:Monthly Event
ATTACH;FMTTYPE=image/jpeg:https://vhvsc.org/wp-content/uploads/2024/02/vets-helping-vets-greenville-weekly-meeting-featured.jpg
END:VEVENT
BEGIN:VEVENT
DTSTART;TZID=America/New_York:20280217T100000
DTEND;TZID=America/New_York:20280217T113000
DTSTAMP:20260425T073527
CREATED:20240220T235908Z
LAST-MODIFIED:20250626T132116Z
UID:10000575-1834394400-1834399800@vhvsc.org
SUMMARY:Weekly Meeting
DESCRIPTION:You are welcome to join us this Thursday morning\, 10:00 am\, at the Elks Lodge in Greenville. Thank you for considering us and helping us do great things within our local veteran community.
URL:https://vhvsc.org/event/weekly-meeting-5/2028-02-17/
LOCATION:Elks Lodge\, Greenville\, 7700 Pelham Rd\, Greenville\, SC\, 29615\, United States
CATEGORIES:Weekly Event
ATTACH;FMTTYPE=image/jpeg:https://vhvsc.org/wp-content/uploads/2024/02/vets-helping-vets-greenville-weekly-meeting-featured.jpg
END:VEVENT
BEGIN:VEVENT
DTSTART;TZID=America/New_York:20280224T100000
DTEND;TZID=America/New_York:20280224T113000
DTSTAMP:20260425T073527
CREATED:20240220T194818Z
LAST-MODIFIED:20250623T175718Z
UID:10000314-1834999200-1835004600@vhvsc.org
SUMMARY:Weekly Meeting
DESCRIPTION:You are welcome to join us this Thursday morning\, 10:00 am\, at the Elks Lodge in Greenville. Thank you for considering us and helping us do great things within our local veteran community.
URL:https://vhvsc.org/event/weekly-meeting-2/2028-02-24/
LOCATION:Elks Lodge\, Greenville\, 7700 Pelham Rd\, Greenville\, SC\, 29615\, United States
CATEGORIES:Weekly Event
ATTACH;FMTTYPE=image/jpeg:https://vhvsc.org/wp-content/uploads/2024/02/vets-helping-vets-greenville-weekly-meeting-featured.jpg
END:VEVENT
BEGIN:VEVENT
DTSTART;TZID=America/New_York:20280302T100000
DTEND;TZID=America/New_York:20280302T113000
DTSTAMP:20260425T073527
CREATED:20240220T195030Z
LAST-MODIFIED:20250623T175557Z
UID:10000395-1835604000-1835609400@vhvsc.org
SUMMARY:Weekly Meeting
DESCRIPTION:You are welcome to join us this Thursday morning\, 10:00 am\, at the Elks Lodge in Greenville. Thank you for considering us and helping us do great things within our local veteran community.
URL:https://vhvsc.org/event/weekly-meeting-4/2028-03-02/
LOCATION:Elks Lodge\, Greenville\, 7700 Pelham Rd\, Greenville\, SC\, 29615\, United States
CATEGORIES:Weekly Event
ATTACH;FMTTYPE=image/jpeg:https://vhvsc.org/wp-content/uploads/2024/02/vets-helping-vets-greenville-weekly-meeting-featured.jpg
END:VEVENT
BEGIN:VEVENT
DTSTART;TZID=America/New_York:20280309T183000
DTEND;TZID=America/New_York:20280309T200000
DTSTAMP:20260425T073527
CREATED:20240220T194320Z
LAST-MODIFIED:20250623T175453Z
UID:10000456-1836239400-1836244800@vhvsc.org
SUMMARY:Monthly Evening Meeting
DESCRIPTION:You are welcome to participate in our potluck at Elks Lodge Greenville on the second Thursday of every month from 6:30 p.m. to 8:00 p.m. Thank you for considering us and helping us do great things within our local veteran community.
URL:https://vhvsc.org/event/weekly-meeting/2028-03-09/
LOCATION:Elks Lodge\, Greenville\, 7700 Pelham Rd\, Greenville\, SC\, 29615\, United States
CATEGORIES:Monthly Event
ATTACH;FMTTYPE=image/jpeg:https://vhvsc.org/wp-content/uploads/2024/02/vets-helping-vets-greenville-weekly-meeting-featured.jpg
END:VEVENT
BEGIN:VEVENT
DTSTART;TZID=America/New_York:20280316T100000
DTEND;TZID=America/New_York:20280316T113000
DTSTAMP:20260425T073527
CREATED:20240220T235908Z
LAST-MODIFIED:20250626T132116Z
UID:10000576-1836813600-1836819000@vhvsc.org
SUMMARY:Weekly Meeting
DESCRIPTION:You are welcome to join us this Thursday morning\, 10:00 am\, at the Elks Lodge in Greenville. Thank you for considering us and helping us do great things within our local veteran community.
URL:https://vhvsc.org/event/weekly-meeting-5/2028-03-16/
LOCATION:Elks Lodge\, Greenville\, 7700 Pelham Rd\, Greenville\, SC\, 29615\, United States
CATEGORIES:Weekly Event
ATTACH;FMTTYPE=image/jpeg:https://vhvsc.org/wp-content/uploads/2024/02/vets-helping-vets-greenville-weekly-meeting-featured.jpg
END:VEVENT
BEGIN:VEVENT
DTSTART;TZID=America/New_York:20280323T100000
DTEND;TZID=America/New_York:20280323T113000
DTSTAMP:20260425T073527
CREATED:20240220T194818Z
LAST-MODIFIED:20250623T175718Z
UID:10000315-1837418400-1837423800@vhvsc.org
SUMMARY:Weekly Meeting
DESCRIPTION:You are welcome to join us this Thursday morning\, 10:00 am\, at the Elks Lodge in Greenville. Thank you for considering us and helping us do great things within our local veteran community.
URL:https://vhvsc.org/event/weekly-meeting-2/2028-03-23/
LOCATION:Elks Lodge\, Greenville\, 7700 Pelham Rd\, Greenville\, SC\, 29615\, United States
CATEGORIES:Weekly Event
ATTACH;FMTTYPE=image/jpeg:https://vhvsc.org/wp-content/uploads/2024/02/vets-helping-vets-greenville-weekly-meeting-featured.jpg
END:VEVENT
BEGIN:VEVENT
DTSTART;TZID=America/New_York:20280330T100000
DTEND;TZID=America/New_York:20280330T113000
DTSTAMP:20260425T073527
CREATED:20240220T194921Z
LAST-MODIFIED:20250625T115510Z
UID:10000343-1838023200-1838028600@vhvsc.org
SUMMARY:Weekly Meeting
DESCRIPTION:You are welcome to join us this Thursday morning\, 10:00 am\, at the Elks Lodge in Greenville. Thank you for considering us and helping us do great things within our local veteran community.
URL:https://vhvsc.org/event/weekly-meeting-3/2028-03-30/
LOCATION:Elks Lodge\, Greenville\, 7700 Pelham Rd\, Greenville\, SC\, 29615\, United States
CATEGORIES:Weekly Event
ATTACH;FMTTYPE=image/jpeg:https://vhvsc.org/wp-content/uploads/2024/02/vets-helping-vets-greenville-weekly-meeting-featured.jpg
END:VEVENT
BEGIN:VEVENT
DTSTART;TZID=America/New_York:20280406T100000
DTEND;TZID=America/New_York:20280406T113000
DTSTAMP:20260425T073527
CREATED:20240220T195030Z
LAST-MODIFIED:20250623T175557Z
UID:10000396-1838628000-1838633400@vhvsc.org
SUMMARY:Weekly Meeting
DESCRIPTION:You are welcome to join us this Thursday morning\, 10:00 am\, at the Elks Lodge in Greenville. Thank you for considering us and helping us do great things within our local veteran community.
URL:https://vhvsc.org/event/weekly-meeting-4/2028-04-06/
LOCATION:Elks Lodge\, Greenville\, 7700 Pelham Rd\, Greenville\, SC\, 29615\, United States
CATEGORIES:Weekly Event
ATTACH;FMTTYPE=image/jpeg:https://vhvsc.org/wp-content/uploads/2024/02/vets-helping-vets-greenville-weekly-meeting-featured.jpg
END:VEVENT
BEGIN:VEVENT
DTSTART;TZID=America/New_York:20280413T183000
DTEND;TZID=America/New_York:20280413T200000
DTSTAMP:20260425T073527
CREATED:20240220T194320Z
LAST-MODIFIED:20250623T175453Z
UID:10000457-1839263400-1839268800@vhvsc.org
SUMMARY:Monthly Evening Meeting
DESCRIPTION:You are welcome to participate in our potluck at Elks Lodge Greenville on the second Thursday of every month from 6:30 p.m. to 8:00 p.m. Thank you for considering us and helping us do great things within our local veteran community.
URL:https://vhvsc.org/event/weekly-meeting/2028-04-13/
LOCATION:Elks Lodge\, Greenville\, 7700 Pelham Rd\, Greenville\, SC\, 29615\, United States
CATEGORIES:Monthly Event
ATTACH;FMTTYPE=image/jpeg:https://vhvsc.org/wp-content/uploads/2024/02/vets-helping-vets-greenville-weekly-meeting-featured.jpg
END:VEVENT
BEGIN:VEVENT
DTSTART;TZID=America/New_York:20280420T100000
DTEND;TZID=America/New_York:20280420T113000
DTSTAMP:20260425T073527
CREATED:20240220T235908Z
LAST-MODIFIED:20250626T132116Z
UID:10000577-1839837600-1839843000@vhvsc.org
SUMMARY:Weekly Meeting
DESCRIPTION:You are welcome to join us this Thursday morning\, 10:00 am\, at the Elks Lodge in Greenville. Thank you for considering us and helping us do great things within our local veteran community.
URL:https://vhvsc.org/event/weekly-meeting-5/2028-04-20/
LOCATION:Elks Lodge\, Greenville\, 7700 Pelham Rd\, Greenville\, SC\, 29615\, United States
CATEGORIES:Weekly Event
ATTACH;FMTTYPE=image/jpeg:https://vhvsc.org/wp-content/uploads/2024/02/vets-helping-vets-greenville-weekly-meeting-featured.jpg
END:VEVENT
BEGIN:VEVENT
DTSTART;TZID=America/New_York:20280427T100000
DTEND;TZID=America/New_York:20280427T113000
DTSTAMP:20260425T073527
CREATED:20240220T194818Z
LAST-MODIFIED:20250623T175718Z
UID:10000316-1840442400-1840447800@vhvsc.org
SUMMARY:Weekly Meeting
DESCRIPTION:You are welcome to join us this Thursday morning\, 10:00 am\, at the Elks Lodge in Greenville. Thank you for considering us and helping us do great things within our local veteran community.
URL:https://vhvsc.org/event/weekly-meeting-2/2028-04-27/
LOCATION:Elks Lodge\, Greenville\, 7700 Pelham Rd\, Greenville\, SC\, 29615\, United States
CATEGORIES:Weekly Event
ATTACH;FMTTYPE=image/jpeg:https://vhvsc.org/wp-content/uploads/2024/02/vets-helping-vets-greenville-weekly-meeting-featured.jpg
END:VEVENT
BEGIN:VEVENT
DTSTART;TZID=America/New_York:20280504T100000
DTEND;TZID=America/New_York:20280504T113000
DTSTAMP:20260425T073527
CREATED:20240220T195030Z
LAST-MODIFIED:20250623T175557Z
UID:10000397-1841047200-1841052600@vhvsc.org
SUMMARY:Weekly Meeting
DESCRIPTION:You are welcome to join us this Thursday morning\, 10:00 am\, at the Elks Lodge in Greenville. Thank you for considering us and helping us do great things within our local veteran community.
URL:https://vhvsc.org/event/weekly-meeting-4/2028-05-04/
LOCATION:Elks Lodge\, Greenville\, 7700 Pelham Rd\, Greenville\, SC\, 29615\, United States
CATEGORIES:Weekly Event
ATTACH;FMTTYPE=image/jpeg:https://vhvsc.org/wp-content/uploads/2024/02/vets-helping-vets-greenville-weekly-meeting-featured.jpg
END:VEVENT
BEGIN:VEVENT
DTSTART;TZID=America/New_York:20280511T183000
DTEND;TZID=America/New_York:20280511T200000
DTSTAMP:20260425T073527
CREATED:20240220T194320Z
LAST-MODIFIED:20250623T175453Z
UID:10000458-1841682600-1841688000@vhvsc.org
SUMMARY:Monthly Evening Meeting
DESCRIPTION:You are welcome to participate in our potluck at Elks Lodge Greenville on the second Thursday of every month from 6:30 p.m. to 8:00 p.m. Thank you for considering us and helping us do great things within our local veteran community.
URL:https://vhvsc.org/event/weekly-meeting/2028-05-11/
LOCATION:Elks Lodge\, Greenville\, 7700 Pelham Rd\, Greenville\, SC\, 29615\, United States
CATEGORIES:Monthly Event
ATTACH;FMTTYPE=image/jpeg:https://vhvsc.org/wp-content/uploads/2024/02/vets-helping-vets-greenville-weekly-meeting-featured.jpg
END:VEVENT
BEGIN:VEVENT
DTSTART;TZID=America/New_York:20280518T100000
DTEND;TZID=America/New_York:20280518T113000
DTSTAMP:20260425T073527
CREATED:20240220T235908Z
LAST-MODIFIED:20250626T132116Z
UID:10000578-1842256800-1842262200@vhvsc.org
SUMMARY:Weekly Meeting
DESCRIPTION:You are welcome to join us this Thursday morning\, 10:00 am\, at the Elks Lodge in Greenville. Thank you for considering us and helping us do great things within our local veteran community.
URL:https://vhvsc.org/event/weekly-meeting-5/2028-05-18/
LOCATION:Elks Lodge\, Greenville\, 7700 Pelham Rd\, Greenville\, SC\, 29615\, United States
CATEGORIES:Weekly Event
ATTACH;FMTTYPE=image/jpeg:https://vhvsc.org/wp-content/uploads/2024/02/vets-helping-vets-greenville-weekly-meeting-featured.jpg
END:VEVENT
BEGIN:VEVENT
DTSTART;TZID=America/New_York:20280525T100000
DTEND;TZID=America/New_York:20280525T113000
DTSTAMP:20260425T073527
CREATED:20240220T194818Z
LAST-MODIFIED:20250623T175718Z
UID:10000317-1842861600-1842867000@vhvsc.org
SUMMARY:Weekly Meeting
DESCRIPTION:You are welcome to join us this Thursday morning\, 10:00 am\, at the Elks Lodge in Greenville. Thank you for considering us and helping us do great things within our local veteran community.
URL:https://vhvsc.org/event/weekly-meeting-2/2028-05-25/
LOCATION:Elks Lodge\, Greenville\, 7700 Pelham Rd\, Greenville\, SC\, 29615\, United States
CATEGORIES:Weekly Event
ATTACH;FMTTYPE=image/jpeg:https://vhvsc.org/wp-content/uploads/2024/02/vets-helping-vets-greenville-weekly-meeting-featured.jpg
END:VEVENT
BEGIN:VEVENT
DTSTART;TZID=America/New_York:20280601T100000
DTEND;TZID=America/New_York:20280601T113000
DTSTAMP:20260425T073527
CREATED:20240220T195030Z
LAST-MODIFIED:20250623T175557Z
UID:10000398-1843466400-1843471800@vhvsc.org
SUMMARY:Weekly Meeting
DESCRIPTION:You are welcome to join us this Thursday morning\, 10:00 am\, at the Elks Lodge in Greenville. Thank you for considering us and helping us do great things within our local veteran community.
URL:https://vhvsc.org/event/weekly-meeting-4/2028-06-01/
LOCATION:Elks Lodge\, Greenville\, 7700 Pelham Rd\, Greenville\, SC\, 29615\, United States
CATEGORIES:Weekly Event
ATTACH;FMTTYPE=image/jpeg:https://vhvsc.org/wp-content/uploads/2024/02/vets-helping-vets-greenville-weekly-meeting-featured.jpg
END:VEVENT
BEGIN:VEVENT
DTSTART;TZID=America/New_York:20280608T183000
DTEND;TZID=America/New_York:20280608T200000
DTSTAMP:20260425T073527
CREATED:20240220T194320Z
LAST-MODIFIED:20250623T175453Z
UID:10000459-1844101800-1844107200@vhvsc.org
SUMMARY:Monthly Evening Meeting
DESCRIPTION:You are welcome to participate in our potluck at Elks Lodge Greenville on the second Thursday of every month from 6:30 p.m. to 8:00 p.m. Thank you for considering us and helping us do great things within our local veteran community.
URL:https://vhvsc.org/event/weekly-meeting/2028-06-08/
LOCATION:Elks Lodge\, Greenville\, 7700 Pelham Rd\, Greenville\, SC\, 29615\, United States
CATEGORIES:Monthly Event
ATTACH;FMTTYPE=image/jpeg:https://vhvsc.org/wp-content/uploads/2024/02/vets-helping-vets-greenville-weekly-meeting-featured.jpg
END:VEVENT
BEGIN:VEVENT
DTSTART;TZID=America/New_York:20280615T100000
DTEND;TZID=America/New_York:20280615T113000
DTSTAMP:20260425T073527
CREATED:20240220T235908Z
LAST-MODIFIED:20250626T132116Z
UID:10000579-1844676000-1844681400@vhvsc.org
SUMMARY:Weekly Meeting
DESCRIPTION:You are welcome to join us this Thursday morning\, 10:00 am\, at the Elks Lodge in Greenville. Thank you for considering us and helping us do great things within our local veteran community.
URL:https://vhvsc.org/event/weekly-meeting-5/2028-06-15/
LOCATION:Elks Lodge\, Greenville\, 7700 Pelham Rd\, Greenville\, SC\, 29615\, United States
CATEGORIES:Weekly Event
ATTACH;FMTTYPE=image/jpeg:https://vhvsc.org/wp-content/uploads/2024/02/vets-helping-vets-greenville-weekly-meeting-featured.jpg
END:VEVENT
BEGIN:VEVENT
DTSTART;TZID=America/New_York:20280622T100000
DTEND;TZID=America/New_York:20280622T113000
DTSTAMP:20260425T073527
CREATED:20240220T194818Z
LAST-MODIFIED:20250623T175718Z
UID:10000318-1845280800-1845286200@vhvsc.org
SUMMARY:Weekly Meeting
DESCRIPTION:You are welcome to join us this Thursday morning\, 10:00 am\, at the Elks Lodge in Greenville. Thank you for considering us and helping us do great things within our local veteran community.
URL:https://vhvsc.org/event/weekly-meeting-2/2028-06-22/
LOCATION:Elks Lodge\, Greenville\, 7700 Pelham Rd\, Greenville\, SC\, 29615\, United States
CATEGORIES:Weekly Event
ATTACH;FMTTYPE=image/jpeg:https://vhvsc.org/wp-content/uploads/2024/02/vets-helping-vets-greenville-weekly-meeting-featured.jpg
END:VEVENT
BEGIN:VEVENT
DTSTART;TZID=America/New_York:20280629T100000
DTEND;TZID=America/New_York:20280629T113000
DTSTAMP:20260425T073527
CREATED:20240220T194921Z
LAST-MODIFIED:20250625T115510Z
UID:10000344-1845885600-1845891000@vhvsc.org
SUMMARY:Weekly Meeting
DESCRIPTION:You are welcome to join us this Thursday morning\, 10:00 am\, at the Elks Lodge in Greenville. Thank you for considering us and helping us do great things within our local veteran community.
URL:https://vhvsc.org/event/weekly-meeting-3/2028-06-29/
LOCATION:Elks Lodge\, Greenville\, 7700 Pelham Rd\, Greenville\, SC\, 29615\, United States
CATEGORIES:Weekly Event
ATTACH;FMTTYPE=image/jpeg:https://vhvsc.org/wp-content/uploads/2024/02/vets-helping-vets-greenville-weekly-meeting-featured.jpg
END:VEVENT
BEGIN:VEVENT
DTSTART;TZID=America/New_York:20280706T100000
DTEND;TZID=America/New_York:20280706T113000
DTSTAMP:20260425T073527
CREATED:20240220T195030Z
LAST-MODIFIED:20250623T175557Z
UID:10000399-1846490400-1846495800@vhvsc.org
SUMMARY:Weekly Meeting
DESCRIPTION:You are welcome to join us this Thursday morning\, 10:00 am\, at the Elks Lodge in Greenville. Thank you for considering us and helping us do great things within our local veteran community.
URL:https://vhvsc.org/event/weekly-meeting-4/2028-07-06/
LOCATION:Elks Lodge\, Greenville\, 7700 Pelham Rd\, Greenville\, SC\, 29615\, United States
CATEGORIES:Weekly Event
ATTACH;FMTTYPE=image/jpeg:https://vhvsc.org/wp-content/uploads/2024/02/vets-helping-vets-greenville-weekly-meeting-featured.jpg
END:VEVENT
BEGIN:VEVENT
DTSTART;TZID=America/New_York:20280713T183000
DTEND;TZID=America/New_York:20280713T200000
DTSTAMP:20260425T073527
CREATED:20240220T194320Z
LAST-MODIFIED:20250623T175453Z
UID:10000460-1847125800-1847131200@vhvsc.org
SUMMARY:Monthly Evening Meeting
DESCRIPTION:You are welcome to participate in our potluck at Elks Lodge Greenville on the second Thursday of every month from 6:30 p.m. to 8:00 p.m. Thank you for considering us and helping us do great things within our local veteran community.
URL:https://vhvsc.org/event/weekly-meeting/2028-07-13/
LOCATION:Elks Lodge\, Greenville\, 7700 Pelham Rd\, Greenville\, SC\, 29615\, United States
CATEGORIES:Monthly Event
ATTACH;FMTTYPE=image/jpeg:https://vhvsc.org/wp-content/uploads/2024/02/vets-helping-vets-greenville-weekly-meeting-featured.jpg
END:VEVENT
BEGIN:VEVENT
DTSTART;TZID=America/New_York:20280720T100000
DTEND;TZID=America/New_York:20280720T113000
DTSTAMP:20260425T073527
CREATED:20240220T235908Z
LAST-MODIFIED:20250626T132116Z
UID:10000580-1847700000-1847705400@vhvsc.org
SUMMARY:Weekly Meeting
DESCRIPTION:You are welcome to join us this Thursday morning\, 10:00 am\, at the Elks Lodge in Greenville. Thank you for considering us and helping us do great things within our local veteran community.
URL:https://vhvsc.org/event/weekly-meeting-5/2028-07-20/
LOCATION:Elks Lodge\, Greenville\, 7700 Pelham Rd\, Greenville\, SC\, 29615\, United States
CATEGORIES:Weekly Event
ATTACH;FMTTYPE=image/jpeg:https://vhvsc.org/wp-content/uploads/2024/02/vets-helping-vets-greenville-weekly-meeting-featured.jpg
END:VEVENT
END:VCALENDAR