BEGIN:VCALENDAR
VERSION:2.0
PRODID:-//Vets Helping Vets Greenville - ECPv6.15.20//NONSGML v1.0//EN
CALSCALE:GREGORIAN
METHOD:PUBLISH
X-WR-CALNAME:Vets Helping Vets Greenville
X-ORIGINAL-URL:https://vhvsc.org
X-WR-CALDESC:Events for Vets Helping Vets Greenville
REFRESH-INTERVAL;VALUE=DURATION:PT1H
X-Robots-Tag:noindex
X-PUBLISHED-TTL:PT1H
BEGIN:VTIMEZONE
TZID:America/New_York
BEGIN:DAYLIGHT
TZOFFSETFROM:-0500
TZOFFSETTO:-0400
TZNAME:EDT
DTSTART:20250309T070000
END:DAYLIGHT
BEGIN:STANDARD
TZOFFSETFROM:-0400
TZOFFSETTO:-0500
TZNAME:EST
DTSTART:20251102T060000
END:STANDARD
BEGIN:DAYLIGHT
TZOFFSETFROM:-0500
TZOFFSETTO:-0400
TZNAME:EDT
DTSTART:20260308T070000
END:DAYLIGHT
BEGIN:STANDARD
TZOFFSETFROM:-0400
TZOFFSETTO:-0500
TZNAME:EST
DTSTART:20261101T060000
END:STANDARD
BEGIN:DAYLIGHT
TZOFFSETFROM:-0500
TZOFFSETTO:-0400
TZNAME:EDT
DTSTART:20270314T070000
END:DAYLIGHT
BEGIN:STANDARD
TZOFFSETFROM:-0400
TZOFFSETTO:-0500
TZNAME:EST
DTSTART:20271107T060000
END:STANDARD
END:VTIMEZONE
BEGIN:VEVENT
DTSTART;TZID=America/New_York:20260109T190000
DTEND;TZID=America/New_York:20260109T203000
DTSTAMP:20260425T084108
CREATED:20251106T192350Z
LAST-MODIFIED:20251106T192352Z
UID:10000735-1767985200-1767990600@vhvsc.org
SUMMARY:Monthly Visitation Meeting
DESCRIPTION:You are welcome to join us Friday evening\, 7:00 pm\, at the Legacy Reserve at Fairview Park\, 544 Harrison Bridge Road\, Simpsonville as we socialize with veteran residents. Thank you for helping us do great things within our local veteran community.
URL:https://vhvsc.org/event/monthly-visitation-meeting-3/2026-01-09/
LOCATION:Legacy Reserve at Fairview Park\, 538 Harrison Bridge Road\, Simpsonville\, South Carolina\, United States
ATTACH;FMTTYPE=image/png:https://vhvsc.org/wp-content/uploads/2025/11/Vets-Helping-Vets-Monthly-Visitation-Meeting.png
END:VEVENT
BEGIN:VEVENT
DTSTART;TZID=America/New_York:20260115T183000
DTEND;TZID=America/New_York:20260115T200000
DTSTAMP:20260425T084108
CREATED:20251219T170149Z
LAST-MODIFIED:20251219T170447Z
UID:10000550-1768501800-1768507200@vhvsc.org
SUMMARY:Weekly Meeting
DESCRIPTION:You are welcome to participate in our potluck at Elks Lodge Greenville from 6:30 p.m. to 8:00 p.m. Thank you for considering us and helping us do great things within our local veteran community.
URL:https://vhvsc.org/event/weekly-meeting-9/
LOCATION:Elks Lodge\, Greenville\, 7700 Pelham Rd\, Greenville\, SC\, 29615\, United States
CATEGORIES:Weekly Event
ATTACH;FMTTYPE=image/jpeg:https://vhvsc.org/wp-content/uploads/2024/02/vets-helping-vets-greenville-weekly-meeting-featured.jpg
END:VEVENT
BEGIN:VEVENT
DTSTART;TZID=America/New_York:20260122T100000
DTEND;TZID=America/New_York:20260122T113000
DTSTAMP:20260425T084108
CREATED:20240220T194818Z
LAST-MODIFIED:20250623T175718Z
UID:10000289-1769076000-1769081400@vhvsc.org
SUMMARY:Weekly Meeting
DESCRIPTION:You are welcome to join us this Thursday morning\, 10:00 am\, at the Elks Lodge in Greenville. Thank you for considering us and helping us do great things within our local veteran community.
URL:https://vhvsc.org/event/weekly-meeting-2/2026-01-22/
LOCATION:Elks Lodge\, Greenville\, 7700 Pelham Rd\, Greenville\, SC\, 29615\, United States
CATEGORIES:Weekly Event
ATTACH;FMTTYPE=image/jpeg:https://vhvsc.org/wp-content/uploads/2024/02/vets-helping-vets-greenville-weekly-meeting-featured.jpg
END:VEVENT
BEGIN:VEVENT
DTSTART;TZID=America/New_York:20260127T140000
DTEND;TZID=America/New_York:20260127T153000
DTSTAMP:20260425T084108
CREATED:20251106T192739Z
LAST-MODIFIED:20251106T192742Z
UID:10000740-1769522400-1769527800@vhvsc.org
SUMMARY:Monthly Visitation Meeting
DESCRIPTION:You are welcome to join us Tuesday afternoon\, 2:00 pm\, at Laurens Memorial Home for the Aged\, 3744 Torrington Road\, Laurens as we socialize with veteran residents. Thank you for helping us do great things within our local veteran community.
URL:https://vhvsc.org/event/monthly-visitation-meeting-4/2026-01-27/
LOCATION:Laurens Memorial Home for the Aged\, 3744 Torrington Road\, Laurens\, South Carolina\, United States
ATTACH;FMTTYPE=image/jpeg:https://vhvsc.org/wp-content/uploads/2025/11/vets-helping-vets-monthly-visitation-fourth-tuesday.jpg
END:VEVENT
BEGIN:VEVENT
DTSTART;TZID=America/New_York:20260129T100000
DTEND;TZID=America/New_York:20260129T113000
DTSTAMP:20260425T084108
CREATED:20260128T164553Z
LAST-MODIFIED:20260128T164554Z
UID:10000334-1769680800-1769686200@vhvsc.org
SUMMARY:Weekly Meeting
DESCRIPTION:THIS MEETING HAS BEEN CANCELLED DUE TO WEATHER. \n\n\n\nYou are welcome to join us this Thursday morning\, 10:00 am\, at the Elks Lodge in Greenville. Thank you for considering us and helping us do great things within our local veteran community.
URL:https://vhvsc.org/event/weekly-meeting-10/
LOCATION:Elks Lodge\, Greenville\, 7700 Pelham Rd\, Greenville\, SC\, 29615\, United States
CATEGORIES:Weekly Event
ATTACH;FMTTYPE=image/jpeg:https://vhvsc.org/wp-content/uploads/2024/02/vets-helping-vets-greenville-weekly-meeting-featured.jpg
END:VEVENT
BEGIN:VEVENT
DTSTART;TZID=America/New_York:20260202T093000
DTEND;TZID=America/New_York:20260202T110000
DTSTAMP:20260425T084108
CREATED:20251106T191541Z
LAST-MODIFIED:20251106T191605Z
UID:10000726-1770024600-1770030000@vhvsc.org
SUMMARY:Monthly Visitation Meeting
DESCRIPTION:You are welcome to join us Monday morning\, 9:30 am\, at the Legacy Reserve at Fairview Park\, 538 Harrison Bridge Road\, Simpsonville as we socialize with veteran residents. Thank you for helping us do great things within our local veteran community.
URL:https://vhvsc.org/event/monthly-visitation-meeting/2026-02-02/
LOCATION:Legacy Reserve at Fairview Park\, 538 Harrison Bridge Road\, Simpsonville\, South Carolina\, United States
ATTACH;FMTTYPE=image/png:https://vhvsc.org/wp-content/uploads/2025/11/Vets-Helping-Vets-Monthly-Visitation-Meeting.png
END:VEVENT
BEGIN:VEVENT
DTSTART;TZID=America/New_York:20260205T100000
DTEND;TZID=America/New_York:20260205T113000
DTSTAMP:20260425T084108
CREATED:20240220T195030Z
LAST-MODIFIED:20250623T175557Z
UID:10000370-1770285600-1770291000@vhvsc.org
SUMMARY:Weekly Meeting
DESCRIPTION:You are welcome to join us this Thursday morning\, 10:00 am\, at the Elks Lodge in Greenville. Thank you for considering us and helping us do great things within our local veteran community.
URL:https://vhvsc.org/event/weekly-meeting-4/2026-02-05/
LOCATION:Elks Lodge\, Greenville\, 7700 Pelham Rd\, Greenville\, SC\, 29615\, United States
CATEGORIES:Weekly Event
ATTACH;FMTTYPE=image/jpeg:https://vhvsc.org/wp-content/uploads/2024/02/vets-helping-vets-greenville-weekly-meeting-featured.jpg
END:VEVENT
BEGIN:VEVENT
DTSTART;TZID=America/New_York:20260206T143000
DTEND;TZID=America/New_York:20260206T160000
DTSTAMP:20260425T084108
CREATED:20251106T192111Z
LAST-MODIFIED:20251106T192114Z
UID:10000731-1770388200-1770393600@vhvsc.org
SUMMARY:Monthly Visitation Meeting
DESCRIPTION:You are welcome to join us Friday afternoon\, 2:30 pm\, at The Residences at Greer\, 715 South Buncombe Road\, Greer as we socialize with veteran residents. Thank you for helping us do great things within our local veteran community.
URL:https://vhvsc.org/event/monthly-visitation-meeting-2/2026-02-06/
LOCATION:The Residences at Greer\, 715 South Buncombe Road\, Greer\, South Carolina\, United States
ATTACH;FMTTYPE=image/jpeg:https://vhvsc.org/wp-content/uploads/2025/11/vets-helping-vets-monthly-visitation-first-friday.jpg
END:VEVENT
BEGIN:VEVENT
DTSTART;TZID=America/New_York:20260212T183000
DTEND;TZID=America/New_York:20260212T200000
DTSTAMP:20260425T084108
CREATED:20240220T194320Z
LAST-MODIFIED:20250623T175453Z
UID:10000431-1770921000-1770926400@vhvsc.org
SUMMARY:Monthly Evening Meeting
DESCRIPTION:You are welcome to participate in our potluck at Elks Lodge Greenville on the second Thursday of every month from 6:30 p.m. to 8:00 p.m. Thank you for considering us and helping us do great things within our local veteran community.
URL:https://vhvsc.org/event/weekly-meeting/2026-02-12/
LOCATION:Elks Lodge\, Greenville\, 7700 Pelham Rd\, Greenville\, SC\, 29615\, United States
CATEGORIES:Monthly Event
ATTACH;FMTTYPE=image/jpeg:https://vhvsc.org/wp-content/uploads/2024/02/vets-helping-vets-greenville-weekly-meeting-featured.jpg
END:VEVENT
BEGIN:VEVENT
DTSTART;TZID=America/New_York:20260213T190000
DTEND;TZID=America/New_York:20260213T203000
DTSTAMP:20260425T084108
CREATED:20251106T192350Z
LAST-MODIFIED:20251106T192352Z
UID:10000736-1771009200-1771014600@vhvsc.org
SUMMARY:Monthly Visitation Meeting
DESCRIPTION:You are welcome to join us Friday evening\, 7:00 pm\, at the Legacy Reserve at Fairview Park\, 544 Harrison Bridge Road\, Simpsonville as we socialize with veteran residents. Thank you for helping us do great things within our local veteran community.
URL:https://vhvsc.org/event/monthly-visitation-meeting-3/2026-02-13/
LOCATION:Legacy Reserve at Fairview Park\, 538 Harrison Bridge Road\, Simpsonville\, South Carolina\, United States
ATTACH;FMTTYPE=image/png:https://vhvsc.org/wp-content/uploads/2025/11/Vets-Helping-Vets-Monthly-Visitation-Meeting.png
END:VEVENT
BEGIN:VEVENT
DTSTART;TZID=America/New_York:20260219T100000
DTEND;TZID=America/New_York:20260219T113000
DTSTAMP:20260425T084108
CREATED:20240220T235908Z
LAST-MODIFIED:20250626T132116Z
UID:10000551-1771495200-1771500600@vhvsc.org
SUMMARY:Weekly Meeting
DESCRIPTION:You are welcome to join us this Thursday morning\, 10:00 am\, at the Elks Lodge in Greenville. Thank you for considering us and helping us do great things within our local veteran community.
URL:https://vhvsc.org/event/weekly-meeting-5/2026-02-19/
LOCATION:Elks Lodge\, Greenville\, 7700 Pelham Rd\, Greenville\, SC\, 29615\, United States
CATEGORIES:Weekly Event
ATTACH;FMTTYPE=image/jpeg:https://vhvsc.org/wp-content/uploads/2024/02/vets-helping-vets-greenville-weekly-meeting-featured.jpg
END:VEVENT
BEGIN:VEVENT
DTSTART;TZID=America/New_York:20260224T140000
DTEND;TZID=America/New_York:20260224T153000
DTSTAMP:20260425T084108
CREATED:20251106T192739Z
LAST-MODIFIED:20251106T192742Z
UID:10000741-1771941600-1771947000@vhvsc.org
SUMMARY:Monthly Visitation Meeting
DESCRIPTION:You are welcome to join us Tuesday afternoon\, 2:00 pm\, at Laurens Memorial Home for the Aged\, 3744 Torrington Road\, Laurens as we socialize with veteran residents. Thank you for helping us do great things within our local veteran community.
URL:https://vhvsc.org/event/monthly-visitation-meeting-4/2026-02-24/
LOCATION:Laurens Memorial Home for the Aged\, 3744 Torrington Road\, Laurens\, South Carolina\, United States
ATTACH;FMTTYPE=image/jpeg:https://vhvsc.org/wp-content/uploads/2025/11/vets-helping-vets-monthly-visitation-fourth-tuesday.jpg
END:VEVENT
BEGIN:VEVENT
DTSTART;TZID=America/New_York:20260226T100000
DTEND;TZID=America/New_York:20260226T113000
DTSTAMP:20260425T084108
CREATED:20240220T194818Z
LAST-MODIFIED:20250623T175718Z
UID:10000290-1772100000-1772105400@vhvsc.org
SUMMARY:Weekly Meeting
DESCRIPTION:You are welcome to join us this Thursday morning\, 10:00 am\, at the Elks Lodge in Greenville. Thank you for considering us and helping us do great things within our local veteran community.
URL:https://vhvsc.org/event/weekly-meeting-2/2026-02-26/
LOCATION:Elks Lodge\, Greenville\, 7700 Pelham Rd\, Greenville\, SC\, 29615\, United States
CATEGORIES:Weekly Event
ATTACH;FMTTYPE=image/jpeg:https://vhvsc.org/wp-content/uploads/2024/02/vets-helping-vets-greenville-weekly-meeting-featured.jpg
END:VEVENT
BEGIN:VEVENT
DTSTART;TZID=America/New_York:20260302T093000
DTEND;TZID=America/New_York:20260302T110000
DTSTAMP:20260425T084108
CREATED:20251106T191541Z
LAST-MODIFIED:20251106T191605Z
UID:10000727-1772443800-1772449200@vhvsc.org
SUMMARY:Monthly Visitation Meeting
DESCRIPTION:You are welcome to join us Monday morning\, 9:30 am\, at the Legacy Reserve at Fairview Park\, 538 Harrison Bridge Road\, Simpsonville as we socialize with veteran residents. Thank you for helping us do great things within our local veteran community.
URL:https://vhvsc.org/event/monthly-visitation-meeting/2026-03-02/
LOCATION:Legacy Reserve at Fairview Park\, 538 Harrison Bridge Road\, Simpsonville\, South Carolina\, United States
ATTACH;FMTTYPE=image/png:https://vhvsc.org/wp-content/uploads/2025/11/Vets-Helping-Vets-Monthly-Visitation-Meeting.png
END:VEVENT
BEGIN:VEVENT
DTSTART;TZID=America/New_York:20260305T100000
DTEND;TZID=America/New_York:20260305T113000
DTSTAMP:20260425T084108
CREATED:20240220T195030Z
LAST-MODIFIED:20250623T175557Z
UID:10000371-1772704800-1772710200@vhvsc.org
SUMMARY:Weekly Meeting
DESCRIPTION:You are welcome to join us this Thursday morning\, 10:00 am\, at the Elks Lodge in Greenville. Thank you for considering us and helping us do great things within our local veteran community.
URL:https://vhvsc.org/event/weekly-meeting-4/2026-03-05/
LOCATION:Elks Lodge\, Greenville\, 7700 Pelham Rd\, Greenville\, SC\, 29615\, United States
CATEGORIES:Weekly Event
ATTACH;FMTTYPE=image/jpeg:https://vhvsc.org/wp-content/uploads/2024/02/vets-helping-vets-greenville-weekly-meeting-featured.jpg
END:VEVENT
BEGIN:VEVENT
DTSTART;TZID=America/New_York:20260306T143000
DTEND;TZID=America/New_York:20260306T160000
DTSTAMP:20260425T084108
CREATED:20251106T192111Z
LAST-MODIFIED:20251106T192114Z
UID:10000732-1772807400-1772812800@vhvsc.org
SUMMARY:Monthly Visitation Meeting
DESCRIPTION:You are welcome to join us Friday afternoon\, 2:30 pm\, at The Residences at Greer\, 715 South Buncombe Road\, Greer as we socialize with veteran residents. Thank you for helping us do great things within our local veteran community.
URL:https://vhvsc.org/event/monthly-visitation-meeting-2/2026-03-06/
LOCATION:The Residences at Greer\, 715 South Buncombe Road\, Greer\, South Carolina\, United States
ATTACH;FMTTYPE=image/jpeg:https://vhvsc.org/wp-content/uploads/2025/11/vets-helping-vets-monthly-visitation-first-friday.jpg
END:VEVENT
BEGIN:VEVENT
DTSTART;TZID=America/New_York:20260312T183000
DTEND;TZID=America/New_York:20260312T200000
DTSTAMP:20260425T084108
CREATED:20240220T194320Z
LAST-MODIFIED:20250623T175453Z
UID:10000432-1773340200-1773345600@vhvsc.org
SUMMARY:Monthly Evening Meeting
DESCRIPTION:You are welcome to participate in our potluck at Elks Lodge Greenville on the second Thursday of every month from 6:30 p.m. to 8:00 p.m. Thank you for considering us and helping us do great things within our local veteran community.
URL:https://vhvsc.org/event/weekly-meeting/2026-03-12/
LOCATION:Elks Lodge\, Greenville\, 7700 Pelham Rd\, Greenville\, SC\, 29615\, United States
CATEGORIES:Monthly Event
ATTACH;FMTTYPE=image/jpeg:https://vhvsc.org/wp-content/uploads/2024/02/vets-helping-vets-greenville-weekly-meeting-featured.jpg
END:VEVENT
BEGIN:VEVENT
DTSTART;TZID=America/New_York:20260313T190000
DTEND;TZID=America/New_York:20260313T203000
DTSTAMP:20260425T084108
CREATED:20251106T192350Z
LAST-MODIFIED:20251106T192352Z
UID:10000737-1773428400-1773433800@vhvsc.org
SUMMARY:Monthly Visitation Meeting
DESCRIPTION:You are welcome to join us Friday evening\, 7:00 pm\, at the Legacy Reserve at Fairview Park\, 544 Harrison Bridge Road\, Simpsonville as we socialize with veteran residents. Thank you for helping us do great things within our local veteran community.
URL:https://vhvsc.org/event/monthly-visitation-meeting-3/2026-03-13/
LOCATION:Legacy Reserve at Fairview Park\, 538 Harrison Bridge Road\, Simpsonville\, South Carolina\, United States
ATTACH;FMTTYPE=image/png:https://vhvsc.org/wp-content/uploads/2025/11/Vets-Helping-Vets-Monthly-Visitation-Meeting.png
END:VEVENT
BEGIN:VEVENT
DTSTART;TZID=America/New_York:20260319T100000
DTEND;TZID=America/New_York:20260319T113000
DTSTAMP:20260425T084108
CREATED:20240220T235908Z
LAST-MODIFIED:20250626T132116Z
UID:10000552-1773914400-1773919800@vhvsc.org
SUMMARY:Weekly Meeting
DESCRIPTION:You are welcome to join us this Thursday morning\, 10:00 am\, at the Elks Lodge in Greenville. Thank you for considering us and helping us do great things within our local veteran community.
URL:https://vhvsc.org/event/weekly-meeting-5/2026-03-19/
LOCATION:Elks Lodge\, Greenville\, 7700 Pelham Rd\, Greenville\, SC\, 29615\, United States
CATEGORIES:Weekly Event
ATTACH;FMTTYPE=image/jpeg:https://vhvsc.org/wp-content/uploads/2024/02/vets-helping-vets-greenville-weekly-meeting-featured.jpg
END:VEVENT
BEGIN:VEVENT
DTSTART;TZID=America/New_York:20260324T140000
DTEND;TZID=America/New_York:20260324T153000
DTSTAMP:20260425T084108
CREATED:20251106T192739Z
LAST-MODIFIED:20251106T192742Z
UID:10000742-1774360800-1774366200@vhvsc.org
SUMMARY:Monthly Visitation Meeting
DESCRIPTION:You are welcome to join us Tuesday afternoon\, 2:00 pm\, at Laurens Memorial Home for the Aged\, 3744 Torrington Road\, Laurens as we socialize with veteran residents. Thank you for helping us do great things within our local veteran community.
URL:https://vhvsc.org/event/monthly-visitation-meeting-4/2026-03-24/
LOCATION:Laurens Memorial Home for the Aged\, 3744 Torrington Road\, Laurens\, South Carolina\, United States
ATTACH;FMTTYPE=image/jpeg:https://vhvsc.org/wp-content/uploads/2025/11/vets-helping-vets-monthly-visitation-fourth-tuesday.jpg
END:VEVENT
BEGIN:VEVENT
DTSTART;TZID=America/New_York:20260326T100000
DTEND;TZID=America/New_York:20260326T113000
DTSTAMP:20260425T084108
CREATED:20240220T194818Z
LAST-MODIFIED:20250623T175718Z
UID:10000291-1774519200-1774524600@vhvsc.org
SUMMARY:Weekly Meeting
DESCRIPTION:You are welcome to join us this Thursday morning\, 10:00 am\, at the Elks Lodge in Greenville. Thank you for considering us and helping us do great things within our local veteran community.
URL:https://vhvsc.org/event/weekly-meeting-2/2026-03-26/
LOCATION:Elks Lodge\, Greenville\, 7700 Pelham Rd\, Greenville\, SC\, 29615\, United States
CATEGORIES:Weekly Event
ATTACH;FMTTYPE=image/jpeg:https://vhvsc.org/wp-content/uploads/2024/02/vets-helping-vets-greenville-weekly-meeting-featured.jpg
END:VEVENT
BEGIN:VEVENT
DTSTART;TZID=America/New_York:20260402T100000
DTEND;TZID=America/New_York:20260402T113000
DTSTAMP:20260425T084108
CREATED:20240220T195030Z
LAST-MODIFIED:20250623T175557Z
UID:10000372-1775124000-1775129400@vhvsc.org
SUMMARY:Weekly Meeting
DESCRIPTION:You are welcome to join us this Thursday morning\, 10:00 am\, at the Elks Lodge in Greenville. Thank you for considering us and helping us do great things within our local veteran community.
URL:https://vhvsc.org/event/weekly-meeting-4/2026-04-02/
LOCATION:Elks Lodge\, Greenville\, 7700 Pelham Rd\, Greenville\, SC\, 29615\, United States
CATEGORIES:Weekly Event
ATTACH;FMTTYPE=image/jpeg:https://vhvsc.org/wp-content/uploads/2024/02/vets-helping-vets-greenville-weekly-meeting-featured.jpg
END:VEVENT
BEGIN:VEVENT
DTSTART;TZID=America/New_York:20260409T183000
DTEND;TZID=America/New_York:20260409T200000
DTSTAMP:20260425T084108
CREATED:20240220T194320Z
LAST-MODIFIED:20250623T175453Z
UID:10000433-1775759400-1775764800@vhvsc.org
SUMMARY:Monthly Evening Meeting
DESCRIPTION:You are welcome to participate in our potluck at Elks Lodge Greenville on the second Thursday of every month from 6:30 p.m. to 8:00 p.m. Thank you for considering us and helping us do great things within our local veteran community.
URL:https://vhvsc.org/event/weekly-meeting/2026-04-09/
LOCATION:Elks Lodge\, Greenville\, 7700 Pelham Rd\, Greenville\, SC\, 29615\, United States
CATEGORIES:Monthly Event
ATTACH;FMTTYPE=image/jpeg:https://vhvsc.org/wp-content/uploads/2024/02/vets-helping-vets-greenville-weekly-meeting-featured.jpg
END:VEVENT
BEGIN:VEVENT
DTSTART;TZID=America/New_York:20260416T100000
DTEND;TZID=America/New_York:20260416T113000
DTSTAMP:20260425T084108
CREATED:20240220T235908Z
LAST-MODIFIED:20250626T132116Z
UID:10000553-1776333600-1776339000@vhvsc.org
SUMMARY:Weekly Meeting
DESCRIPTION:You are welcome to join us this Thursday morning\, 10:00 am\, at the Elks Lodge in Greenville. Thank you for considering us and helping us do great things within our local veteran community.
URL:https://vhvsc.org/event/weekly-meeting-5/2026-04-16/
LOCATION:Elks Lodge\, Greenville\, 7700 Pelham Rd\, Greenville\, SC\, 29615\, United States
CATEGORIES:Weekly Event
ATTACH;FMTTYPE=image/jpeg:https://vhvsc.org/wp-content/uploads/2024/02/vets-helping-vets-greenville-weekly-meeting-featured.jpg
END:VEVENT
BEGIN:VEVENT
DTSTART;TZID=America/New_York:20260423T100000
DTEND;TZID=America/New_York:20260423T113000
DTSTAMP:20260425T084108
CREATED:20240220T194818Z
LAST-MODIFIED:20250623T175718Z
UID:10000292-1776938400-1776943800@vhvsc.org
SUMMARY:Weekly Meeting
DESCRIPTION:You are welcome to join us this Thursday morning\, 10:00 am\, at the Elks Lodge in Greenville. Thank you for considering us and helping us do great things within our local veteran community.
URL:https://vhvsc.org/event/weekly-meeting-2/2026-04-23/
LOCATION:Elks Lodge\, Greenville\, 7700 Pelham Rd\, Greenville\, SC\, 29615\, United States
CATEGORIES:Weekly Event
ATTACH;FMTTYPE=image/jpeg:https://vhvsc.org/wp-content/uploads/2024/02/vets-helping-vets-greenville-weekly-meeting-featured.jpg
END:VEVENT
BEGIN:VEVENT
DTSTART;TZID=America/New_York:20260430T100000
DTEND;TZID=America/New_York:20260430T113000
DTSTAMP:20260425T084108
CREATED:20240220T194921Z
LAST-MODIFIED:20250625T115510Z
UID:10000335-1777543200-1777548600@vhvsc.org
SUMMARY:Weekly Meeting
DESCRIPTION:You are welcome to join us this Thursday morning\, 10:00 am\, at the Elks Lodge in Greenville. Thank you for considering us and helping us do great things within our local veteran community.
URL:https://vhvsc.org/event/weekly-meeting-3/2026-04-30/
LOCATION:Elks Lodge\, Greenville\, 7700 Pelham Rd\, Greenville\, SC\, 29615\, United States
CATEGORIES:Weekly Event
ATTACH;FMTTYPE=image/jpeg:https://vhvsc.org/wp-content/uploads/2024/02/vets-helping-vets-greenville-weekly-meeting-featured.jpg
END:VEVENT
BEGIN:VEVENT
DTSTART;TZID=America/New_York:20260502T070000
DTEND;TZID=America/New_York:20260502T140000
DTSTAMP:20260425T084108
CREATED:20260326T000427Z
LAST-MODIFIED:20260326T000908Z
UID:10000758-1777705200-1777730400@vhvsc.org
SUMMARY:2026 Catfish Tournament Fundraiser
DESCRIPTION:Event Timing\n\n\n\n7:00 AM– REGISTRATION AND CHECK-IN \n\n\n\n9:00 AM- 2:00 PM– FISHING \n\n\n\n2:00 PM – 3:00 PM– PRIZES TO BE AWARDED \n\n\n\nPRIZES\n\n\n\nFIRST PLACE: $500SECOND PLACE: $300THIRD PLACE: $100 \n\n\n\nRULES\n\n\n\nRAIN OR SHINE!!! \n\n\n\nBring your own chairs\, coolers\, snacks\, non alcoholic beverages\, and NO GLASS. \n\n\n\nReally Important\n\n\n\n\n\n\nNo alcoholic beverages\n\n\n\nNo disorderly conduct allowed\n\n\n\nParents are responsible for their children\n\n\n\nAges 10 + and anyone under 18 must have a parent or guardian with them at all times.\n\n\n\n\n\n\n\n2 poles per person max\n\n\n\nNo sharing of fish\n\n\n\nEveryone is responsible for their own trash\n\n\n\nThe most important rule is to have FUN!
URL:https://vhvsc.org/event/2026-catfish-tournament-fundraiser/
LOCATION:Fire Lake\, 1897 Cheddar Rd\, Belton\, South Carolina\, 29627\, United States
CATEGORIES:Fundraiser
ATTACH;FMTTYPE=image/png:https://vhvsc.org/wp-content/uploads/2025/07/Blue-Fishing-Tournament-Facebook-Post.png
END:VEVENT
BEGIN:VEVENT
DTSTART;TZID=America/New_York:20260507T100000
DTEND;TZID=America/New_York:20260507T113000
DTSTAMP:20260425T084108
CREATED:20240220T195030Z
LAST-MODIFIED:20250623T175557Z
UID:10000373-1778148000-1778153400@vhvsc.org
SUMMARY:Weekly Meeting
DESCRIPTION:You are welcome to join us this Thursday morning\, 10:00 am\, at the Elks Lodge in Greenville. Thank you for considering us and helping us do great things within our local veteran community.
URL:https://vhvsc.org/event/weekly-meeting-4/2026-05-07/
LOCATION:Elks Lodge\, Greenville\, 7700 Pelham Rd\, Greenville\, SC\, 29615\, United States
CATEGORIES:Weekly Event
ATTACH;FMTTYPE=image/jpeg:https://vhvsc.org/wp-content/uploads/2024/02/vets-helping-vets-greenville-weekly-meeting-featured.jpg
END:VEVENT
BEGIN:VEVENT
DTSTART;TZID=America/New_York:20260514T183000
DTEND;TZID=America/New_York:20260514T200000
DTSTAMP:20260425T084108
CREATED:20240220T194320Z
LAST-MODIFIED:20250623T175453Z
UID:10000434-1778783400-1778788800@vhvsc.org
SUMMARY:Monthly Evening Meeting
DESCRIPTION:You are welcome to participate in our potluck at Elks Lodge Greenville on the second Thursday of every month from 6:30 p.m. to 8:00 p.m. Thank you for considering us and helping us do great things within our local veteran community.
URL:https://vhvsc.org/event/weekly-meeting/2026-05-14/
LOCATION:Elks Lodge\, Greenville\, 7700 Pelham Rd\, Greenville\, SC\, 29615\, United States
CATEGORIES:Monthly Event
ATTACH;FMTTYPE=image/jpeg:https://vhvsc.org/wp-content/uploads/2024/02/vets-helping-vets-greenville-weekly-meeting-featured.jpg
END:VEVENT
BEGIN:VEVENT
DTSTART;TZID=America/New_York:20260521T100000
DTEND;TZID=America/New_York:20260521T113000
DTSTAMP:20260425T084108
CREATED:20240220T235908Z
LAST-MODIFIED:20250626T132116Z
UID:10000554-1779357600-1779363000@vhvsc.org
SUMMARY:Weekly Meeting
DESCRIPTION:You are welcome to join us this Thursday morning\, 10:00 am\, at the Elks Lodge in Greenville. Thank you for considering us and helping us do great things within our local veteran community.
URL:https://vhvsc.org/event/weekly-meeting-5/2026-05-21/
LOCATION:Elks Lodge\, Greenville\, 7700 Pelham Rd\, Greenville\, SC\, 29615\, United States
CATEGORIES:Weekly Event
ATTACH;FMTTYPE=image/jpeg:https://vhvsc.org/wp-content/uploads/2024/02/vets-helping-vets-greenville-weekly-meeting-featured.jpg
END:VEVENT
END:VCALENDAR