BEGIN:VCALENDAR
VERSION:2.0
PRODID:-//Vets Helping Vets Greenville - ECPv6.15.20//NONSGML v1.0//EN
CALSCALE:GREGORIAN
METHOD:PUBLISH
X-WR-CALNAME:Vets Helping Vets Greenville
X-ORIGINAL-URL:https://vhvsc.org
X-WR-CALDESC:Events for Vets Helping Vets Greenville
REFRESH-INTERVAL;VALUE=DURATION:PT1H
X-Robots-Tag:noindex
X-PUBLISHED-TTL:PT1H
BEGIN:VTIMEZONE
TZID:America/New_York
BEGIN:DAYLIGHT
TZOFFSETFROM:-0500
TZOFFSETTO:-0400
TZNAME:EDT
DTSTART:20240310T070000
END:DAYLIGHT
BEGIN:STANDARD
TZOFFSETFROM:-0400
TZOFFSETTO:-0500
TZNAME:EST
DTSTART:20241103T060000
END:STANDARD
BEGIN:DAYLIGHT
TZOFFSETFROM:-0500
TZOFFSETTO:-0400
TZNAME:EDT
DTSTART:20250309T070000
END:DAYLIGHT
BEGIN:STANDARD
TZOFFSETFROM:-0400
TZOFFSETTO:-0500
TZNAME:EST
DTSTART:20251102T060000
END:STANDARD
BEGIN:DAYLIGHT
TZOFFSETFROM:-0500
TZOFFSETTO:-0400
TZNAME:EDT
DTSTART:20260308T070000
END:DAYLIGHT
BEGIN:STANDARD
TZOFFSETFROM:-0400
TZOFFSETTO:-0500
TZNAME:EST
DTSTART:20261101T060000
END:STANDARD
END:VTIMEZONE
BEGIN:VEVENT
DTSTART;TZID=America/New_York:20250708T171500
DTEND;TZID=America/New_York:20250708T220000
DTSTAMP:20260425T095104
CREATED:20250527T150844Z
LAST-MODIFIED:20250612T123840Z
UID:10000649-1751994900-1752012000@vhvsc.org
SUMMARY:Volunteer at Fluor Field 7-8-2025
DESCRIPTION:Splendid Splinter\n\n\n\nDavid Caldwell contact number: 864- 607-7093 \n\n\n\nShow up time 5:15pm \n\n\n\nDress code: closed toe shoes\, khaki or dark color pants/shorts (no jeans)\, head covering (if you do not have a hat\, they will give you a net to wear. VHV shirt or a veteran shirt with your branch of service.  \n\n\n\nPark in the Greenville HS parking lot and walk over to the back roll up door across from Shoeless Joe Jackson Museum and let the person there know you are with VHV GVL and volunteering. They will direct you to where you need to go.  \n\n\n\nIf for some reason you are not able to volunteer for the date you signed up\, please let David Caldwell know immediately.  \n\n\n\nRegister to volunteer for this event\n\n\n\n\n\nName*\n\n\n\n\n\nEmail*\n\n\n\nPhone Number*\n\n\n\n\n\nBackground Check*I consent to undergoing a background check.I do not consent to undergoing a background check.\n\n\n\nSubmit
URL:https://vhvsc.org/event/volunteer-at-fluor-field-7-8-2025/
LOCATION:South Carolina
CATEGORIES:Fundraiser
ATTACH;FMTTYPE=image/jpeg:https://vhvsc.org/wp-content/uploads/2025/05/fluor-field.jpg
END:VEVENT
BEGIN:VEVENT
DTSTART;TZID=America/New_York:20250710T183000
DTEND;TZID=America/New_York:20250710T200000
DTSTAMP:20260425T095104
CREATED:20240220T194320Z
LAST-MODIFIED:20250623T175453Z
UID:10000424-1752172200-1752177600@vhvsc.org
SUMMARY:Monthly Evening Meeting
DESCRIPTION:You are welcome to participate in our potluck at Elks Lodge Greenville on the second Thursday of every month from 6:30 p.m. to 8:00 p.m. Thank you for considering us and helping us do great things within our local veteran community.
URL:https://vhvsc.org/event/weekly-meeting/2025-07-10/
LOCATION:Elks Lodge\, Greenville\, 7700 Pelham Rd\, Greenville\, SC\, 29615\, United States
CATEGORIES:Monthly Event
ATTACH;FMTTYPE=image/jpeg:https://vhvsc.org/wp-content/uploads/2024/02/vets-helping-vets-greenville-weekly-meeting-featured.jpg
END:VEVENT
BEGIN:VEVENT
DTSTART;TZID=America/New_York:20250711T171500
DTEND;TZID=America/New_York:20250711T220000
DTSTAMP:20260425T095104
CREATED:20250527T150950Z
LAST-MODIFIED:20250612T123900Z
UID:10000650-1752254100-1752271200@vhvsc.org
SUMMARY:Volunteer at Fluor Field 7-11-2025
DESCRIPTION:Splendid Splinter\n\n\n\nDavid Caldwell contact number: 864- 607-7093 \n\n\n\nShow up time 5:15pm \n\n\n\nDress code: closed toe shoes\, khaki or dark color pants/shorts (no jeans)\, head covering (if you do not have a hat\, they will give you a net to wear. VHV shirt or a veteran shirt with your branch of service.  \n\n\n\nPark in the Greenville HS parking lot and walk over to the back roll up door across from Shoeless Joe Jackson Museum and let the person there know you are with VHV GVL and volunteering. They will direct you to where you need to go.  \n\n\n\nIf for some reason you are not able to volunteer for the date you signed up\, please let David Caldwell know immediately.  \n\n\n\nRegister to volunteer for this event\n\n\n\n\n\nName*\n\n\n\n\n\nEmail*\n\n\n\nPhone Number*\n\n\n\n\n\nBackground Check*I consent to undergoing a background check.I do not consent to undergoing a background check.\n\n\n\nSubmit
URL:https://vhvsc.org/event/volunteer-at-fluor-field-7-11-2025/
LOCATION:South Carolina
CATEGORIES:Fundraiser
ATTACH;FMTTYPE=image/jpeg:https://vhvsc.org/wp-content/uploads/2025/05/fluor-field.jpg
END:VEVENT
BEGIN:VEVENT
DTSTART;TZID=America/New_York:20250717T100000
DTEND;TZID=America/New_York:20250717T113000
DTSTAMP:20260425T095104
CREATED:20240220T235908Z
LAST-MODIFIED:20250626T132116Z
UID:10000544-1752746400-1752751800@vhvsc.org
SUMMARY:Weekly Meeting
DESCRIPTION:You are welcome to join us this Thursday morning\, 10:00 am\, at the Elks Lodge in Greenville. Thank you for considering us and helping us do great things within our local veteran community.
URL:https://vhvsc.org/event/weekly-meeting-5/2025-07-17/
LOCATION:Elks Lodge\, Greenville\, 7700 Pelham Rd\, Greenville\, SC\, 29615\, United States
CATEGORIES:Weekly Event
ATTACH;FMTTYPE=image/jpeg:https://vhvsc.org/wp-content/uploads/2024/02/vets-helping-vets-greenville-weekly-meeting-featured.jpg
END:VEVENT
BEGIN:VEVENT
DTSTART;TZID=America/New_York:20250724T100000
DTEND;TZID=America/New_York:20250724T113000
DTSTAMP:20260425T095104
CREATED:20240220T194818Z
LAST-MODIFIED:20250623T175718Z
UID:10000283-1753351200-1753356600@vhvsc.org
SUMMARY:Weekly Meeting
DESCRIPTION:You are welcome to join us this Thursday morning\, 10:00 am\, at the Elks Lodge in Greenville. Thank you for considering us and helping us do great things within our local veteran community.
URL:https://vhvsc.org/event/weekly-meeting-2/2025-07-24/
LOCATION:Elks Lodge\, Greenville\, 7700 Pelham Rd\, Greenville\, SC\, 29615\, United States
CATEGORIES:Weekly Event
ATTACH;FMTTYPE=image/jpeg:https://vhvsc.org/wp-content/uploads/2024/02/vets-helping-vets-greenville-weekly-meeting-featured.jpg
END:VEVENT
BEGIN:VEVENT
DTSTART;TZID=America/New_York:20250725T171500
DTEND;TZID=America/New_York:20250725T220000
DTSTAMP:20260425T095104
CREATED:20250527T151907Z
LAST-MODIFIED:20250612T123919Z
UID:10000652-1753463700-1753480800@vhvsc.org
SUMMARY:Volunteer at Fluor Field 7-25-2025
DESCRIPTION:Sweet Carolines\n\n\n\nDavid Caldwell contact number: 864- 607-7093 \n\n\n\nShow up time 5:15pm \n\n\n\nDress code: closed toe shoes\, khaki or dark color pants/shorts (no jeans)\, head covering (if you do not have a hat\, they will give you a net to wear. VHV shirt or a veteran shirt with your branch of service.  \n\n\n\nPark in the Greenville HS parking lot and walk over to the back roll up door across from Shoeless Joe Jackson Museum and let the person there know you are with VHV GVL and volunteering. They will direct you to where you need to go.  \n\n\n\nIf for some reason you are not able to volunteer for the date you signed up\, please let David Caldwell know immediately.  \n\n\n\nRegister to volunteer for this event\n\n\n\n\n\nName*\n\n\n\n\n\nEmail*\n\n\n\nPhone Number*\n\n\n\n\n\nBackground Check*I consent to undergoing a background check.I do not consent to undergoing a background check.\n\n\n\nSubmit
URL:https://vhvsc.org/event/volunteer-at-fluor-field-7-25-2025/
LOCATION:South Carolina
CATEGORIES:Fundraiser
ATTACH;FMTTYPE=image/jpeg:https://vhvsc.org/wp-content/uploads/2025/05/fluor-field.jpg
END:VEVENT
BEGIN:VEVENT
DTSTART;TZID=America/New_York:20250731T100000
DTEND;TZID=America/New_York:20250731T113000
DTSTAMP:20260425T095104
CREATED:20240220T194921Z
LAST-MODIFIED:20250625T115510Z
UID:10000332-1753956000-1753961400@vhvsc.org
SUMMARY:Weekly Meeting
DESCRIPTION:You are welcome to join us this Thursday morning\, 10:00 am\, at the Elks Lodge in Greenville. Thank you for considering us and helping us do great things within our local veteran community.
URL:https://vhvsc.org/event/weekly-meeting-3/2025-07-31/
LOCATION:Elks Lodge\, Greenville\, 7700 Pelham Rd\, Greenville\, SC\, 29615\, United States
CATEGORIES:Weekly Event
ATTACH;FMTTYPE=image/jpeg:https://vhvsc.org/wp-content/uploads/2024/02/vets-helping-vets-greenville-weekly-meeting-featured.jpg
END:VEVENT
BEGIN:VEVENT
DTSTART;TZID=America/New_York:20250805T171500
DTEND;TZID=America/New_York:20250805T220000
DTSTAMP:20260425T095104
CREATED:20250527T152020Z
LAST-MODIFIED:20250612T123945Z
UID:10000653-1754414100-1754431200@vhvsc.org
SUMMARY:Volunteer at Fluor Field 8-5-2025
DESCRIPTION:Sweet Carolines\n\n\n\nDavid Caldwell contact number: 864- 607-7093 \n\n\n\nShow up time 5:15pm \n\n\n\nDress code: closed toe shoes\, khaki or dark color pants/shorts (no jeans)\, head covering (if you do not have a hat\, they will give you a net to wear. VHV shirt or a veteran shirt with your branch of service.  \n\n\n\nPark in the Greenville HS parking lot and walk over to the back roll up door across from Shoeless Joe Jackson Museum and let the person there know you are with VHV GVL and volunteering. They will direct you to where you need to go.  \n\n\n\nIf for some reason you are not able to volunteer for the date you signed up\, please let David Caldwell know immediately. \n\n\n\nRegister to volunteer for this event\n\n\n\n\n\nName*\n\n\n\n\n\nEmail*\n\n\n\nPhone Number*\n\n\n\n\n\nBackground Check*I consent to undergoing a background check.I do not consent to undergoing a background check.\n\n\n\nSubmit
URL:https://vhvsc.org/event/volunteer-at-fluor-field-8-5-2025/
LOCATION:South Carolina
CATEGORIES:Fundraiser
ATTACH;FMTTYPE=image/jpeg:https://vhvsc.org/wp-content/uploads/2025/05/fluor-field.jpg
END:VEVENT
BEGIN:VEVENT
DTSTART;TZID=America/New_York:20250807T100000
DTEND;TZID=America/New_York:20250807T113000
DTSTAMP:20260425T095104
CREATED:20240220T195030Z
LAST-MODIFIED:20250623T175557Z
UID:10000364-1754560800-1754566200@vhvsc.org
SUMMARY:Weekly Meeting
DESCRIPTION:You are welcome to join us this Thursday morning\, 10:00 am\, at the Elks Lodge in Greenville. Thank you for considering us and helping us do great things within our local veteran community.
URL:https://vhvsc.org/event/weekly-meeting-4/2025-08-07/
LOCATION:Elks Lodge\, Greenville\, 7700 Pelham Rd\, Greenville\, SC\, 29615\, United States
CATEGORIES:Weekly Event
ATTACH;FMTTYPE=image/jpeg:https://vhvsc.org/wp-content/uploads/2024/02/vets-helping-vets-greenville-weekly-meeting-featured.jpg
END:VEVENT
BEGIN:VEVENT
DTSTART;TZID=America/New_York:20250808T171500
DTEND;TZID=America/New_York:20250808T220000
DTSTAMP:20260425T095104
CREATED:20250527T152235Z
LAST-MODIFIED:20250612T124004Z
UID:10000654-1754673300-1754690400@vhvsc.org
SUMMARY:Volunteer at Fluor Field 8-8-2025
DESCRIPTION:Splended Splinter\n\n\n\nDavid Caldwell contact number: 864- 607-7093 \n\n\n\nShow up time 5:15pm \n\n\n\nDress code: closed toe shoes\, khaki or dark color pants/shorts (no jeans)\, head covering (if you do not have a hat\, they will give you a net to wear. VHV shirt or a veteran shirt with your branch of service.  \n\n\n\nPark in the Greenville HS parking lot and walk over to the back roll up door across from Shoeless Joe Jackson Museum and let the person there know you are with VHV GVL and volunteering. They will direct you to where you need to go.  \n\n\n\nIf for some reason you are not able to volunteer for the date you signed up\, please let David Caldwell know immediately. \n\n\n\nRegister to volunteer for this event\n\n\n\n\n\nName*\n\n\n\n\n\nEmail*\n\n\n\nPhone Number*\n\n\n\n\n\nBackground Check*I consent to undergoing a background check.I do not consent to undergoing a background check.\n\n\n\nSubmit
URL:https://vhvsc.org/event/volunteer-at-fluor-field-8-8-2025/
LOCATION:South Carolina
CATEGORIES:Fundraiser
ATTACH;FMTTYPE=image/jpeg:https://vhvsc.org/wp-content/uploads/2025/05/fluor-field.jpg
END:VEVENT
BEGIN:VEVENT
DTSTART;TZID=America/New_York:20250814T183000
DTEND;TZID=America/New_York:20250814T200000
DTSTAMP:20260425T095104
CREATED:20240220T194320Z
LAST-MODIFIED:20250623T175453Z
UID:10000425-1755196200-1755201600@vhvsc.org
SUMMARY:Monthly Evening Meeting
DESCRIPTION:You are welcome to participate in our potluck at Elks Lodge Greenville on the second Thursday of every month from 6:30 p.m. to 8:00 p.m. Thank you for considering us and helping us do great things within our local veteran community.
URL:https://vhvsc.org/event/weekly-meeting/2025-08-14/
LOCATION:Elks Lodge\, Greenville\, 7700 Pelham Rd\, Greenville\, SC\, 29615\, United States
CATEGORIES:Monthly Event
ATTACH;FMTTYPE=image/jpeg:https://vhvsc.org/wp-content/uploads/2024/02/vets-helping-vets-greenville-weekly-meeting-featured.jpg
END:VEVENT
BEGIN:VEVENT
DTSTART;TZID=America/New_York:20250821T100000
DTEND;TZID=America/New_York:20250821T113000
DTSTAMP:20260425T095104
CREATED:20240220T235908Z
LAST-MODIFIED:20250626T132116Z
UID:10000545-1755770400-1755775800@vhvsc.org
SUMMARY:Weekly Meeting
DESCRIPTION:You are welcome to join us this Thursday morning\, 10:00 am\, at the Elks Lodge in Greenville. Thank you for considering us and helping us do great things within our local veteran community.
URL:https://vhvsc.org/event/weekly-meeting-5/2025-08-21/
LOCATION:Elks Lodge\, Greenville\, 7700 Pelham Rd\, Greenville\, SC\, 29615\, United States
CATEGORIES:Weekly Event
ATTACH;FMTTYPE=image/jpeg:https://vhvsc.org/wp-content/uploads/2024/02/vets-helping-vets-greenville-weekly-meeting-featured.jpg
END:VEVENT
BEGIN:VEVENT
DTSTART;TZID=America/New_York:20250823T070000
DTEND;TZID=America/New_York:20250823T150000
DTSTAMP:20260425T095104
CREATED:20250709T193749Z
LAST-MODIFIED:20250715T182622Z
UID:10000699-1755932400-1755961200@vhvsc.org
SUMMARY:2025 Catfish Tournament Fundraiser
DESCRIPTION:Event Timing\n\n\n\n7:00 AM– REGISTRATION AND CHECK-IN \n\n\n\n9:00 AM- 3:00 PM– FISHING \n\n\n\n2:00 PM – 3:00 PM– PRIZES TO BE AWARDED \n\n\n\nPRIZES\n\n\n\nFIRST PLACE: $400SECOND PLACE: $200THIRD PLACE: $100 \n\n\n\nRULES\n\n\n\nRAIN OR SHINE!!! \n\n\n\nBring your own chairs\, coolers\, snacks\, non alcoholic beverages\, and NO GLASS. \n\n\n\nReally Important\n\n\n\n\n\n\nNo alcoholic beverages\n\n\n\nNo disorderly conduct allowed\n\n\n\nParents are responsible for their children\n\n\n\nAges 10 + and anyone under 18 must have a parent or guardian with them at all times.\n\n\n\n\n\n\n\n2 poles per person max\n\n\n\nNo sharing of fish\n\n\n\nEveryone is responsible for their own trash\n\n\n\nThe most important rule is to have FUN!
URL:https://vhvsc.org/event/2025-catfish-tournament-fundraiser/
LOCATION:Fire Lake\, 1897 Cheddar Rd\, Belton\, South Carolina\, 29627\, United States
CATEGORIES:Fundraiser
ATTACH;FMTTYPE=image/png:https://vhvsc.org/wp-content/uploads/2025/07/Blue-Fishing-Tournament-Facebook-Post.png
END:VEVENT
BEGIN:VEVENT
DTSTART;TZID=America/New_York:20250826T171500
DTEND;TZID=America/New_York:20250826T220000
DTSTAMP:20260425T095104
CREATED:20250527T152329Z
LAST-MODIFIED:20250612T124025Z
UID:10000655-1756228500-1756245600@vhvsc.org
SUMMARY:Volunteer at Fluor Field 8-26-2025
DESCRIPTION:Sweet Carolines\n\n\n\nDavid Caldwell contact number: 864- 607-7093 \n\n\n\nShow up time 5:15pm \n\n\n\nDress code: closed toe shoes\, khaki or dark color pants/shorts (no jeans)\, head covering (if you do not have a hat\, they will give you a net to wear. VHV shirt or a veteran shirt with your branch of service.  \n\n\n\nPark in the Greenville HS parking lot and walk over to the back roll up door across from Shoeless Joe Jackson Museum and let the person there know you are with VHV GVL and volunteering. They will direct you to where you need to go.  \n\n\n\nIf for some reason you are not able to volunteer for the date you signed up\, please let David Caldwell know immediately. \n\n\n\nRegister to volunteer for this event\n\n\n\n\n\nName*\n\n\n\n\n\nEmail*\n\n\n\nPhone Number*\n\n\n\n\n\nBackground Check*I consent to undergoing a background check.I do not consent to undergoing a background check.\n\n\n\nSubmit
URL:https://vhvsc.org/event/volunteer-at-fluor-field-8-26-2025/
LOCATION:South Carolina
CATEGORIES:Fundraiser
ATTACH;FMTTYPE=image/jpeg:https://vhvsc.org/wp-content/uploads/2025/05/fluor-field.jpg
END:VEVENT
BEGIN:VEVENT
DTSTART;TZID=America/New_York:20250828T100000
DTEND;TZID=America/New_York:20250828T113000
DTSTAMP:20260425T095104
CREATED:20240220T194818Z
LAST-MODIFIED:20250623T175718Z
UID:10000284-1756375200-1756380600@vhvsc.org
SUMMARY:Weekly Meeting
DESCRIPTION:You are welcome to join us this Thursday morning\, 10:00 am\, at the Elks Lodge in Greenville. Thank you for considering us and helping us do great things within our local veteran community.
URL:https://vhvsc.org/event/weekly-meeting-2/2025-08-28/
LOCATION:Elks Lodge\, Greenville\, 7700 Pelham Rd\, Greenville\, SC\, 29615\, United States
CATEGORIES:Weekly Event
ATTACH;FMTTYPE=image/jpeg:https://vhvsc.org/wp-content/uploads/2024/02/vets-helping-vets-greenville-weekly-meeting-featured.jpg
END:VEVENT
BEGIN:VEVENT
DTSTART;TZID=America/New_York:20250830T171500
DTEND;TZID=America/New_York:20250830T220000
DTSTAMP:20260425T095104
CREATED:20250527T152536Z
LAST-MODIFIED:20250612T124048Z
UID:10000657-1756574100-1756591200@vhvsc.org
SUMMARY:Volunteer at Fluor Field 8-30-2025
DESCRIPTION:Sweet Carolines\n\n\n\nDavid Caldwell contact number: 864- 607-7093 \n\n\n\nShow up time 5:15pm \n\n\n\nDress code: closed toe shoes\, khaki or dark color pants/shorts (no jeans)\, head covering (if you do not have a hat\, they will give you a net to wear. VHV shirt or a veteran shirt with your branch of service.  \n\n\n\nPark in the Greenville HS parking lot and walk over to the back roll up door across from Shoeless Joe Jackson Museum and let the person there know you are with VHV GVL and volunteering. They will direct you to where you need to go.  \n\n\n\nIf for some reason you are not able to volunteer for the date you signed up\, please let David Caldwell know immediately. \n\n\n\nRegister to volunteer for this event\n\n\n\n\n\nName*\n\n\n\n\n\nEmail*\n\n\n\nPhone Number*\n\n\n\n\n\nBackground Check*I consent to undergoing a background check.I do not consent to undergoing a background check.\n\n\n\nSubmit
URL:https://vhvsc.org/event/volunteer-at-fluor-field-8-30-2025/
LOCATION:South Carolina
CATEGORIES:Fundraiser
ATTACH;FMTTYPE=image/jpeg:https://vhvsc.org/wp-content/uploads/2025/05/fluor-field.jpg
END:VEVENT
BEGIN:VEVENT
DTSTART;TZID=America/New_York:20250904T100000
DTEND;TZID=America/New_York:20250904T113000
DTSTAMP:20260425T095104
CREATED:20240220T195030Z
LAST-MODIFIED:20250623T175557Z
UID:10000365-1756980000-1756985400@vhvsc.org
SUMMARY:Weekly Meeting
DESCRIPTION:You are welcome to join us this Thursday morning\, 10:00 am\, at the Elks Lodge in Greenville. Thank you for considering us and helping us do great things within our local veteran community.
URL:https://vhvsc.org/event/weekly-meeting-4/2025-09-04/
LOCATION:Elks Lodge\, Greenville\, 7700 Pelham Rd\, Greenville\, SC\, 29615\, United States
CATEGORIES:Weekly Event
ATTACH;FMTTYPE=image/jpeg:https://vhvsc.org/wp-content/uploads/2024/02/vets-helping-vets-greenville-weekly-meeting-featured.jpg
END:VEVENT
BEGIN:VEVENT
DTSTART;TZID=America/New_York:20250911T183000
DTEND;TZID=America/New_York:20250911T200000
DTSTAMP:20260425T095104
CREATED:20240220T194320Z
LAST-MODIFIED:20250623T175453Z
UID:10000426-1757615400-1757620800@vhvsc.org
SUMMARY:Monthly Evening Meeting
DESCRIPTION:You are welcome to participate in our potluck at Elks Lodge Greenville on the second Thursday of every month from 6:30 p.m. to 8:00 p.m. Thank you for considering us and helping us do great things within our local veteran community.
URL:https://vhvsc.org/event/weekly-meeting/2025-09-11/
LOCATION:Elks Lodge\, Greenville\, 7700 Pelham Rd\, Greenville\, SC\, 29615\, United States
CATEGORIES:Monthly Event
ATTACH;FMTTYPE=image/jpeg:https://vhvsc.org/wp-content/uploads/2024/02/vets-helping-vets-greenville-weekly-meeting-featured.jpg
END:VEVENT
BEGIN:VEVENT
DTSTART;TZID=America/New_York:20250918T100000
DTEND;TZID=America/New_York:20250918T113000
DTSTAMP:20260425T095104
CREATED:20240220T235908Z
LAST-MODIFIED:20250626T132116Z
UID:10000546-1758189600-1758195000@vhvsc.org
SUMMARY:Weekly Meeting
DESCRIPTION:You are welcome to join us this Thursday morning\, 10:00 am\, at the Elks Lodge in Greenville. Thank you for considering us and helping us do great things within our local veteran community.
URL:https://vhvsc.org/event/weekly-meeting-5/2025-09-18/
LOCATION:Elks Lodge\, Greenville\, 7700 Pelham Rd\, Greenville\, SC\, 29615\, United States
CATEGORIES:Weekly Event
ATTACH;FMTTYPE=image/jpeg:https://vhvsc.org/wp-content/uploads/2024/02/vets-helping-vets-greenville-weekly-meeting-featured.jpg
END:VEVENT
BEGIN:VEVENT
DTSTART;TZID=America/New_York:20250925T100000
DTEND;TZID=America/New_York:20250925T113000
DTSTAMP:20260425T095105
CREATED:20240220T194818Z
LAST-MODIFIED:20250623T175718Z
UID:10000285-1758794400-1758799800@vhvsc.org
SUMMARY:Weekly Meeting
DESCRIPTION:You are welcome to join us this Thursday morning\, 10:00 am\, at the Elks Lodge in Greenville. Thank you for considering us and helping us do great things within our local veteran community.
URL:https://vhvsc.org/event/weekly-meeting-2/2025-09-25/
LOCATION:Elks Lodge\, Greenville\, 7700 Pelham Rd\, Greenville\, SC\, 29615\, United States
CATEGORIES:Weekly Event
ATTACH;FMTTYPE=image/jpeg:https://vhvsc.org/wp-content/uploads/2024/02/vets-helping-vets-greenville-weekly-meeting-featured.jpg
END:VEVENT
BEGIN:VEVENT
DTSTART;TZID=America/New_York:20251002T100000
DTEND;TZID=America/New_York:20251002T113000
DTSTAMP:20260425T095105
CREATED:20240220T195030Z
LAST-MODIFIED:20250623T175557Z
UID:10000366-1759399200-1759404600@vhvsc.org
SUMMARY:Weekly Meeting
DESCRIPTION:You are welcome to join us this Thursday morning\, 10:00 am\, at the Elks Lodge in Greenville. Thank you for considering us and helping us do great things within our local veteran community.
URL:https://vhvsc.org/event/weekly-meeting-4/2025-10-02/
LOCATION:Elks Lodge\, Greenville\, 7700 Pelham Rd\, Greenville\, SC\, 29615\, United States
CATEGORIES:Weekly Event
ATTACH;FMTTYPE=image/jpeg:https://vhvsc.org/wp-content/uploads/2024/02/vets-helping-vets-greenville-weekly-meeting-featured.jpg
END:VEVENT
BEGIN:VEVENT
DTSTART;TZID=America/New_York:20251009T183000
DTEND;TZID=America/New_York:20251009T200000
DTSTAMP:20260425T095105
CREATED:20240220T194320Z
LAST-MODIFIED:20250623T175453Z
UID:10000427-1760034600-1760040000@vhvsc.org
SUMMARY:Monthly Evening Meeting
DESCRIPTION:You are welcome to participate in our potluck at Elks Lodge Greenville on the second Thursday of every month from 6:30 p.m. to 8:00 p.m. Thank you for considering us and helping us do great things within our local veteran community.
URL:https://vhvsc.org/event/weekly-meeting/2025-10-09/
LOCATION:Elks Lodge\, Greenville\, 7700 Pelham Rd\, Greenville\, SC\, 29615\, United States
CATEGORIES:Monthly Event
ATTACH;FMTTYPE=image/jpeg:https://vhvsc.org/wp-content/uploads/2024/02/vets-helping-vets-greenville-weekly-meeting-featured.jpg
END:VEVENT
BEGIN:VEVENT
DTSTART;TZID=America/New_York:20251016T100000
DTEND;TZID=America/New_York:20251016T113000
DTSTAMP:20260425T095105
CREATED:20240220T235908Z
LAST-MODIFIED:20250626T132116Z
UID:10000547-1760608800-1760614200@vhvsc.org
SUMMARY:Weekly Meeting
DESCRIPTION:You are welcome to join us this Thursday morning\, 10:00 am\, at the Elks Lodge in Greenville. Thank you for considering us and helping us do great things within our local veteran community.
URL:https://vhvsc.org/event/weekly-meeting-5/2025-10-16/
LOCATION:Elks Lodge\, Greenville\, 7700 Pelham Rd\, Greenville\, SC\, 29615\, United States
CATEGORIES:Weekly Event
ATTACH;FMTTYPE=image/jpeg:https://vhvsc.org/wp-content/uploads/2024/02/vets-helping-vets-greenville-weekly-meeting-featured.jpg
END:VEVENT
BEGIN:VEVENT
DTSTART;TZID=America/New_York:20251023T100000
DTEND;TZID=America/New_York:20251023T113000
DTSTAMP:20260425T095105
CREATED:20240220T194818Z
LAST-MODIFIED:20250623T175718Z
UID:10000286-1761213600-1761219000@vhvsc.org
SUMMARY:Weekly Meeting
DESCRIPTION:You are welcome to join us this Thursday morning\, 10:00 am\, at the Elks Lodge in Greenville. Thank you for considering us and helping us do great things within our local veteran community.
URL:https://vhvsc.org/event/weekly-meeting-2/2025-10-23/
LOCATION:Elks Lodge\, Greenville\, 7700 Pelham Rd\, Greenville\, SC\, 29615\, United States
CATEGORIES:Weekly Event
ATTACH;FMTTYPE=image/jpeg:https://vhvsc.org/wp-content/uploads/2024/02/vets-helping-vets-greenville-weekly-meeting-featured.jpg
END:VEVENT
BEGIN:VEVENT
DTSTART;TZID=America/New_York:20251030T100000
DTEND;TZID=America/New_York:20251030T113000
DTSTAMP:20260425T095105
CREATED:20240220T194921Z
LAST-MODIFIED:20250625T115510Z
UID:10000333-1761818400-1761823800@vhvsc.org
SUMMARY:Weekly Meeting
DESCRIPTION:You are welcome to join us this Thursday morning\, 10:00 am\, at the Elks Lodge in Greenville. Thank you for considering us and helping us do great things within our local veteran community.
URL:https://vhvsc.org/event/weekly-meeting-3/2025-10-30/
LOCATION:Elks Lodge\, Greenville\, 7700 Pelham Rd\, Greenville\, SC\, 29615\, United States
CATEGORIES:Weekly Event
ATTACH;FMTTYPE=image/jpeg:https://vhvsc.org/wp-content/uploads/2024/02/vets-helping-vets-greenville-weekly-meeting-featured.jpg
END:VEVENT
BEGIN:VEVENT
DTSTART;TZID=America/New_York:20251103T093000
DTEND;TZID=America/New_York:20251103T110000
DTSTAMP:20260425T095105
CREATED:20251106T191541Z
LAST-MODIFIED:20251106T191605Z
UID:10000723-1762162200-1762167600@vhvsc.org
SUMMARY:Monthly Visitation Meeting
DESCRIPTION:You are welcome to join us Monday morning\, 9:30 am\, at the Legacy Reserve at Fairview Park\, 538 Harrison Bridge Road\, Simpsonville as we socialize with veteran residents. Thank you for helping us do great things within our local veteran community.
URL:https://vhvsc.org/event/monthly-visitation-meeting/2025-11-03/
LOCATION:Legacy Reserve at Fairview Park\, 538 Harrison Bridge Road\, Simpsonville\, South Carolina\, United States
ATTACH;FMTTYPE=image/png:https://vhvsc.org/wp-content/uploads/2025/11/Vets-Helping-Vets-Monthly-Visitation-Meeting.png
END:VEVENT
BEGIN:VEVENT
DTSTART;TZID=America/New_York:20251106T100000
DTEND;TZID=America/New_York:20251106T113000
DTSTAMP:20260425T095105
CREATED:20240220T195030Z
LAST-MODIFIED:20250623T175557Z
UID:10000367-1762423200-1762428600@vhvsc.org
SUMMARY:Weekly Meeting
DESCRIPTION:You are welcome to join us this Thursday morning\, 10:00 am\, at the Elks Lodge in Greenville. Thank you for considering us and helping us do great things within our local veteran community.
URL:https://vhvsc.org/event/weekly-meeting-4/2025-11-06/
LOCATION:Elks Lodge\, Greenville\, 7700 Pelham Rd\, Greenville\, SC\, 29615\, United States
CATEGORIES:Weekly Event
ATTACH;FMTTYPE=image/jpeg:https://vhvsc.org/wp-content/uploads/2024/02/vets-helping-vets-greenville-weekly-meeting-featured.jpg
END:VEVENT
BEGIN:VEVENT
DTSTART;TZID=America/New_York:20251107T143000
DTEND;TZID=America/New_York:20251107T160000
DTSTAMP:20260425T095105
CREATED:20251106T192111Z
LAST-MODIFIED:20251106T192114Z
UID:10000728-1762525800-1762531200@vhvsc.org
SUMMARY:Monthly Visitation Meeting
DESCRIPTION:You are welcome to join us Friday afternoon\, 2:30 pm\, at The Residences at Greer\, 715 South Buncombe Road\, Greer as we socialize with veteran residents. Thank you for helping us do great things within our local veteran community.
URL:https://vhvsc.org/event/monthly-visitation-meeting-2/2025-11-07/
LOCATION:The Residences at Greer\, 715 South Buncombe Road\, Greer\, South Carolina\, United States
ATTACH;FMTTYPE=image/jpeg:https://vhvsc.org/wp-content/uploads/2025/11/vets-helping-vets-monthly-visitation-first-friday.jpg
END:VEVENT
BEGIN:VEVENT
DTSTART;TZID=America/New_York:20251113T183000
DTEND;TZID=America/New_York:20251113T200000
DTSTAMP:20260425T095105
CREATED:20240220T194320Z
LAST-MODIFIED:20250623T175453Z
UID:10000428-1763058600-1763064000@vhvsc.org
SUMMARY:Monthly Evening Meeting
DESCRIPTION:You are welcome to participate in our potluck at Elks Lodge Greenville on the second Thursday of every month from 6:30 p.m. to 8:00 p.m. Thank you for considering us and helping us do great things within our local veteran community.
URL:https://vhvsc.org/event/weekly-meeting/2025-11-13/
LOCATION:Elks Lodge\, Greenville\, 7700 Pelham Rd\, Greenville\, SC\, 29615\, United States
CATEGORIES:Monthly Event
ATTACH;FMTTYPE=image/jpeg:https://vhvsc.org/wp-content/uploads/2024/02/vets-helping-vets-greenville-weekly-meeting-featured.jpg
END:VEVENT
BEGIN:VEVENT
DTSTART;TZID=America/New_York:20251114T190000
DTEND;TZID=America/New_York:20251114T203000
DTSTAMP:20260425T095105
CREATED:20251106T192350Z
LAST-MODIFIED:20251106T192352Z
UID:10000733-1763146800-1763152200@vhvsc.org
SUMMARY:Monthly Visitation Meeting
DESCRIPTION:You are welcome to join us Friday evening\, 7:00 pm\, at the Legacy Reserve at Fairview Park\, 544 Harrison Bridge Road\, Simpsonville as we socialize with veteran residents. Thank you for helping us do great things within our local veteran community.
URL:https://vhvsc.org/event/monthly-visitation-meeting-3/2025-11-14/
LOCATION:Legacy Reserve at Fairview Park\, 538 Harrison Bridge Road\, Simpsonville\, South Carolina\, United States
ATTACH;FMTTYPE=image/png:https://vhvsc.org/wp-content/uploads/2025/11/Vets-Helping-Vets-Monthly-Visitation-Meeting.png
END:VEVENT
END:VCALENDAR