BEGIN:VCALENDAR
VERSION:2.0
PRODID:-//Vets Helping Vets Greenville - ECPv6.15.20//NONSGML v1.0//EN
CALSCALE:GREGORIAN
METHOD:PUBLISH
X-WR-CALNAME:Vets Helping Vets Greenville
X-ORIGINAL-URL:https://vhvsc.org
X-WR-CALDESC:Events for Vets Helping Vets Greenville
REFRESH-INTERVAL;VALUE=DURATION:PT1H
X-Robots-Tag:noindex
X-PUBLISHED-TTL:PT1H
BEGIN:VTIMEZONE
TZID:America/New_York
BEGIN:DAYLIGHT
TZOFFSETFROM:-0500
TZOFFSETTO:-0400
TZNAME:EDT
DTSTART:20250309T070000
END:DAYLIGHT
BEGIN:STANDARD
TZOFFSETFROM:-0400
TZOFFSETTO:-0500
TZNAME:EST
DTSTART:20251102T060000
END:STANDARD
BEGIN:DAYLIGHT
TZOFFSETFROM:-0500
TZOFFSETTO:-0400
TZNAME:EDT
DTSTART:20260308T070000
END:DAYLIGHT
BEGIN:STANDARD
TZOFFSETFROM:-0400
TZOFFSETTO:-0500
TZNAME:EST
DTSTART:20261101T060000
END:STANDARD
BEGIN:DAYLIGHT
TZOFFSETFROM:-0500
TZOFFSETTO:-0400
TZNAME:EDT
DTSTART:20270314T070000
END:DAYLIGHT
BEGIN:STANDARD
TZOFFSETFROM:-0400
TZOFFSETTO:-0500
TZNAME:EST
DTSTART:20271107T060000
END:STANDARD
BEGIN:DAYLIGHT
TZOFFSETFROM:-0500
TZOFFSETTO:-0400
TZNAME:EDT
DTSTART:20280312T070000
END:DAYLIGHT
BEGIN:STANDARD
TZOFFSETFROM:-0400
TZOFFSETTO:-0500
TZNAME:EST
DTSTART:20281105T060000
END:STANDARD
END:VTIMEZONE
BEGIN:VEVENT
DTSTART;TZID=America/New_York:20270603T100000
DTEND;TZID=America/New_York:20270603T113000
DTSTAMP:20260425T125332
CREATED:20240220T195030Z
LAST-MODIFIED:20250623T175557Z
UID:10000386-1812016800-1812022200@vhvsc.org
SUMMARY:Weekly Meeting
DESCRIPTION:You are welcome to join us this Thursday morning\, 10:00 am\, at the Elks Lodge in Greenville. Thank you for considering us and helping us do great things within our local veteran community.
URL:https://vhvsc.org/event/weekly-meeting-4/2027-06-03/
LOCATION:Elks Lodge\, Greenville\, 7700 Pelham Rd\, Greenville\, SC\, 29615\, United States
CATEGORIES:Weekly Event
ATTACH;FMTTYPE=image/jpeg:https://vhvsc.org/wp-content/uploads/2024/02/vets-helping-vets-greenville-weekly-meeting-featured.jpg
END:VEVENT
BEGIN:VEVENT
DTSTART;TZID=America/New_York:20270527T100000
DTEND;TZID=America/New_York:20270527T113000
DTSTAMP:20260425T125332
CREATED:20240220T194818Z
LAST-MODIFIED:20250623T175718Z
UID:10000305-1811412000-1811417400@vhvsc.org
SUMMARY:Weekly Meeting
DESCRIPTION:You are welcome to join us this Thursday morning\, 10:00 am\, at the Elks Lodge in Greenville. Thank you for considering us and helping us do great things within our local veteran community.
URL:https://vhvsc.org/event/weekly-meeting-2/2027-05-27/
LOCATION:Elks Lodge\, Greenville\, 7700 Pelham Rd\, Greenville\, SC\, 29615\, United States
CATEGORIES:Weekly Event
ATTACH;FMTTYPE=image/jpeg:https://vhvsc.org/wp-content/uploads/2024/02/vets-helping-vets-greenville-weekly-meeting-featured.jpg
END:VEVENT
BEGIN:VEVENT
DTSTART;TZID=America/New_York:20270520T100000
DTEND;TZID=America/New_York:20270520T113000
DTSTAMP:20260425T125332
CREATED:20240220T235908Z
LAST-MODIFIED:20250626T132116Z
UID:10000566-1810807200-1810812600@vhvsc.org
SUMMARY:Weekly Meeting
DESCRIPTION:You are welcome to join us this Thursday morning\, 10:00 am\, at the Elks Lodge in Greenville. Thank you for considering us and helping us do great things within our local veteran community.
URL:https://vhvsc.org/event/weekly-meeting-5/2027-05-20/
LOCATION:Elks Lodge\, Greenville\, 7700 Pelham Rd\, Greenville\, SC\, 29615\, United States
CATEGORIES:Weekly Event
ATTACH;FMTTYPE=image/jpeg:https://vhvsc.org/wp-content/uploads/2024/02/vets-helping-vets-greenville-weekly-meeting-featured.jpg
END:VEVENT
BEGIN:VEVENT
DTSTART;TZID=America/New_York:20270513T183000
DTEND;TZID=America/New_York:20270513T200000
DTSTAMP:20260425T125332
CREATED:20240220T194320Z
LAST-MODIFIED:20250623T175453Z
UID:10000446-1810233000-1810238400@vhvsc.org
SUMMARY:Monthly Evening Meeting
DESCRIPTION:You are welcome to participate in our potluck at Elks Lodge Greenville on the second Thursday of every month from 6:30 p.m. to 8:00 p.m. Thank you for considering us and helping us do great things within our local veteran community.
URL:https://vhvsc.org/event/weekly-meeting/2027-05-13/
LOCATION:Elks Lodge\, Greenville\, 7700 Pelham Rd\, Greenville\, SC\, 29615\, United States
CATEGORIES:Monthly Event
ATTACH;FMTTYPE=image/jpeg:https://vhvsc.org/wp-content/uploads/2024/02/vets-helping-vets-greenville-weekly-meeting-featured.jpg
END:VEVENT
BEGIN:VEVENT
DTSTART;TZID=America/New_York:20270506T100000
DTEND;TZID=America/New_York:20270506T113000
DTSTAMP:20260425T125332
CREATED:20240220T195030Z
LAST-MODIFIED:20250623T175557Z
UID:10000385-1809597600-1809603000@vhvsc.org
SUMMARY:Weekly Meeting
DESCRIPTION:You are welcome to join us this Thursday morning\, 10:00 am\, at the Elks Lodge in Greenville. Thank you for considering us and helping us do great things within our local veteran community.
URL:https://vhvsc.org/event/weekly-meeting-4/2027-05-06/
LOCATION:Elks Lodge\, Greenville\, 7700 Pelham Rd\, Greenville\, SC\, 29615\, United States
CATEGORIES:Weekly Event
ATTACH;FMTTYPE=image/jpeg:https://vhvsc.org/wp-content/uploads/2024/02/vets-helping-vets-greenville-weekly-meeting-featured.jpg
END:VEVENT
BEGIN:VEVENT
DTSTART;TZID=America/New_York:20270429T100000
DTEND;TZID=America/New_York:20270429T113000
DTSTAMP:20260425T125332
CREATED:20240220T194921Z
LAST-MODIFIED:20250625T115510Z
UID:10000339-1808992800-1808998200@vhvsc.org
SUMMARY:Weekly Meeting
DESCRIPTION:You are welcome to join us this Thursday morning\, 10:00 am\, at the Elks Lodge in Greenville. Thank you for considering us and helping us do great things within our local veteran community.
URL:https://vhvsc.org/event/weekly-meeting-3/2027-04-29/
LOCATION:Elks Lodge\, Greenville\, 7700 Pelham Rd\, Greenville\, SC\, 29615\, United States
CATEGORIES:Weekly Event
ATTACH;FMTTYPE=image/jpeg:https://vhvsc.org/wp-content/uploads/2024/02/vets-helping-vets-greenville-weekly-meeting-featured.jpg
END:VEVENT
BEGIN:VEVENT
DTSTART;TZID=America/New_York:20270422T100000
DTEND;TZID=America/New_York:20270422T113000
DTSTAMP:20260425T125332
CREATED:20240220T194818Z
LAST-MODIFIED:20250623T175718Z
UID:10000304-1808388000-1808393400@vhvsc.org
SUMMARY:Weekly Meeting
DESCRIPTION:You are welcome to join us this Thursday morning\, 10:00 am\, at the Elks Lodge in Greenville. Thank you for considering us and helping us do great things within our local veteran community.
URL:https://vhvsc.org/event/weekly-meeting-2/2027-04-22/
LOCATION:Elks Lodge\, Greenville\, 7700 Pelham Rd\, Greenville\, SC\, 29615\, United States
CATEGORIES:Weekly Event
ATTACH;FMTTYPE=image/jpeg:https://vhvsc.org/wp-content/uploads/2024/02/vets-helping-vets-greenville-weekly-meeting-featured.jpg
END:VEVENT
BEGIN:VEVENT
DTSTART;TZID=America/New_York:20270415T100000
DTEND;TZID=America/New_York:20270415T113000
DTSTAMP:20260425T125332
CREATED:20240220T235908Z
LAST-MODIFIED:20250626T132116Z
UID:10000565-1807783200-1807788600@vhvsc.org
SUMMARY:Weekly Meeting
DESCRIPTION:You are welcome to join us this Thursday morning\, 10:00 am\, at the Elks Lodge in Greenville. Thank you for considering us and helping us do great things within our local veteran community.
URL:https://vhvsc.org/event/weekly-meeting-5/2027-04-15/
LOCATION:Elks Lodge\, Greenville\, 7700 Pelham Rd\, Greenville\, SC\, 29615\, United States
CATEGORIES:Weekly Event
ATTACH;FMTTYPE=image/jpeg:https://vhvsc.org/wp-content/uploads/2024/02/vets-helping-vets-greenville-weekly-meeting-featured.jpg
END:VEVENT
BEGIN:VEVENT
DTSTART;TZID=America/New_York:20270408T183000
DTEND;TZID=America/New_York:20270408T200000
DTSTAMP:20260425T125332
CREATED:20240220T194320Z
LAST-MODIFIED:20250623T175453Z
UID:10000445-1807209000-1807214400@vhvsc.org
SUMMARY:Monthly Evening Meeting
DESCRIPTION:You are welcome to participate in our potluck at Elks Lodge Greenville on the second Thursday of every month from 6:30 p.m. to 8:00 p.m. Thank you for considering us and helping us do great things within our local veteran community.
URL:https://vhvsc.org/event/weekly-meeting/2027-04-08/
LOCATION:Elks Lodge\, Greenville\, 7700 Pelham Rd\, Greenville\, SC\, 29615\, United States
CATEGORIES:Monthly Event
ATTACH;FMTTYPE=image/jpeg:https://vhvsc.org/wp-content/uploads/2024/02/vets-helping-vets-greenville-weekly-meeting-featured.jpg
END:VEVENT
BEGIN:VEVENT
DTSTART;TZID=America/New_York:20270401T100000
DTEND;TZID=America/New_York:20270401T113000
DTSTAMP:20260425T125332
CREATED:20240220T195030Z
LAST-MODIFIED:20250623T175557Z
UID:10000384-1806573600-1806579000@vhvsc.org
SUMMARY:Weekly Meeting
DESCRIPTION:You are welcome to join us this Thursday morning\, 10:00 am\, at the Elks Lodge in Greenville. Thank you for considering us and helping us do great things within our local veteran community.
URL:https://vhvsc.org/event/weekly-meeting-4/2027-04-01/
LOCATION:Elks Lodge\, Greenville\, 7700 Pelham Rd\, Greenville\, SC\, 29615\, United States
CATEGORIES:Weekly Event
ATTACH;FMTTYPE=image/jpeg:https://vhvsc.org/wp-content/uploads/2024/02/vets-helping-vets-greenville-weekly-meeting-featured.jpg
END:VEVENT
BEGIN:VEVENT
DTSTART;TZID=America/New_York:20270325T100000
DTEND;TZID=America/New_York:20270325T113000
DTSTAMP:20260425T125332
CREATED:20240220T194818Z
LAST-MODIFIED:20250623T175718Z
UID:10000303-1805968800-1805974200@vhvsc.org
SUMMARY:Weekly Meeting
DESCRIPTION:You are welcome to join us this Thursday morning\, 10:00 am\, at the Elks Lodge in Greenville. Thank you for considering us and helping us do great things within our local veteran community.
URL:https://vhvsc.org/event/weekly-meeting-2/2027-03-25/
LOCATION:Elks Lodge\, Greenville\, 7700 Pelham Rd\, Greenville\, SC\, 29615\, United States
CATEGORIES:Weekly Event
ATTACH;FMTTYPE=image/jpeg:https://vhvsc.org/wp-content/uploads/2024/02/vets-helping-vets-greenville-weekly-meeting-featured.jpg
END:VEVENT
BEGIN:VEVENT
DTSTART;TZID=America/New_York:20270318T100000
DTEND;TZID=America/New_York:20270318T113000
DTSTAMP:20260425T125332
CREATED:20240220T235908Z
LAST-MODIFIED:20250626T132116Z
UID:10000564-1805364000-1805369400@vhvsc.org
SUMMARY:Weekly Meeting
DESCRIPTION:You are welcome to join us this Thursday morning\, 10:00 am\, at the Elks Lodge in Greenville. Thank you for considering us and helping us do great things within our local veteran community.
URL:https://vhvsc.org/event/weekly-meeting-5/2027-03-18/
LOCATION:Elks Lodge\, Greenville\, 7700 Pelham Rd\, Greenville\, SC\, 29615\, United States
CATEGORIES:Weekly Event
ATTACH;FMTTYPE=image/jpeg:https://vhvsc.org/wp-content/uploads/2024/02/vets-helping-vets-greenville-weekly-meeting-featured.jpg
END:VEVENT
BEGIN:VEVENT
DTSTART;TZID=America/New_York:20270311T183000
DTEND;TZID=America/New_York:20270311T200000
DTSTAMP:20260425T125332
CREATED:20240220T194320Z
LAST-MODIFIED:20250623T175453Z
UID:10000444-1804789800-1804795200@vhvsc.org
SUMMARY:Monthly Evening Meeting
DESCRIPTION:You are welcome to participate in our potluck at Elks Lodge Greenville on the second Thursday of every month from 6:30 p.m. to 8:00 p.m. Thank you for considering us and helping us do great things within our local veteran community.
URL:https://vhvsc.org/event/weekly-meeting/2027-03-11/
LOCATION:Elks Lodge\, Greenville\, 7700 Pelham Rd\, Greenville\, SC\, 29615\, United States
CATEGORIES:Monthly Event
ATTACH;FMTTYPE=image/jpeg:https://vhvsc.org/wp-content/uploads/2024/02/vets-helping-vets-greenville-weekly-meeting-featured.jpg
END:VEVENT
BEGIN:VEVENT
DTSTART;TZID=America/New_York:20270304T100000
DTEND;TZID=America/New_York:20270304T113000
DTSTAMP:20260425T125332
CREATED:20240220T195030Z
LAST-MODIFIED:20250623T175557Z
UID:10000383-1804154400-1804159800@vhvsc.org
SUMMARY:Weekly Meeting
DESCRIPTION:You are welcome to join us this Thursday morning\, 10:00 am\, at the Elks Lodge in Greenville. Thank you for considering us and helping us do great things within our local veteran community.
URL:https://vhvsc.org/event/weekly-meeting-4/2027-03-04/
LOCATION:Elks Lodge\, Greenville\, 7700 Pelham Rd\, Greenville\, SC\, 29615\, United States
CATEGORIES:Weekly Event
ATTACH;FMTTYPE=image/jpeg:https://vhvsc.org/wp-content/uploads/2024/02/vets-helping-vets-greenville-weekly-meeting-featured.jpg
END:VEVENT
BEGIN:VEVENT
DTSTART;TZID=America/New_York:20270225T100000
DTEND;TZID=America/New_York:20270225T113000
DTSTAMP:20260425T125332
CREATED:20240220T194818Z
LAST-MODIFIED:20250623T175718Z
UID:10000302-1803549600-1803555000@vhvsc.org
SUMMARY:Weekly Meeting
DESCRIPTION:You are welcome to join us this Thursday morning\, 10:00 am\, at the Elks Lodge in Greenville. Thank you for considering us and helping us do great things within our local veteran community.
URL:https://vhvsc.org/event/weekly-meeting-2/2027-02-25/
LOCATION:Elks Lodge\, Greenville\, 7700 Pelham Rd\, Greenville\, SC\, 29615\, United States
CATEGORIES:Weekly Event
ATTACH;FMTTYPE=image/jpeg:https://vhvsc.org/wp-content/uploads/2024/02/vets-helping-vets-greenville-weekly-meeting-featured.jpg
END:VEVENT
BEGIN:VEVENT
DTSTART;TZID=America/New_York:20270218T100000
DTEND;TZID=America/New_York:20270218T113000
DTSTAMP:20260425T125332
CREATED:20240220T235908Z
LAST-MODIFIED:20250626T132116Z
UID:10000563-1802944800-1802950200@vhvsc.org
SUMMARY:Weekly Meeting
DESCRIPTION:You are welcome to join us this Thursday morning\, 10:00 am\, at the Elks Lodge in Greenville. Thank you for considering us and helping us do great things within our local veteran community.
URL:https://vhvsc.org/event/weekly-meeting-5/2027-02-18/
LOCATION:Elks Lodge\, Greenville\, 7700 Pelham Rd\, Greenville\, SC\, 29615\, United States
CATEGORIES:Weekly Event
ATTACH;FMTTYPE=image/jpeg:https://vhvsc.org/wp-content/uploads/2024/02/vets-helping-vets-greenville-weekly-meeting-featured.jpg
END:VEVENT
BEGIN:VEVENT
DTSTART;TZID=America/New_York:20270211T183000
DTEND;TZID=America/New_York:20270211T200000
DTSTAMP:20260425T125332
CREATED:20240220T194320Z
LAST-MODIFIED:20250623T175453Z
UID:10000443-1802370600-1802376000@vhvsc.org
SUMMARY:Monthly Evening Meeting
DESCRIPTION:You are welcome to participate in our potluck at Elks Lodge Greenville on the second Thursday of every month from 6:30 p.m. to 8:00 p.m. Thank you for considering us and helping us do great things within our local veteran community.
URL:https://vhvsc.org/event/weekly-meeting/2027-02-11/
LOCATION:Elks Lodge\, Greenville\, 7700 Pelham Rd\, Greenville\, SC\, 29615\, United States
CATEGORIES:Monthly Event
ATTACH;FMTTYPE=image/jpeg:https://vhvsc.org/wp-content/uploads/2024/02/vets-helping-vets-greenville-weekly-meeting-featured.jpg
END:VEVENT
BEGIN:VEVENT
DTSTART;TZID=America/New_York:20270204T100000
DTEND;TZID=America/New_York:20270204T113000
DTSTAMP:20260425T125332
CREATED:20240220T195030Z
LAST-MODIFIED:20250623T175557Z
UID:10000382-1801735200-1801740600@vhvsc.org
SUMMARY:Weekly Meeting
DESCRIPTION:You are welcome to join us this Thursday morning\, 10:00 am\, at the Elks Lodge in Greenville. Thank you for considering us and helping us do great things within our local veteran community.
URL:https://vhvsc.org/event/weekly-meeting-4/2027-02-04/
LOCATION:Elks Lodge\, Greenville\, 7700 Pelham Rd\, Greenville\, SC\, 29615\, United States
CATEGORIES:Weekly Event
ATTACH;FMTTYPE=image/jpeg:https://vhvsc.org/wp-content/uploads/2024/02/vets-helping-vets-greenville-weekly-meeting-featured.jpg
END:VEVENT
BEGIN:VEVENT
DTSTART;TZID=America/New_York:20270128T100000
DTEND;TZID=America/New_York:20270128T113000
DTSTAMP:20260425T125332
CREATED:20240220T194818Z
LAST-MODIFIED:20250623T175718Z
UID:10000301-1801130400-1801135800@vhvsc.org
SUMMARY:Weekly Meeting
DESCRIPTION:You are welcome to join us this Thursday morning\, 10:00 am\, at the Elks Lodge in Greenville. Thank you for considering us and helping us do great things within our local veteran community.
URL:https://vhvsc.org/event/weekly-meeting-2/2027-01-28/
LOCATION:Elks Lodge\, Greenville\, 7700 Pelham Rd\, Greenville\, SC\, 29615\, United States
CATEGORIES:Weekly Event
ATTACH;FMTTYPE=image/jpeg:https://vhvsc.org/wp-content/uploads/2024/02/vets-helping-vets-greenville-weekly-meeting-featured.jpg
END:VEVENT
BEGIN:VEVENT
DTSTART;TZID=America/New_York:20270121T100000
DTEND;TZID=America/New_York:20270121T113000
DTSTAMP:20260425T125332
CREATED:20240220T235908Z
LAST-MODIFIED:20250626T132116Z
UID:10000562-1800525600-1800531000@vhvsc.org
SUMMARY:Weekly Meeting
DESCRIPTION:You are welcome to join us this Thursday morning\, 10:00 am\, at the Elks Lodge in Greenville. Thank you for considering us and helping us do great things within our local veteran community.
URL:https://vhvsc.org/event/weekly-meeting-5/2027-01-21/
LOCATION:Elks Lodge\, Greenville\, 7700 Pelham Rd\, Greenville\, SC\, 29615\, United States
CATEGORIES:Weekly Event
ATTACH;FMTTYPE=image/jpeg:https://vhvsc.org/wp-content/uploads/2024/02/vets-helping-vets-greenville-weekly-meeting-featured.jpg
END:VEVENT
BEGIN:VEVENT
DTSTART;TZID=America/New_York:20270114T183000
DTEND;TZID=America/New_York:20270114T200000
DTSTAMP:20260425T125332
CREATED:20240220T194320Z
LAST-MODIFIED:20250623T175453Z
UID:10000442-1799951400-1799956800@vhvsc.org
SUMMARY:Monthly Evening Meeting
DESCRIPTION:You are welcome to participate in our potluck at Elks Lodge Greenville on the second Thursday of every month from 6:30 p.m. to 8:00 p.m. Thank you for considering us and helping us do great things within our local veteran community.
URL:https://vhvsc.org/event/weekly-meeting/2027-01-14/
LOCATION:Elks Lodge\, Greenville\, 7700 Pelham Rd\, Greenville\, SC\, 29615\, United States
CATEGORIES:Monthly Event
ATTACH;FMTTYPE=image/jpeg:https://vhvsc.org/wp-content/uploads/2024/02/vets-helping-vets-greenville-weekly-meeting-featured.jpg
END:VEVENT
BEGIN:VEVENT
DTSTART;TZID=America/New_York:20270107T100000
DTEND;TZID=America/New_York:20270107T113000
DTSTAMP:20260425T125332
CREATED:20240220T195030Z
LAST-MODIFIED:20250623T175557Z
UID:10000381-1799316000-1799321400@vhvsc.org
SUMMARY:Weekly Meeting
DESCRIPTION:You are welcome to join us this Thursday morning\, 10:00 am\, at the Elks Lodge in Greenville. Thank you for considering us and helping us do great things within our local veteran community.
URL:https://vhvsc.org/event/weekly-meeting-4/2027-01-07/
LOCATION:Elks Lodge\, Greenville\, 7700 Pelham Rd\, Greenville\, SC\, 29615\, United States
CATEGORIES:Weekly Event
ATTACH;FMTTYPE=image/jpeg:https://vhvsc.org/wp-content/uploads/2024/02/vets-helping-vets-greenville-weekly-meeting-featured.jpg
END:VEVENT
BEGIN:VEVENT
DTSTART;TZID=America/New_York:20261231T100000
DTEND;TZID=America/New_York:20261231T113000
DTSTAMP:20260425T125332
CREATED:20240220T194921Z
LAST-MODIFIED:20250625T115510Z
UID:10000338-1798711200-1798716600@vhvsc.org
SUMMARY:Weekly Meeting
DESCRIPTION:You are welcome to join us this Thursday morning\, 10:00 am\, at the Elks Lodge in Greenville. Thank you for considering us and helping us do great things within our local veteran community.
URL:https://vhvsc.org/event/weekly-meeting-3/2026-12-31/
LOCATION:Elks Lodge\, Greenville\, 7700 Pelham Rd\, Greenville\, SC\, 29615\, United States
CATEGORIES:Weekly Event
ATTACH;FMTTYPE=image/jpeg:https://vhvsc.org/wp-content/uploads/2024/02/vets-helping-vets-greenville-weekly-meeting-featured.jpg
END:VEVENT
BEGIN:VEVENT
DTSTART;TZID=America/New_York:20261224T100000
DTEND;TZID=America/New_York:20261224T113000
DTSTAMP:20260425T125332
CREATED:20240220T194818Z
LAST-MODIFIED:20250623T175718Z
UID:10000300-1798106400-1798111800@vhvsc.org
SUMMARY:Weekly Meeting
DESCRIPTION:You are welcome to join us this Thursday morning\, 10:00 am\, at the Elks Lodge in Greenville. Thank you for considering us and helping us do great things within our local veteran community.
URL:https://vhvsc.org/event/weekly-meeting-2/2026-12-24/
LOCATION:Elks Lodge\, Greenville\, 7700 Pelham Rd\, Greenville\, SC\, 29615\, United States
CATEGORIES:Weekly Event
ATTACH;FMTTYPE=image/jpeg:https://vhvsc.org/wp-content/uploads/2024/02/vets-helping-vets-greenville-weekly-meeting-featured.jpg
END:VEVENT
BEGIN:VEVENT
DTSTART;TZID=America/New_York:20261217T100000
DTEND;TZID=America/New_York:20261217T113000
DTSTAMP:20260425T125332
CREATED:20240220T235908Z
LAST-MODIFIED:20250626T132116Z
UID:10000561-1797501600-1797507000@vhvsc.org
SUMMARY:Weekly Meeting
DESCRIPTION:You are welcome to join us this Thursday morning\, 10:00 am\, at the Elks Lodge in Greenville. Thank you for considering us and helping us do great things within our local veteran community.
URL:https://vhvsc.org/event/weekly-meeting-5/2026-12-17/
LOCATION:Elks Lodge\, Greenville\, 7700 Pelham Rd\, Greenville\, SC\, 29615\, United States
CATEGORIES:Weekly Event
ATTACH;FMTTYPE=image/jpeg:https://vhvsc.org/wp-content/uploads/2024/02/vets-helping-vets-greenville-weekly-meeting-featured.jpg
END:VEVENT
BEGIN:VEVENT
DTSTART;TZID=America/New_York:20261210T183000
DTEND;TZID=America/New_York:20261210T200000
DTSTAMP:20260425T125332
CREATED:20240220T194320Z
LAST-MODIFIED:20250623T175453Z
UID:10000441-1796927400-1796932800@vhvsc.org
SUMMARY:Monthly Evening Meeting
DESCRIPTION:You are welcome to participate in our potluck at Elks Lodge Greenville on the second Thursday of every month from 6:30 p.m. to 8:00 p.m. Thank you for considering us and helping us do great things within our local veteran community.
URL:https://vhvsc.org/event/weekly-meeting/2026-12-10/
LOCATION:Elks Lodge\, Greenville\, 7700 Pelham Rd\, Greenville\, SC\, 29615\, United States
CATEGORIES:Monthly Event
ATTACH;FMTTYPE=image/jpeg:https://vhvsc.org/wp-content/uploads/2024/02/vets-helping-vets-greenville-weekly-meeting-featured.jpg
END:VEVENT
BEGIN:VEVENT
DTSTART;TZID=America/New_York:20261203T100000
DTEND;TZID=America/New_York:20261203T113000
DTSTAMP:20260425T125332
CREATED:20240220T195030Z
LAST-MODIFIED:20250623T175557Z
UID:10000380-1796292000-1796297400@vhvsc.org
SUMMARY:Weekly Meeting
DESCRIPTION:You are welcome to join us this Thursday morning\, 10:00 am\, at the Elks Lodge in Greenville. Thank you for considering us and helping us do great things within our local veteran community.
URL:https://vhvsc.org/event/weekly-meeting-4/2026-12-03/
LOCATION:Elks Lodge\, Greenville\, 7700 Pelham Rd\, Greenville\, SC\, 29615\, United States
CATEGORIES:Weekly Event
ATTACH;FMTTYPE=image/jpeg:https://vhvsc.org/wp-content/uploads/2024/02/vets-helping-vets-greenville-weekly-meeting-featured.jpg
END:VEVENT
BEGIN:VEVENT
DTSTART;TZID=America/New_York:20261126T100000
DTEND;TZID=America/New_York:20261126T113000
DTSTAMP:20260425T125332
CREATED:20240220T194818Z
LAST-MODIFIED:20250623T175718Z
UID:10000299-1795687200-1795692600@vhvsc.org
SUMMARY:Weekly Meeting
DESCRIPTION:You are welcome to join us this Thursday morning\, 10:00 am\, at the Elks Lodge in Greenville. Thank you for considering us and helping us do great things within our local veteran community.
URL:https://vhvsc.org/event/weekly-meeting-2/2026-11-26/
LOCATION:Elks Lodge\, Greenville\, 7700 Pelham Rd\, Greenville\, SC\, 29615\, United States
CATEGORIES:Weekly Event
ATTACH;FMTTYPE=image/jpeg:https://vhvsc.org/wp-content/uploads/2024/02/vets-helping-vets-greenville-weekly-meeting-featured.jpg
END:VEVENT
BEGIN:VEVENT
DTSTART;TZID=America/New_York:20261119T100000
DTEND;TZID=America/New_York:20261119T113000
DTSTAMP:20260425T125332
CREATED:20240220T235908Z
LAST-MODIFIED:20250626T132116Z
UID:10000560-1795082400-1795087800@vhvsc.org
SUMMARY:Weekly Meeting
DESCRIPTION:You are welcome to join us this Thursday morning\, 10:00 am\, at the Elks Lodge in Greenville. Thank you for considering us and helping us do great things within our local veteran community.
URL:https://vhvsc.org/event/weekly-meeting-5/2026-11-19/
LOCATION:Elks Lodge\, Greenville\, 7700 Pelham Rd\, Greenville\, SC\, 29615\, United States
CATEGORIES:Weekly Event
ATTACH;FMTTYPE=image/jpeg:https://vhvsc.org/wp-content/uploads/2024/02/vets-helping-vets-greenville-weekly-meeting-featured.jpg
END:VEVENT
BEGIN:VEVENT
DTSTART;TZID=America/New_York:20261112T183000
DTEND;TZID=America/New_York:20261112T200000
DTSTAMP:20260425T125332
CREATED:20240220T194320Z
LAST-MODIFIED:20250623T175453Z
UID:10000440-1794508200-1794513600@vhvsc.org
SUMMARY:Monthly Evening Meeting
DESCRIPTION:You are welcome to participate in our potluck at Elks Lodge Greenville on the second Thursday of every month from 6:30 p.m. to 8:00 p.m. Thank you for considering us and helping us do great things within our local veteran community.
URL:https://vhvsc.org/event/weekly-meeting/2026-11-12/
LOCATION:Elks Lodge\, Greenville\, 7700 Pelham Rd\, Greenville\, SC\, 29615\, United States
CATEGORIES:Monthly Event
ATTACH;FMTTYPE=image/jpeg:https://vhvsc.org/wp-content/uploads/2024/02/vets-helping-vets-greenville-weekly-meeting-featured.jpg
END:VEVENT
END:VCALENDAR