BEGIN:VCALENDAR
VERSION:2.0
PRODID:-//Vets Helping Vets Greenville - ECPv6.15.20//NONSGML v1.0//EN
CALSCALE:GREGORIAN
METHOD:PUBLISH
X-WR-CALNAME:Vets Helping Vets Greenville
X-ORIGINAL-URL:https://vhvsc.org
X-WR-CALDESC:Events for Vets Helping Vets Greenville
REFRESH-INTERVAL;VALUE=DURATION:PT1H
X-Robots-Tag:noindex
X-PUBLISHED-TTL:PT1H
BEGIN:VTIMEZONE
TZID:America/New_York
BEGIN:DAYLIGHT
TZOFFSETFROM:-0500
TZOFFSETTO:-0400
TZNAME:EDT
DTSTART:20230312T070000
END:DAYLIGHT
BEGIN:STANDARD
TZOFFSETFROM:-0400
TZOFFSETTO:-0500
TZNAME:EST
DTSTART:20231105T060000
END:STANDARD
BEGIN:DAYLIGHT
TZOFFSETFROM:-0500
TZOFFSETTO:-0400
TZNAME:EDT
DTSTART:20240310T070000
END:DAYLIGHT
BEGIN:STANDARD
TZOFFSETFROM:-0400
TZOFFSETTO:-0500
TZNAME:EST
DTSTART:20241103T060000
END:STANDARD
BEGIN:DAYLIGHT
TZOFFSETFROM:-0500
TZOFFSETTO:-0400
TZNAME:EDT
DTSTART:20250309T070000
END:DAYLIGHT
BEGIN:STANDARD
TZOFFSETFROM:-0400
TZOFFSETTO:-0500
TZNAME:EST
DTSTART:20251102T060000
END:STANDARD
END:VTIMEZONE
BEGIN:VEVENT
DTSTART;TZID=America/New_York:20241107T100000
DTEND;TZID=America/New_York:20241107T113000
DTSTAMP:20260425T100612
CREATED:20240220T195030Z
LAST-MODIFIED:20250623T175557Z
UID:10000355-1730973600-1730979000@vhvsc.org
SUMMARY:Weekly Meeting
DESCRIPTION:You are welcome to join us this Thursday morning\, 10:00 am\, at the Elks Lodge in Greenville. Thank you for considering us and helping us do great things within our local veteran community.
URL:https://vhvsc.org/event/weekly-meeting-4/2024-11-07/
LOCATION:Elks Lodge\, Greenville\, 7700 Pelham Rd\, Greenville\, SC\, 29615\, United States
CATEGORIES:Weekly Event
ATTACH;FMTTYPE=image/jpeg:https://vhvsc.org/wp-content/uploads/2024/02/vets-helping-vets-greenville-weekly-meeting-featured.jpg
END:VEVENT
BEGIN:VEVENT
DTSTART;TZID=America/New_York:20241031T100000
DTEND;TZID=America/New_York:20241031T113000
DTSTAMP:20260425T100612
CREATED:20240220T194921Z
LAST-MODIFIED:20250625T115510Z
UID:10000329-1730368800-1730374200@vhvsc.org
SUMMARY:Weekly Meeting
DESCRIPTION:You are welcome to join us this Thursday morning\, 10:00 am\, at the Elks Lodge in Greenville. Thank you for considering us and helping us do great things within our local veteran community.
URL:https://vhvsc.org/event/weekly-meeting-3/2024-10-31/
LOCATION:Elks Lodge\, Greenville\, 7700 Pelham Rd\, Greenville\, SC\, 29615\, United States
CATEGORIES:Weekly Event
ATTACH;FMTTYPE=image/jpeg:https://vhvsc.org/wp-content/uploads/2024/02/vets-helping-vets-greenville-weekly-meeting-featured.jpg
END:VEVENT
BEGIN:VEVENT
DTSTART;TZID=America/New_York:20241025T000000
DTEND;TZID=America/New_York:20241025T235959
DTSTAMP:20260425T100612
CREATED:20240527T130128Z
LAST-MODIFIED:20240527T130130Z
UID:10000607-1729814400-1729900799@vhvsc.org
SUMMARY:Mauldin Badge vs Badge
DESCRIPTION:Sponsored by First Step Realty has been rescheduled to Friday\, October 25\, at Mauldin High School.
URL:https://vhvsc.org/event/mauldin-badge-vs-badge/
LOCATION:South Carolina
END:VEVENT
BEGIN:VEVENT
DTSTART;TZID=America/New_York:20241024T100000
DTEND;TZID=America/New_York:20241024T113000
DTSTAMP:20260425T100612
CREATED:20240220T194818Z
LAST-MODIFIED:20250623T175718Z
UID:10000274-1729764000-1729769400@vhvsc.org
SUMMARY:Weekly Meeting
DESCRIPTION:You are welcome to join us this Thursday morning\, 10:00 am\, at the Elks Lodge in Greenville. Thank you for considering us and helping us do great things within our local veteran community.
URL:https://vhvsc.org/event/weekly-meeting-2/2024-10-24/
LOCATION:Elks Lodge\, Greenville\, 7700 Pelham Rd\, Greenville\, SC\, 29615\, United States
CATEGORIES:Weekly Event
ATTACH;FMTTYPE=image/jpeg:https://vhvsc.org/wp-content/uploads/2024/02/vets-helping-vets-greenville-weekly-meeting-featured.jpg
END:VEVENT
BEGIN:VEVENT
DTSTART;TZID=America/New_York:20241017T100000
DTEND;TZID=America/New_York:20241017T113000
DTSTAMP:20260425T100612
CREATED:20240220T235908Z
LAST-MODIFIED:20250626T132116Z
UID:10000535-1729159200-1729164600@vhvsc.org
SUMMARY:Weekly Meeting
DESCRIPTION:You are welcome to join us this Thursday morning\, 10:00 am\, at the Elks Lodge in Greenville. Thank you for considering us and helping us do great things within our local veteran community.
URL:https://vhvsc.org/event/weekly-meeting-5/2024-10-17/
LOCATION:Elks Lodge\, Greenville\, 7700 Pelham Rd\, Greenville\, SC\, 29615\, United States
CATEGORIES:Weekly Event
ATTACH;FMTTYPE=image/jpeg:https://vhvsc.org/wp-content/uploads/2024/02/vets-helping-vets-greenville-weekly-meeting-featured.jpg
END:VEVENT
BEGIN:VEVENT
DTSTART;TZID=America/New_York:20241010T183000
DTEND;TZID=America/New_York:20241010T200000
DTSTAMP:20260425T100612
CREATED:20240220T194320Z
LAST-MODIFIED:20250623T175453Z
UID:10000415-1728585000-1728590400@vhvsc.org
SUMMARY:Monthly Evening Meeting
DESCRIPTION:You are welcome to participate in our potluck at Elks Lodge Greenville on the second Thursday of every month from 6:30 p.m. to 8:00 p.m. Thank you for considering us and helping us do great things within our local veteran community.
URL:https://vhvsc.org/event/weekly-meeting/2024-10-10/
LOCATION:Elks Lodge\, Greenville\, 7700 Pelham Rd\, Greenville\, SC\, 29615\, United States
CATEGORIES:Monthly Event
ATTACH;FMTTYPE=image/jpeg:https://vhvsc.org/wp-content/uploads/2024/02/vets-helping-vets-greenville-weekly-meeting-featured.jpg
END:VEVENT
BEGIN:VEVENT
DTSTART;TZID=America/New_York:20241003T100000
DTEND;TZID=America/New_York:20241003T113000
DTSTAMP:20260425T100612
CREATED:20240220T195030Z
LAST-MODIFIED:20250623T175557Z
UID:10000354-1727949600-1727955000@vhvsc.org
SUMMARY:Weekly Meeting
DESCRIPTION:You are welcome to join us this Thursday morning\, 10:00 am\, at the Elks Lodge in Greenville. Thank you for considering us and helping us do great things within our local veteran community.
URL:https://vhvsc.org/event/weekly-meeting-4/2024-10-03/
LOCATION:Elks Lodge\, Greenville\, 7700 Pelham Rd\, Greenville\, SC\, 29615\, United States
CATEGORIES:Weekly Event
ATTACH;FMTTYPE=image/jpeg:https://vhvsc.org/wp-content/uploads/2024/02/vets-helping-vets-greenville-weekly-meeting-featured.jpg
END:VEVENT
BEGIN:VEVENT
DTSTART;TZID=America/New_York:20240926T100000
DTEND;TZID=America/New_York:20240926T113000
DTSTAMP:20260425T100612
CREATED:20240220T194818Z
LAST-MODIFIED:20250623T175718Z
UID:10000273-1727344800-1727350200@vhvsc.org
SUMMARY:Weekly Meeting
DESCRIPTION:You are welcome to join us this Thursday morning\, 10:00 am\, at the Elks Lodge in Greenville. Thank you for considering us and helping us do great things within our local veteran community.
URL:https://vhvsc.org/event/weekly-meeting-2/2024-09-26/
LOCATION:Elks Lodge\, Greenville\, 7700 Pelham Rd\, Greenville\, SC\, 29615\, United States
CATEGORIES:Weekly Event
ATTACH;FMTTYPE=image/jpeg:https://vhvsc.org/wp-content/uploads/2024/02/vets-helping-vets-greenville-weekly-meeting-featured.jpg
END:VEVENT
BEGIN:VEVENT
DTSTART;TZID=America/New_York:20240919T100000
DTEND;TZID=America/New_York:20240919T113000
DTSTAMP:20260425T100612
CREATED:20240220T235908Z
LAST-MODIFIED:20250626T132116Z
UID:10000534-1726740000-1726745400@vhvsc.org
SUMMARY:Weekly Meeting
DESCRIPTION:You are welcome to join us this Thursday morning\, 10:00 am\, at the Elks Lodge in Greenville. Thank you for considering us and helping us do great things within our local veteran community.
URL:https://vhvsc.org/event/weekly-meeting-5/2024-09-19/
LOCATION:Elks Lodge\, Greenville\, 7700 Pelham Rd\, Greenville\, SC\, 29615\, United States
CATEGORIES:Weekly Event
ATTACH;FMTTYPE=image/jpeg:https://vhvsc.org/wp-content/uploads/2024/02/vets-helping-vets-greenville-weekly-meeting-featured.jpg
END:VEVENT
BEGIN:VEVENT
DTSTART;TZID=America/New_York:20240912T183000
DTEND;TZID=America/New_York:20240912T200000
DTSTAMP:20260425T100612
CREATED:20240220T194320Z
LAST-MODIFIED:20250623T175453Z
UID:10000414-1726165800-1726171200@vhvsc.org
SUMMARY:Monthly Evening Meeting
DESCRIPTION:You are welcome to participate in our potluck at Elks Lodge Greenville on the second Thursday of every month from 6:30 p.m. to 8:00 p.m. Thank you for considering us and helping us do great things within our local veteran community.
URL:https://vhvsc.org/event/weekly-meeting/2024-09-12/
LOCATION:Elks Lodge\, Greenville\, 7700 Pelham Rd\, Greenville\, SC\, 29615\, United States
CATEGORIES:Monthly Event
ATTACH;FMTTYPE=image/jpeg:https://vhvsc.org/wp-content/uploads/2024/02/vets-helping-vets-greenville-weekly-meeting-featured.jpg
END:VEVENT
BEGIN:VEVENT
DTSTART;TZID=America/New_York:20240907T173000
DTEND;TZID=America/New_York:20240907T220000
DTSTAMP:20260425T100612
CREATED:20240709T133136Z
LAST-MODIFIED:20240820T185627Z
UID:10000629-1725730200-1725746400@vhvsc.org
SUMMARY:Volunteer at Fluor Field
DESCRIPTION:Volunteer opportunity to work at one of the concession stands at Fluor Field. Volunteering at Fluor Field Concessions is to raise money for Vets Helping Vets. \n\n\n\nDress code\n\n\n\n\nMust wear a hat\n\n\n\nPants need to be either khakis\, dark slacks or shorts\, no blue jeans\n\n\n\nA shirt that has a military theme or a Vets Helping Vets shirt\n\n\n\nClosed toe shoes\n\n\n\n\nShow time is at 5:30 PM at the roll up door across from Shoeless Joe Jackson’s home.
URL:https://vhvsc.org/event/volunteer-at-fluor-field-19/
LOCATION:South Carolina
CATEGORIES:Fundraiser
END:VEVENT
BEGIN:VEVENT
DTSTART;TZID=America/New_York:20240905T100000
DTEND;TZID=America/New_York:20240905T113000
DTSTAMP:20260425T100612
CREATED:20240220T195030Z
LAST-MODIFIED:20250623T175557Z
UID:10000353-1725530400-1725535800@vhvsc.org
SUMMARY:Weekly Meeting
DESCRIPTION:You are welcome to join us this Thursday morning\, 10:00 am\, at the Elks Lodge in Greenville. Thank you for considering us and helping us do great things within our local veteran community.
URL:https://vhvsc.org/event/weekly-meeting-4/2024-09-05/
LOCATION:Elks Lodge\, Greenville\, 7700 Pelham Rd\, Greenville\, SC\, 29615\, United States
CATEGORIES:Weekly Event
ATTACH;FMTTYPE=image/jpeg:https://vhvsc.org/wp-content/uploads/2024/02/vets-helping-vets-greenville-weekly-meeting-featured.jpg
END:VEVENT
BEGIN:VEVENT
DTSTART;TZID=America/New_York:20240903T173000
DTEND;TZID=America/New_York:20240903T220000
DTSTAMP:20260425T100612
CREATED:20240709T133101Z
LAST-MODIFIED:20240820T185707Z
UID:10000628-1725384600-1725400800@vhvsc.org
SUMMARY:Volunteer at Fluor Field
DESCRIPTION:Volunteer opportunity to work at one of the concession stands at Fluor Field. Volunteering at Fluor Field Concessions is to raise money for Vets Helping Vets. \n\n\n\nDress code\n\n\n\n\nMust wear a hat\n\n\n\nPants need to be either khakis\, dark slacks or shorts\, no blue jeans\n\n\n\nA shirt that has a military theme or a Vets Helping Vets shirt\n\n\n\nClosed toe shoes\n\n\n\n\nShow time is at 5:30 PM at the roll up door across from Shoeless Joe Jackson’s home.
URL:https://vhvsc.org/event/volunteer-at-fluor-field-18/
LOCATION:South Carolina
CATEGORIES:Fundraiser
END:VEVENT
BEGIN:VEVENT
DTSTART;TZID=America/New_York:20240829T100000
DTEND;TZID=America/New_York:20240829T113000
DTSTAMP:20260425T100612
CREATED:20240220T194921Z
LAST-MODIFIED:20250625T115510Z
UID:10000328-1724925600-1724931000@vhvsc.org
SUMMARY:Weekly Meeting
DESCRIPTION:You are welcome to join us this Thursday morning\, 10:00 am\, at the Elks Lodge in Greenville. Thank you for considering us and helping us do great things within our local veteran community.
URL:https://vhvsc.org/event/weekly-meeting-3/2024-08-29/
LOCATION:Elks Lodge\, Greenville\, 7700 Pelham Rd\, Greenville\, SC\, 29615\, United States
CATEGORIES:Weekly Event
ATTACH;FMTTYPE=image/jpeg:https://vhvsc.org/wp-content/uploads/2024/02/vets-helping-vets-greenville-weekly-meeting-featured.jpg
END:VEVENT
BEGIN:VEVENT
DTSTART;TZID=America/New_York:20240824T173000
DTEND;TZID=America/New_York:20240824T220000
DTSTAMP:20260425T100612
CREATED:20240709T133017Z
LAST-MODIFIED:20240820T185807Z
UID:10000627-1724520600-1724536800@vhvsc.org
SUMMARY:Volunteer at fluor Field
DESCRIPTION:Volunteer opportunity to work at one of the concession stands at Fluor Field. Volunteering at Fluor Field Concessions is to raise money for Vets Helping Vets. \n\n\n\nDress code\n\n\n\n\nMust wear a hat\n\n\n\nPants need to be either khakis\, dark slacks or shorts\, no blue jeans\n\n\n\nA shirt that has a military theme or a Vets Helping Vets shirt\n\n\n\nClosed toe shoes\n\n\n\n\nShow time is at 5:30 PM at the roll up door across from Shoeless Joe Jackson’s home.
URL:https://vhvsc.org/event/volunteer-at-fluor-field-17/
LOCATION:South Carolina
CATEGORIES:Fundraiser
END:VEVENT
BEGIN:VEVENT
DTSTART;TZID=America/New_York:20240824T080000
DTEND;TZID=America/New_York:20240824T160000
DTSTAMP:20260425T100612
CREATED:20240729T000538Z
LAST-MODIFIED:20240729T220258Z
UID:10000631-1724486400-1724515200@vhvsc.org
SUMMARY:Catfish Tournament Fundraiser
DESCRIPTION:Event Timing\n\n\n\n8:00 AM– CHECK-IN \n\n\n\n9:00 AM- 3:00 PM– FISHING \n\n\n\n3:00 PM – 4:00 PM– PRIZES TO BE AWARDED \n\n\n\nPRIZES\n\n\n\nFIRST PLACE: $400SECOND PLACE: $200THIRD PLACE: $100 \n\n\n\nRULES\n\n\n\nRAIN OR SHINE!!! \n\n\n\nBring your own chairs\, coolers\, snacks\, non alcoholic beverages\, and NO GLASS. \n\n\n\nReally Important\n\n\n\n\n\n\nNo alcoholic beverages\n\n\n\nNo disorderly conduct allowed\n\n\n\nParents are responsible for their children\n\n\n\nAges 10 + and anyone under 18 must have a parent or guardian with them at all times.\n\n\n\n\n\n\n\n2 poles per person max\n\n\n\nNo sharing of fish\n\n\n\nEveryone is responsible for their own trash\n\n\n\nThe most important rule is to have FUN!
URL:https://vhvsc.org/event/catfish-tournament-fundraiser/
LOCATION:Fire Lake\, 1897 Cheddar Rd\, Belton\, South Carolina\, 29627\, United States
CATEGORIES:Fundraiser
ATTACH;FMTTYPE=image/jpeg:https://vhvsc.org/wp-content/uploads/2024/07/catfish-tournament-fundraiser.jpg
END:VEVENT
BEGIN:VEVENT
DTSTART;TZID=America/New_York:20240822T173000
DTEND;TZID=America/New_York:20240822T220000
DTSTAMP:20260425T100612
CREATED:20240709T132946Z
LAST-MODIFIED:20240820T185837Z
UID:10000626-1724347800-1724364000@vhvsc.org
SUMMARY:Volunteer at Fluor Field
DESCRIPTION:Volunteer opportunity to work at one of the concession stands at Fluor Field. Volunteering at Fluor Field Concessions is to raise money for Vets Helping Vets. \n\n\n\nDress code\n\n\n\n\nMust wear a hat\n\n\n\nPants need to be either khakis\, dark slacks or shorts\, no blue jeans\n\n\n\nA shirt that has a military theme or a Vets Helping Vets shirt\n\n\n\nClosed toe shoes\n\n\n\n\nShow time is at 5:30 PM at the roll up door across from Shoeless Joe Jackson’s home.
URL:https://vhvsc.org/event/volunteer-at-fluor-field-16/
LOCATION:South Carolina
CATEGORIES:Fundraiser
END:VEVENT
BEGIN:VEVENT
DTSTART;TZID=America/New_York:20240822T100000
DTEND;TZID=America/New_York:20240822T113000
DTSTAMP:20260425T100612
CREATED:20240220T194818Z
LAST-MODIFIED:20250623T175718Z
UID:10000272-1724320800-1724326200@vhvsc.org
SUMMARY:Weekly Meeting
DESCRIPTION:You are welcome to join us this Thursday morning\, 10:00 am\, at the Elks Lodge in Greenville. Thank you for considering us and helping us do great things within our local veteran community.
URL:https://vhvsc.org/event/weekly-meeting-2/2024-08-22/
LOCATION:Elks Lodge\, Greenville\, 7700 Pelham Rd\, Greenville\, SC\, 29615\, United States
CATEGORIES:Weekly Event
ATTACH;FMTTYPE=image/jpeg:https://vhvsc.org/wp-content/uploads/2024/02/vets-helping-vets-greenville-weekly-meeting-featured.jpg
END:VEVENT
BEGIN:VEVENT
DTSTART;TZID=America/New_York:20240820T173000
DTEND;TZID=America/New_York:20240820T220000
DTSTAMP:20260425T100612
CREATED:20240709T132915Z
LAST-MODIFIED:20240820T185919Z
UID:10000625-1724175000-1724191200@vhvsc.org
SUMMARY:Volunteer at Fluor Field
DESCRIPTION:Volunteer opportunity to work at one of the concession stands at Fluor Field. Volunteering at Fluor Field Concessions is to raise money for Vets Helping Vets. \n\n\n\nDress code\n\n\n\n\nMust wear a hat\n\n\n\nPants need to be either khakis\, dark slacks or shorts\, no blue jeans\n\n\n\nA shirt that has a military theme or a Vets Helping Vets shirt\n\n\n\nClosed toe shoes\n\n\n\n\nShow time is at 5:30 PM at the roll up door across from Shoeless Joe Jackson’s home.
URL:https://vhvsc.org/event/volunteer-at-fluor-field-15/
LOCATION:South Carolina
CATEGORIES:Fundraiser
END:VEVENT
BEGIN:VEVENT
DTSTART;TZID=America/New_York:20240815T100000
DTEND;TZID=America/New_York:20240815T113000
DTSTAMP:20260425T100612
CREATED:20240220T235908Z
LAST-MODIFIED:20250626T132116Z
UID:10000533-1723716000-1723721400@vhvsc.org
SUMMARY:Weekly Meeting
DESCRIPTION:You are welcome to join us this Thursday morning\, 10:00 am\, at the Elks Lodge in Greenville. Thank you for considering us and helping us do great things within our local veteran community.
URL:https://vhvsc.org/event/weekly-meeting-5/2024-08-15/
LOCATION:Elks Lodge\, Greenville\, 7700 Pelham Rd\, Greenville\, SC\, 29615\, United States
CATEGORIES:Weekly Event
ATTACH;FMTTYPE=image/jpeg:https://vhvsc.org/wp-content/uploads/2024/02/vets-helping-vets-greenville-weekly-meeting-featured.jpg
END:VEVENT
BEGIN:VEVENT
DTSTART;TZID=America/New_York:20240810T080000
DTEND;TZID=America/New_York:20240810T130000
DTSTAMP:20260425T100612
CREATED:20240715T193919Z
LAST-MODIFIED:20240728T234434Z
UID:10000630-1723276800-1723294800@vhvsc.org
SUMMARY:Yard Sale Fundraiser
DESCRIPTION:Indoor/outdoor event based on number of participants.\n\n\n\nVHV GVL DONATION PARTICIPANT: $0.00. If you have yard sale items you want to bring in to donate to sell on behalf of VHV GVL\, it will cost you $0.\n\n\n\nVHV GVL MEMBER vendor fee – $20.00 for members who wish to sell their items for a profit.\n\n\n\nNON-MEMBER vendor fee – $40.00 for non-members who wish to sell their items for a profit.\n\n\n\nEach participant will be given one table and a designated space to sell their items.
URL:https://vhvsc.org/event/yardsale-fundraiser/
LOCATION:Elks Lodge\, Greenville\, 7700 Pelham Rd\, Greenville\, SC\, 29615\, United States
CATEGORIES:Fundraiser
ATTACH;FMTTYPE=image/jpeg:https://vhvsc.org/wp-content/uploads/2024/07/vets-helping-vets-greenville-yardsale.jpg
END:VEVENT
BEGIN:VEVENT
DTSTART;TZID=America/New_York:20240808T183000
DTEND;TZID=America/New_York:20240808T200000
DTSTAMP:20260425T100612
CREATED:20240220T194320Z
LAST-MODIFIED:20250623T175453Z
UID:10000413-1723141800-1723147200@vhvsc.org
SUMMARY:Monthly Evening Meeting
DESCRIPTION:You are welcome to participate in our potluck at Elks Lodge Greenville on the second Thursday of every month from 6:30 p.m. to 8:00 p.m. Thank you for considering us and helping us do great things within our local veteran community.
URL:https://vhvsc.org/event/weekly-meeting/2024-08-08/
LOCATION:Elks Lodge\, Greenville\, 7700 Pelham Rd\, Greenville\, SC\, 29615\, United States
CATEGORIES:Monthly Event
ATTACH;FMTTYPE=image/jpeg:https://vhvsc.org/wp-content/uploads/2024/02/vets-helping-vets-greenville-weekly-meeting-featured.jpg
END:VEVENT
BEGIN:VEVENT
DTSTART;TZID=America/New_York:20240804T173000
DTEND;TZID=America/New_York:20240804T220000
DTSTAMP:20260425T100612
CREATED:20240709T132844Z
LAST-MODIFIED:20240820T185001Z
UID:10000624-1722792600-1722808800@vhvsc.org
SUMMARY:Volunteer at Fluor Field
DESCRIPTION:Volunteer opportunity to work at one of the concession stands at Fluor Field on 11 May. Volunteering at Fluor Field Concessions is to raise money for Vets Helping Vets. \n\n\n\nDress code\n\n\n\n\nMust wear a hat\n\n\n\nPants need to be either khakis\, dark slacks or shorts\, no blue jeans\n\n\n\nA shirt that has a military theme or a Vets Helping Vets shirt\n\n\n\nClosed toe shoes\n\n\n\n\nShow time is at 5:30 PM at the roll up door across from Shoeless Joe Jackson’s home.
URL:https://vhvsc.org/event/volunteer-at-fluor-field-14/
LOCATION:South Carolina
CATEGORIES:Fundraiser
END:VEVENT
BEGIN:VEVENT
DTSTART;TZID=America/New_York:20240803T100000
DTEND;TZID=America/New_York:20240803T150000
DTSTAMP:20260425T100612
CREATED:20240729T001506Z
LAST-MODIFIED:20240729T001507Z
UID:10000632-1722679200-1722697200@vhvsc.org
SUMMARY:Pack Backpacks
DESCRIPTION:Help us pack backpacks at the Greenville Elks Lodge.
URL:https://vhvsc.org/event/pack-backpacks/
LOCATION:Elks Lodge\, Greenville\, 7700 Pelham Rd\, Greenville\, SC\, 29615\, United States
END:VEVENT
BEGIN:VEVENT
DTSTART;TZID=America/New_York:20240802T173000
DTEND;TZID=America/New_York:20240802T220000
DTSTAMP:20260425T100612
CREATED:20240709T132758Z
LAST-MODIFIED:20240709T132759Z
UID:10000623-1722619800-1722636000@vhvsc.org
SUMMARY:Volunteer at fluor Field
DESCRIPTION:Volunteer opportunity to work at one of the concession stands at Fluor Field on 11 May. Volunteering at Fluor Field Concessions is to raise money for Vets Helping Vets. \n\n\n\nDress code\n\n\n\n\nMust wear a hat\n\n\n\nPants need to be either khakis\, dark slacks or shorts\, no blue jeans\n\n\n\nA shirt that has a military theme or a Vets Helping Vets shirt\n\n\n\nClosed toe shoes\n\n\n\n\nShow time is at 5:30 PM at the roll up door across from Shoeless Joe Jackson’s home.
URL:https://vhvsc.org/event/volunteer-at-fluor-field-13/
LOCATION:South Carolina
CATEGORIES:Fundraiser
END:VEVENT
BEGIN:VEVENT
DTSTART;TZID=America/New_York:20240801T100000
DTEND;TZID=America/New_York:20240801T113000
DTSTAMP:20260425T100612
CREATED:20240220T195030Z
LAST-MODIFIED:20250623T175557Z
UID:10000352-1722506400-1722511800@vhvsc.org
SUMMARY:Weekly Meeting
DESCRIPTION:You are welcome to join us this Thursday morning\, 10:00 am\, at the Elks Lodge in Greenville. Thank you for considering us and helping us do great things within our local veteran community.
URL:https://vhvsc.org/event/weekly-meeting-4/2024-08-01/
LOCATION:Elks Lodge\, Greenville\, 7700 Pelham Rd\, Greenville\, SC\, 29615\, United States
CATEGORIES:Weekly Event
ATTACH;FMTTYPE=image/jpeg:https://vhvsc.org/wp-content/uploads/2024/02/vets-helping-vets-greenville-weekly-meeting-featured.jpg
END:VEVENT
BEGIN:VEVENT
DTSTART;TZID=America/New_York:20240730T173000
DTEND;TZID=America/New_York:20240730T220000
DTSTAMP:20260425T100612
CREATED:20240709T132607Z
LAST-MODIFIED:20240709T132608Z
UID:10000622-1722360600-1722376800@vhvsc.org
SUMMARY:Volunteer at fluor Field
DESCRIPTION:Volunteer opportunity to work at one of the concession stands at Fluor Field on 11 May. Volunteering at Fluor Field Concessions is to raise money for Vets Helping Vets. \n\n\n\nDress code\n\n\n\n\nMust wear a hat\n\n\n\nPants need to be either khakis\, dark slacks or shorts\, no blue jeans\n\n\n\nA shirt that has a military theme or a Vets Helping Vets shirt\n\n\n\nClosed toe shoes\n\n\n\n\nShow time is at 5:30 PM at the roll up door across from Shoeless Joe Jackson’s home.
URL:https://vhvsc.org/event/volunteer-at-fluor-field-12/
LOCATION:South Carolina
CATEGORIES:Fundraiser
END:VEVENT
BEGIN:VEVENT
DTSTART;TZID=America/New_York:20240725T100000
DTEND;TZID=America/New_York:20240725T113000
DTSTAMP:20260425T100612
CREATED:20240220T194818Z
LAST-MODIFIED:20250623T175718Z
UID:10000271-1721901600-1721907000@vhvsc.org
SUMMARY:Weekly Meeting
DESCRIPTION:You are welcome to join us this Thursday morning\, 10:00 am\, at the Elks Lodge in Greenville. Thank you for considering us and helping us do great things within our local veteran community.
URL:https://vhvsc.org/event/weekly-meeting-2/2024-07-25/
LOCATION:Elks Lodge\, Greenville\, 7700 Pelham Rd\, Greenville\, SC\, 29615\, United States
CATEGORIES:Weekly Event
ATTACH;FMTTYPE=image/jpeg:https://vhvsc.org/wp-content/uploads/2024/02/vets-helping-vets-greenville-weekly-meeting-featured.jpg
END:VEVENT
BEGIN:VEVENT
DTSTART;TZID=America/New_York:20240723T173000
DTEND;TZID=America/New_York:20240723T203000
DTSTAMP:20260425T100612
CREATED:20240527T130021Z
LAST-MODIFIED:20240527T130022Z
UID:10000606-1721755800-1721766600@vhvsc.org
SUMMARY:Liberty Networking (Stars & Stripes Chapter
DESCRIPTION:Powdersville) Social – Tuesday\, July 23\, Silos in Easley SC. Start time 5:30. This is a fundraiser for VHV GVL.
URL:https://vhvsc.org/event/liberty-networking-stars-stripes-chapter/
LOCATION:South Carolina
CATEGORIES:Fundraiser
END:VEVENT
BEGIN:VEVENT
DTSTART;TZID=America/New_York:20240723T173000
DTEND;TZID=America/New_York:20240723T190000
DTSTAMP:20260425T100612
CREATED:20240709T132526Z
LAST-MODIFIED:20240709T132635Z
UID:10000621-1721755800-1721761200@vhvsc.org
SUMMARY:Liberty Networking Group
DESCRIPTION:
URL:https://vhvsc.org/event/liberty-networking-group/
LOCATION:The Silos\, 122 Folger Ave\, Easley\, South Carolina\, 29640\, United States
CATEGORIES:Fundraiser,Volunteer Event
END:VEVENT
END:VCALENDAR