BEGIN:VCALENDAR
VERSION:2.0
PRODID:-//Vets Helping Vets Greenville - ECPv6.15.20//NONSGML v1.0//EN
CALSCALE:GREGORIAN
METHOD:PUBLISH
X-ORIGINAL-URL:https://vhvsc.org
X-WR-CALDESC:Events for Vets Helping Vets Greenville
REFRESH-INTERVAL;VALUE=DURATION:PT1H
X-Robots-Tag:noindex
X-PUBLISHED-TTL:PT1H
BEGIN:VTIMEZONE
TZID:America/New_York
BEGIN:DAYLIGHT
TZOFFSETFROM:-0500
TZOFFSETTO:-0400
TZNAME:EDT
DTSTART:20250309T070000
END:DAYLIGHT
BEGIN:STANDARD
TZOFFSETFROM:-0400
TZOFFSETTO:-0500
TZNAME:EST
DTSTART:20251102T060000
END:STANDARD
BEGIN:DAYLIGHT
TZOFFSETFROM:-0500
TZOFFSETTO:-0400
TZNAME:EDT
DTSTART:20260308T070000
END:DAYLIGHT
BEGIN:STANDARD
TZOFFSETFROM:-0400
TZOFFSETTO:-0500
TZNAME:EST
DTSTART:20261101T060000
END:STANDARD
BEGIN:DAYLIGHT
TZOFFSETFROM:-0500
TZOFFSETTO:-0400
TZNAME:EDT
DTSTART:20270314T070000
END:DAYLIGHT
BEGIN:STANDARD
TZOFFSETFROM:-0400
TZOFFSETTO:-0500
TZNAME:EST
DTSTART:20271107T060000
END:STANDARD
END:VTIMEZONE
BEGIN:VEVENT
DTSTART;TZID=America/New_York:20260313T190000
DTEND;TZID=America/New_York:20260313T203000
DTSTAMP:20260424T112641
CREATED:20251106T192350Z
LAST-MODIFIED:20251106T192352Z
UID:10000737-1773428400-1773433800@vhvsc.org
SUMMARY:Monthly Visitation Meeting
DESCRIPTION:You are welcome to join us Friday evening\, 7:00 pm\, at the Legacy Reserve at Fairview Park\, 544 Harrison Bridge Road\, Simpsonville as we socialize with veteran residents. Thank you for helping us do great things within our local veteran community.
URL:https://vhvsc.org/event/monthly-visitation-meeting-3/2026-03-13/
LOCATION:Legacy Reserve at Fairview Park\, 538 Harrison Bridge Road\, Simpsonville\, South Carolina\, United States
ATTACH;FMTTYPE=image/png:https://vhvsc.org/wp-content/uploads/2025/11/Vets-Helping-Vets-Monthly-Visitation-Meeting.png
END:VEVENT
END:VCALENDAR