BEGIN:VCALENDAR
VERSION:2.0
PRODID:-//Vets Helping Vets Greenville - ECPv6.15.20//NONSGML v1.0//EN
CALSCALE:GREGORIAN
METHOD:PUBLISH
X-WR-CALNAME:Vets Helping Vets Greenville
X-ORIGINAL-URL:https://vhvsc.org
X-WR-CALDESC:Events for Vets Helping Vets Greenville
REFRESH-INTERVAL;VALUE=DURATION:PT1H
X-Robots-Tag:noindex
X-PUBLISHED-TTL:PT1H
BEGIN:VTIMEZONE
TZID:America/New_York
BEGIN:DAYLIGHT
TZOFFSETFROM:-0500
TZOFFSETTO:-0400
TZNAME:EDT
DTSTART:20240310T070000
END:DAYLIGHT
BEGIN:STANDARD
TZOFFSETFROM:-0400
TZOFFSETTO:-0500
TZNAME:EST
DTSTART:20241103T060000
END:STANDARD
BEGIN:DAYLIGHT
TZOFFSETFROM:-0500
TZOFFSETTO:-0400
TZNAME:EDT
DTSTART:20250309T070000
END:DAYLIGHT
BEGIN:STANDARD
TZOFFSETFROM:-0400
TZOFFSETTO:-0500
TZNAME:EST
DTSTART:20251102T060000
END:STANDARD
BEGIN:DAYLIGHT
TZOFFSETFROM:-0500
TZOFFSETTO:-0400
TZNAME:EDT
DTSTART:20260308T070000
END:DAYLIGHT
BEGIN:STANDARD
TZOFFSETFROM:-0400
TZOFFSETTO:-0500
TZNAME:EST
DTSTART:20261101T060000
END:STANDARD
END:VTIMEZONE
BEGIN:VEVENT
DTSTART;TZID=America/New_York:20250805T171500
DTEND;TZID=America/New_York:20250805T220000
DTSTAMP:20260424T202526
CREATED:20250527T152020Z
LAST-MODIFIED:20250612T123945Z
UID:10000653-1754414100-1754431200@vhvsc.org
SUMMARY:Volunteer at Fluor Field 8-5-2025
DESCRIPTION:Sweet Carolines\n\n\n\nDavid Caldwell contact number: 864- 607-7093 \n\n\n\nShow up time 5:15pm \n\n\n\nDress code: closed toe shoes\, khaki or dark color pants/shorts (no jeans)\, head covering (if you do not have a hat\, they will give you a net to wear. VHV shirt or a veteran shirt with your branch of service.  \n\n\n\nPark in the Greenville HS parking lot and walk over to the back roll up door across from Shoeless Joe Jackson Museum and let the person there know you are with VHV GVL and volunteering. They will direct you to where you need to go.  \n\n\n\nIf for some reason you are not able to volunteer for the date you signed up\, please let David Caldwell know immediately. \n\n\n\nRegister to volunteer for this event\n\n\n\n\n\nName*\n\n\n\n\n\nEmail*\n\n\n\nPhone Number*\n\n\n\n\n\nBackground Check*I consent to undergoing a background check.I do not consent to undergoing a background check.\n\n\n\nSubmit
URL:https://vhvsc.org/event/volunteer-at-fluor-field-8-5-2025/
LOCATION:South Carolina
CATEGORIES:Fundraiser
ATTACH;FMTTYPE=image/jpeg:https://vhvsc.org/wp-content/uploads/2025/05/fluor-field.jpg
END:VEVENT
END:VCALENDAR