BEGIN:VCALENDAR
VERSION:2.0
PRODID:-//Vets Helping Vets Greenville - ECPv6.15.20//NONSGML v1.0//EN
CALSCALE:GREGORIAN
METHOD:PUBLISH
X-WR-CALNAME:Vets Helping Vets Greenville
X-ORIGINAL-URL:https://vhvsc.org
X-WR-CALDESC:Events for Vets Helping Vets Greenville
REFRESH-INTERVAL;VALUE=DURATION:PT1H
X-Robots-Tag:noindex
X-PUBLISHED-TTL:PT1H
BEGIN:VTIMEZONE
TZID:America/New_York
BEGIN:DAYLIGHT
TZOFFSETFROM:-0500
TZOFFSETTO:-0400
TZNAME:EDT
DTSTART:20240310T070000
END:DAYLIGHT
BEGIN:STANDARD
TZOFFSETFROM:-0400
TZOFFSETTO:-0500
TZNAME:EST
DTSTART:20241103T060000
END:STANDARD
BEGIN:DAYLIGHT
TZOFFSETFROM:-0500
TZOFFSETTO:-0400
TZNAME:EDT
DTSTART:20250309T070000
END:DAYLIGHT
BEGIN:STANDARD
TZOFFSETFROM:-0400
TZOFFSETTO:-0500
TZNAME:EST
DTSTART:20251102T060000
END:STANDARD
BEGIN:DAYLIGHT
TZOFFSETFROM:-0500
TZOFFSETTO:-0400
TZNAME:EDT
DTSTART:20260308T070000
END:DAYLIGHT
BEGIN:STANDARD
TZOFFSETFROM:-0400
TZOFFSETTO:-0500
TZNAME:EST
DTSTART:20261101T060000
END:STANDARD
END:VTIMEZONE
BEGIN:VEVENT
DTSTART;TZID=America/New_York:20250614T140000
DTEND;TZID=America/New_York:20250614T160000
DTSTAMP:20260424T225610
CREATED:20250609T140721Z
LAST-MODIFIED:20250609T140723Z
UID:10000658-1749909600-1749916800@vhvsc.org
SUMMARY:Flag Day Ceremony
DESCRIPTION:Elks Lodge 858 in Greenville is hosting its annual Flag Day Ceremony which is meant to promote awareness and knowledge of the 8 flags that our country has adopted since the 1700’s. This ceremony will include Vets Helping Vets Greenville members and the Young Marines. There will also be an official Flag Folding Ceremony and official Flag Retirement Ceremony.  \n\n\n\nThis is a great and free event for the family. A BBQ lunch will be provided by Home Team BBQ. 
URL:https://vhvsc.org/event/flag-day-ceremony/
LOCATION:Elks Lodge\, Greenville\, 7700 Pelham Rd\, Greenville\, SC\, 29615\, United States
ATTACH;FMTTYPE=image/jpeg:https://vhvsc.org/wp-content/uploads/2025/06/flag-day-2025-cover.jpg
END:VEVENT
END:VCALENDAR