BEGIN:VCALENDAR
VERSION:2.0
PRODID:-//Vets Helping Vets Greenville - ECPv6.15.20//NONSGML v1.0//EN
CALSCALE:GREGORIAN
METHOD:PUBLISH
X-ORIGINAL-URL:https://vhvsc.org
X-WR-CALDESC:Events for Vets Helping Vets Greenville
REFRESH-INTERVAL;VALUE=DURATION:PT1H
X-Robots-Tag:noindex
X-PUBLISHED-TTL:PT1H
BEGIN:VTIMEZONE
TZID:America/New_York
BEGIN:DAYLIGHT
TZOFFSETFROM:-0500
TZOFFSETTO:-0400
TZNAME:EDT
DTSTART:20240310T070000
END:DAYLIGHT
BEGIN:STANDARD
TZOFFSETFROM:-0400
TZOFFSETTO:-0500
TZNAME:EST
DTSTART:20241103T060000
END:STANDARD
BEGIN:DAYLIGHT
TZOFFSETFROM:-0500
TZOFFSETTO:-0400
TZNAME:EDT
DTSTART:20250309T070000
END:DAYLIGHT
BEGIN:STANDARD
TZOFFSETFROM:-0400
TZOFFSETTO:-0500
TZNAME:EST
DTSTART:20251102T060000
END:STANDARD
BEGIN:DAYLIGHT
TZOFFSETFROM:-0500
TZOFFSETTO:-0400
TZNAME:EDT
DTSTART:20260308T070000
END:DAYLIGHT
BEGIN:STANDARD
TZOFFSETFROM:-0400
TZOFFSETTO:-0500
TZNAME:EST
DTSTART:20261101T060000
END:STANDARD
END:VTIMEZONE
BEGIN:VEVENT
DTSTART;TZID=America/New_York:20250606T200000
DTEND;TZID=America/New_York:20250606T220000
DTSTAMP:20260424T225635
CREATED:20250527T145517Z
LAST-MODIFIED:20250527T145518Z
UID:10000643-1749240000-1749247200@vhvsc.org
SUMMARY:Volunteer at Fluor Field 6-6-2025
DESCRIPTION:Volunteer opportunity to work at one of the concession stands at Fluor Field. Volunteering at Fluor Field Concessions is to raise money for Vets Helping Vets. \n\n\n\nDress code\n\n\n\n\nMust wear a hat\n\n\n\nPants need to be either khakis\, dark slacks or shorts\, no blue jeans\n\n\n\nA shirt that has a military theme or a Vets Helping Vets shirt\n\n\n\nClosed toe shoes\n\n\n\n\nShow time is at 5:30 PM at the roll up door across from Shoeless Joe Jackson’s home. \n\n\n\nRegister to volunteer for this event\n\n\n\n\n\nName*\n\n\n\n\n\nEmail*\n\n\n\nPhone Number*\n\n\n\n\n\nBackground Check*I consent to undergoing a background check.I do not consent to undergoing a background check.\n\n\n\nSubmit
URL:https://vhvsc.org/event/volunteer-at-fluor-field-6-6-2025/
LOCATION:South Carolina
CATEGORIES:Fundraiser
ATTACH;FMTTYPE=image/jpeg:https://vhvsc.org/wp-content/uploads/2025/05/fluor-field.jpg
END:VEVENT
END:VCALENDAR