BEGIN:VCALENDAR
VERSION:2.0
PRODID:-//Vets Helping Vets Greenville - ECPv6.15.20//NONSGML v1.0//EN
CALSCALE:GREGORIAN
METHOD:PUBLISH
X-WR-CALNAME:Vets Helping Vets Greenville
X-ORIGINAL-URL:https://vhvsc.org
X-WR-CALDESC:Events for Vets Helping Vets Greenville
REFRESH-INTERVAL;VALUE=DURATION:PT1H
X-Robots-Tag:noindex
X-PUBLISHED-TTL:PT1H
BEGIN:VTIMEZONE
TZID:America/New_York
BEGIN:DAYLIGHT
TZOFFSETFROM:-0500
TZOFFSETTO:-0400
TZNAME:EDT
DTSTART:20230312T070000
END:DAYLIGHT
BEGIN:STANDARD
TZOFFSETFROM:-0400
TZOFFSETTO:-0500
TZNAME:EST
DTSTART:20231105T060000
END:STANDARD
BEGIN:DAYLIGHT
TZOFFSETFROM:-0500
TZOFFSETTO:-0400
TZNAME:EDT
DTSTART:20240310T070000
END:DAYLIGHT
BEGIN:STANDARD
TZOFFSETFROM:-0400
TZOFFSETTO:-0500
TZNAME:EST
DTSTART:20241103T060000
END:STANDARD
BEGIN:DAYLIGHT
TZOFFSETFROM:-0500
TZOFFSETTO:-0400
TZNAME:EDT
DTSTART:20250309T070000
END:DAYLIGHT
BEGIN:STANDARD
TZOFFSETFROM:-0400
TZOFFSETTO:-0500
TZNAME:EST
DTSTART:20251102T060000
END:STANDARD
END:VTIMEZONE
BEGIN:VEVENT
DTSTART;TZID=America/New_York:20240723T173000
DTEND;TZID=America/New_York:20240723T190000
DTSTAMP:20260425T172551
CREATED:20240709T132526Z
LAST-MODIFIED:20240709T132635Z
UID:10000621-1721755800-1721761200@vhvsc.org
SUMMARY:Liberty Networking Group
DESCRIPTION:
URL:https://vhvsc.org/event/liberty-networking-group/
LOCATION:The Silos\, 122 Folger Ave\, Easley\, South Carolina\, 29640\, United States
CATEGORIES:Fundraiser,Volunteer Event
END:VEVENT
BEGIN:VEVENT
DTSTART;TZID=America/New_York:20240723T173000
DTEND;TZID=America/New_York:20240723T203000
DTSTAMP:20260425T172551
CREATED:20240527T130021Z
LAST-MODIFIED:20240527T130022Z
UID:10000606-1721755800-1721766600@vhvsc.org
SUMMARY:Liberty Networking (Stars & Stripes Chapter
DESCRIPTION:Powdersville) Social – Tuesday\, July 23\, Silos in Easley SC. Start time 5:30. This is a fundraiser for VHV GVL.
URL:https://vhvsc.org/event/liberty-networking-stars-stripes-chapter/
LOCATION:South Carolina
CATEGORIES:Fundraiser
END:VEVENT
END:VCALENDAR