BEGIN:VCALENDAR
VERSION:2.0
PRODID:-//Vets Helping Vets Greenville - ECPv6.15.20//NONSGML v1.0//EN
CALSCALE:GREGORIAN
METHOD:PUBLISH
X-WR-CALNAME:Vets Helping Vets Greenville
X-ORIGINAL-URL:https://vhvsc.org
X-WR-CALDESC:Events for Vets Helping Vets Greenville
REFRESH-INTERVAL;VALUE=DURATION:PT1H
X-Robots-Tag:noindex
X-PUBLISHED-TTL:PT1H
BEGIN:VTIMEZONE
TZID:America/New_York
BEGIN:DAYLIGHT
TZOFFSETFROM:-0500
TZOFFSETTO:-0400
TZNAME:EDT
DTSTART:20230312T070000
END:DAYLIGHT
BEGIN:STANDARD
TZOFFSETFROM:-0400
TZOFFSETTO:-0500
TZNAME:EST
DTSTART:20231105T060000
END:STANDARD
BEGIN:DAYLIGHT
TZOFFSETFROM:-0500
TZOFFSETTO:-0400
TZNAME:EDT
DTSTART:20240310T070000
END:DAYLIGHT
BEGIN:STANDARD
TZOFFSETFROM:-0400
TZOFFSETTO:-0500
TZNAME:EST
DTSTART:20241103T060000
END:STANDARD
BEGIN:DAYLIGHT
TZOFFSETFROM:-0500
TZOFFSETTO:-0400
TZNAME:EDT
DTSTART:20250309T070000
END:DAYLIGHT
BEGIN:STANDARD
TZOFFSETFROM:-0400
TZOFFSETTO:-0500
TZNAME:EST
DTSTART:20251102T060000
END:STANDARD
END:VTIMEZONE
BEGIN:VEVENT
DTSTART;TZID=America/New_York:20240720T100000
DTEND;TZID=America/New_York:20240720T130000
DTSTAMP:20260425T172553
CREATED:20240527T125909Z
LAST-MODIFIED:20240527T125911Z
UID:10000605-1721469600-1721480400@vhvsc.org
SUMMARY:3rd Annual Craggy Mountain Line Railroad VHV GVL Fundraiser
DESCRIPTION:Saturday\, July 20\, 2024 – train run times – 10:00 am & 1:00 pm. All money paid to ride this day will go to VHV GVL. This year’s goal is to raise $1\,000. Midway during each run the train stops at a park for 30 minutes. While at the park a brief program will be done honoring Veterans. For more info and to buy tickets go to www.craggymountainline.com.
URL:https://vhvsc.org/event/3rd-annual-craggy-mountain-line-railroad-vhv-gvl-fundraiser/
LOCATION:South Carolina
CATEGORIES:Fundraiser
END:VEVENT
BEGIN:VEVENT
DTSTART;TZID=America/New_York:20240720T100000
DTEND;TZID=America/New_York:20240720T150000
DTSTAMP:20260425T172553
CREATED:20240709T132137Z
LAST-MODIFIED:20240709T132642Z
UID:10000619-1721469600-1721487600@vhvsc.org
SUMMARY:Craggy Mountain Line Railroad
DESCRIPTION:
URL:https://vhvsc.org/event/craggy-mountain-line-railroad/
LOCATION:Craggy Mountain Line\, 111 North Woodfin Avenue\, Ashville\, North Carolina\, 28804\, United States
CATEGORIES:Fundraiser,Volunteer Event
END:VEVENT
END:VCALENDAR