BEGIN:VCALENDAR
VERSION:2.0
PRODID:-//Vets Helping Vets Greenville - ECPv6.15.20//NONSGML v1.0//EN
CALSCALE:GREGORIAN
METHOD:PUBLISH
X-WR-CALNAME:Vets Helping Vets Greenville
X-ORIGINAL-URL:https://vhvsc.org
X-WR-CALDESC:Events for Vets Helping Vets Greenville
REFRESH-INTERVAL;VALUE=DURATION:PT1H
X-Robots-Tag:noindex
X-PUBLISHED-TTL:PT1H
BEGIN:VTIMEZONE
TZID:America/New_York
BEGIN:DAYLIGHT
TZOFFSETFROM:-0500
TZOFFSETTO:-0400
TZNAME:EDT
DTSTART:20230312T070000
END:DAYLIGHT
BEGIN:STANDARD
TZOFFSETFROM:-0400
TZOFFSETTO:-0500
TZNAME:EST
DTSTART:20231105T060000
END:STANDARD
BEGIN:DAYLIGHT
TZOFFSETFROM:-0500
TZOFFSETTO:-0400
TZNAME:EDT
DTSTART:20240310T070000
END:DAYLIGHT
BEGIN:STANDARD
TZOFFSETFROM:-0400
TZOFFSETTO:-0500
TZNAME:EST
DTSTART:20241103T060000
END:STANDARD
BEGIN:DAYLIGHT
TZOFFSETFROM:-0500
TZOFFSETTO:-0400
TZNAME:EDT
DTSTART:20250309T070000
END:DAYLIGHT
BEGIN:STANDARD
TZOFFSETFROM:-0400
TZOFFSETTO:-0500
TZNAME:EST
DTSTART:20251102T060000
END:STANDARD
END:VTIMEZONE
BEGIN:VEVENT
DTSTART;TZID=America/New_York:20240719T173000
DTEND;TZID=America/New_York:20240719T220000
DTSTAMP:20260425T172551
CREATED:20240709T131835Z
LAST-MODIFIED:20240709T132650Z
UID:10000618-1721410200-1721426400@vhvsc.org
SUMMARY:Volunteer at fluor Field
DESCRIPTION:Volunteer opportunity to work at one of the concession stands at Fluor Field on 11 May. Volunteering at Fluor Field Concessions is to raise money for Vets Helping Vets. \n\n\n\nDress code\n\n\n\n\nMust wear a hat\n\n\n\nPants need to be either khakis\, dark slacks or shorts\, no blue jeans\n\n\n\nA shirt that has a military theme or a Vets Helping Vets shirt\n\n\n\nClosed toe shoes\n\n\n\n\nShow time is at 5:30 PM at the roll up door across from Shoeless Joe Jackson’s home.
URL:https://vhvsc.org/event/volunteer-at-fluor-field-10/
LOCATION:South Carolina
CATEGORIES:Fundraiser
END:VEVENT
END:VCALENDAR