BEGIN:VCALENDAR
VERSION:2.0
PRODID:-//Vets Helping Vets Greenville - ECPv6.15.20//NONSGML v1.0//EN
CALSCALE:GREGORIAN
METHOD:PUBLISH
X-WR-CALNAME:Vets Helping Vets Greenville
X-ORIGINAL-URL:https://vhvsc.org
X-WR-CALDESC:Events for Vets Helping Vets Greenville
REFRESH-INTERVAL;VALUE=DURATION:PT1H
X-Robots-Tag:noindex
X-PUBLISHED-TTL:PT1H
BEGIN:VTIMEZONE
TZID:America/New_York
BEGIN:DAYLIGHT
TZOFFSETFROM:-0500
TZOFFSETTO:-0400
TZNAME:EDT
DTSTART:20230312T070000
END:DAYLIGHT
BEGIN:STANDARD
TZOFFSETFROM:-0400
TZOFFSETTO:-0500
TZNAME:EST
DTSTART:20231105T060000
END:STANDARD
BEGIN:DAYLIGHT
TZOFFSETFROM:-0500
TZOFFSETTO:-0400
TZNAME:EDT
DTSTART:20240310T070000
END:DAYLIGHT
BEGIN:STANDARD
TZOFFSETFROM:-0400
TZOFFSETTO:-0500
TZNAME:EST
DTSTART:20241103T060000
END:STANDARD
BEGIN:DAYLIGHT
TZOFFSETFROM:-0500
TZOFFSETTO:-0400
TZNAME:EDT
DTSTART:20250309T070000
END:DAYLIGHT
BEGIN:STANDARD
TZOFFSETFROM:-0400
TZOFFSETTO:-0500
TZNAME:EST
DTSTART:20251102T060000
END:STANDARD
END:VTIMEZONE
BEGIN:VEVENT
DTSTART;TZID=America/New_York:20240525T000000
DTEND;TZID=America/New_York:20240525T235959
DTSTAMP:20260425T203043
CREATED:20240520T212509Z
LAST-MODIFIED:20240527T130423Z
UID:10000599-1716595200-1716681599@vhvsc.org
SUMMARY:3rd Annual Palmetto Heroes Hike 2024
DESCRIPTION:12 mile / 6-mile Hike. Registration is $50.00. After party only $30.00 (music\, BBQ and beer).
URL:https://vhvsc.org/event/3rd-annual-palmetto-heroes-hike-2024/
LOCATION:South Carolina
END:VEVENT
BEGIN:VEVENT
DTSTART;TZID=America/New_York:20240525T000000
DTEND;TZID=America/New_York:20240525T235959
DTSTAMP:20260425T203043
CREATED:20240520T213002Z
LAST-MODIFIED:20240527T130349Z
UID:10000600-1716595200-1716681599@vhvsc.org
SUMMARY:Greer Memorial/Armed Forces Day Celebration
DESCRIPTION:We will have our tent/table setup. Volunteers are in place for shift 1 and shift 2\, but more volunteers are always welcome.
URL:https://vhvsc.org/event/greer-memorial-armed-forces-day-celebration/
LOCATION:South Carolina
END:VEVENT
END:VCALENDAR