BEGIN:VCALENDAR
VERSION:2.0
PRODID:-//Vets Helping Vets Greenville - ECPv6.15.20//NONSGML v1.0//EN
CALSCALE:GREGORIAN
METHOD:PUBLISH
X-ORIGINAL-URL:https://vhvsc.org
X-WR-CALDESC:Events for Vets Helping Vets Greenville
REFRESH-INTERVAL;VALUE=DURATION:PT1H
X-Robots-Tag:noindex
X-PUBLISHED-TTL:PT1H
BEGIN:VTIMEZONE
TZID:America/New_York
BEGIN:DAYLIGHT
TZOFFSETFROM:-0500
TZOFFSETTO:-0400
TZNAME:EDT
DTSTART:20230312T070000
END:DAYLIGHT
BEGIN:STANDARD
TZOFFSETFROM:-0400
TZOFFSETTO:-0500
TZNAME:EST
DTSTART:20231105T060000
END:STANDARD
BEGIN:DAYLIGHT
TZOFFSETFROM:-0500
TZOFFSETTO:-0400
TZNAME:EDT
DTSTART:20240310T070000
END:DAYLIGHT
BEGIN:STANDARD
TZOFFSETFROM:-0400
TZOFFSETTO:-0500
TZNAME:EST
DTSTART:20241103T060000
END:STANDARD
BEGIN:DAYLIGHT
TZOFFSETFROM:-0500
TZOFFSETTO:-0400
TZNAME:EDT
DTSTART:20250309T070000
END:DAYLIGHT
BEGIN:STANDARD
TZOFFSETFROM:-0400
TZOFFSETTO:-0500
TZNAME:EST
DTSTART:20251102T060000
END:STANDARD
END:VTIMEZONE
BEGIN:VEVENT
DTSTART;TZID=America/New_York:20240330T090000
DTEND;TZID=America/New_York:20240330T120000
DTSTAMP:20260425T232659
CREATED:20240323T223529Z
LAST-MODIFIED:20240323T223530Z
UID:10000597-1711789200-1711800000@vhvsc.org
SUMMARY:Help A Vet Move – Volunteer Opportunity
DESCRIPTION:We are going to help a veteran move from one home in Greenville to a new location which is a 10 minute drive.  \n\n\n\nWhat we need: \n\n\n\n\nTrucks\n\n\n\nTrailers\n\n\n\nStrong backs\n\n\n\nThe heart of a volunteer\n\n\n\n\nThe address for the meeting/ start location will be texted to you the day before the job. \n\n\n\n\n\nName*\n\n\n\n\n\nEmail*\n\n\n\nPhone Number*\n\n\n\n\n\nBackground Check*I consent to undergoing a background check.I do not consent to undergoing a background check.\n\n\n\nSubmit
URL:https://vhvsc.org/event/help-a-vet-move-volunteer-opportunity/
LOCATION:South Carolina
CATEGORIES:Volunteer Event
END:VEVENT
END:VCALENDAR